BEGIN:VCALENDAR
VERSION:2.0
PRODID:-// - ECPv6.15.20//NONSGML v1.0//EN
CALSCALE:GREGORIAN
METHOD:PUBLISH
X-ORIGINAL-URL:https://rg-admin.net
X-WR-CALDESC:Events for 
REFRESH-INTERVAL;VALUE=DURATION:PT1H
X-Robots-Tag:noindex
X-PUBLISHED-TTL:PT1H
BEGIN:VTIMEZONE
TZID:America/New_York
BEGIN:DAYLIGHT
TZOFFSETFROM:-0500
TZOFFSETTO:-0400
TZNAME:EDT
DTSTART:20290311T070000
END:DAYLIGHT
BEGIN:STANDARD
TZOFFSETFROM:-0400
TZOFFSETTO:-0500
TZNAME:EST
DTSTART:20291104T060000
END:STANDARD
BEGIN:DAYLIGHT
TZOFFSETFROM:-0500
TZOFFSETTO:-0400
TZNAME:EDT
DTSTART:20300310T070000
END:DAYLIGHT
BEGIN:STANDARD
TZOFFSETFROM:-0400
TZOFFSETTO:-0500
TZNAME:EST
DTSTART:20301103T060000
END:STANDARD
BEGIN:DAYLIGHT
TZOFFSETFROM:-0500
TZOFFSETTO:-0400
TZNAME:EDT
DTSTART:20310309T070000
END:DAYLIGHT
BEGIN:STANDARD
TZOFFSETFROM:-0400
TZOFFSETTO:-0500
TZNAME:EST
DTSTART:20311102T060000
END:STANDARD
END:VTIMEZONE
BEGIN:VEVENT
DTSTART;TZID=America/New_York:20300911T170000
DTEND;TZID=America/New_York:20300911T220000
DTSTAMP:20260422T174140
CREATED:20240701T182338Z
LAST-MODIFIED:20250524T201832Z
UID:10106181-1915376400-1915394400@rg-admin.net
SUMMARY:Build & Paint Night
DESCRIPTION:more information
URL:https://rg-admin.net/event/build-paint-night/2030-09-11/
LOCATION:Recess Games
CATEGORIES:build & paint,painter's guild
ATTACH;FMTTYPE=image/png:https://rg-admin.net/wp-content/uploads/Build-Paint-Night-1.png
END:VEVENT
BEGIN:VEVENT
DTSTART;TZID=America/New_York:20300911T170000
DTEND;TZID=America/New_York:20300911T220000
DTSTAMP:20260422T174140
CREATED:20250129T155542Z
LAST-MODIFIED:20250524T201841Z
UID:10106221-1915376400-1915394400@rg-admin.net
SUMMARY:Heroscape Open Play
DESCRIPTION:
URL:https://rg-admin.net/event/heroscape-open-play/2030-09-11/
LOCATION:Recess Games
CATEGORIES:Heroscape
ATTACH;FMTTYPE=image/png:https://rg-admin.net/wp-content/uploads/Heroscape-1.png
END:VEVENT
BEGIN:VEVENT
DTSTART;TZID=America/New_York:20300911T180000
DTEND;TZID=America/New_York:20300911T230000
DTSTAMP:20260422T174140
CREATED:20241124T042643Z
LAST-MODIFIED:20250524T201824Z
UID:10106201-1915380000-1915398000@rg-admin.net
SUMMARY:Union Arena TCG Tournament
DESCRIPTION:  \n  \n  \nUnion Arena is a card game that only applies 1 rule to allow you to play with your favorite characters\, \nDATE: Wednesday\nREGISTRATION: 6:00 PM\nEVENT BEGINS: 6:30 PM
URL:https://rg-admin.net/event/union-arena-tcg-tournament-2/2030-09-11/
CATEGORIES:Bandai,Union Arena,wednesday
ATTACH;FMTTYPE=image/png:https://rg-admin.net/wp-content/uploads/Union-Arena-WEDNESDAY-FB.png
END:VEVENT
BEGIN:VEVENT
DTSTART;TZID=America/New_York:20300912T050000
DTEND;TZID=America/New_York:20300912T220000
DTSTAMP:20260422T174140
CREATED:20250521T231111Z
LAST-MODIFIED:20251105T172040Z
UID:10106281-1915419600-1915480800@rg-admin.net
SUMMARY:Thursday Board Game Meetup
DESCRIPTION:
URL:https://rg-admin.net/event/thursday-board-game-meetup/2030-09-12/
LOCATION:Recess Games
ATTACH;FMTTYPE=image/jpeg:https://rg-admin.net/wp-content/uploads/487922764_1226742742787835_8526504673676290138_n.jpg
END:VEVENT
BEGIN:VEVENT
DTSTART;TZID=America/New_York:20300912T180000
DTEND;TZID=America/New_York:20300912T220000
DTSTAMP:20260422T174140
CREATED:20231102T014951Z
LAST-MODIFIED:20251105T172214Z
UID:10106261-1915466400-1915480800@rg-admin.net
SUMMARY:Marvel Crisis Protocol Open Play
DESCRIPTION:ki More Information \nMarvel: Crisis Protocol is a tabletop hobby miniatures game set in the Marvel Universe. \nGathering time to play 6:00 PM
URL:https://rg-admin.net/event/marvel-crisis-protocol-open-play-2/2030-09-12/
CATEGORIES:Marvel,Marvel Crisis Protocol,thursday
ATTACH;FMTTYPE=image/jpeg:https://rg-admin.net/wp-content/uploads/marvelcrisispro.jpeg
END:VEVENT
BEGIN:VEVENT
DTSTART;TZID=America/New_York:20300912T180000
DTEND;TZID=America/New_York:20300912T220000
DTSTAMP:20260422T174141
CREATED:20231121T223814Z
LAST-MODIFIED:20251105T172130Z
UID:10106241-1915466400-1915480800@rg-admin.net
SUMMARY:Kill Team Open Play
DESCRIPTION:MORE INFORMATION\nKill Team Open Play\n  \n 
URL:https://rg-admin.net/event/kill-team-open-play-2/2030-09-12/
CATEGORIES:games workshop,kill team,thursday
ATTACH;FMTTYPE=image/png:https://rg-admin.net/wp-content/uploads/Kill-Team-Open-Play.png
END:VEVENT
BEGIN:VEVENT
DTSTART;TZID=America/New_York:20300913T180000
DTEND;TZID=America/New_York:20300913T230000
DTSTAMP:20260422T174141
CREATED:20250521T231832Z
LAST-MODIFIED:20250524T202008Z
UID:10106876-1915552800-1915570800@rg-admin.net
SUMMARY:Warhammer 40K Open Play
DESCRIPTION:
URL:https://rg-admin.net/event/warhammer-40k-open-play/2030-09-13/
LOCATION:Recess Games
CATEGORIES:40k,games workshop
ATTACH;FMTTYPE=image/jpeg:https://rg-admin.net/wp-content/uploads/40kopenplay.jpeg
END:VEVENT
BEGIN:VEVENT
DTSTART;TZID=America/New_York:20300913T180000
DTEND;TZID=America/New_York:20300913T230000
DTSTAMP:20260422T174141
CREATED:20250722T053228Z
LAST-MODIFIED:20250722T053228Z
UID:10106092-1915552800-1915570800@rg-admin.net
SUMMARY:Gundam TCG Weekly Tournament
DESCRIPTION:
URL:https://rg-admin.net/event/gundam-tcg-weekly-tournament/2030-09-13/
LOCATION:Recess Games
CATEGORIES:Bandai,Gundam
ATTACH;FMTTYPE=image/png:https://rg-admin.net/wp-content/uploads/Gundam-Friday-2-1.png
END:VEVENT
BEGIN:VEVENT
DTSTART;TZID=America/New_York:20300914T100000
DTEND;TZID=America/New_York:20300914T120000
DTSTAMP:20260422T174141
CREATED:20230716T150200Z
LAST-MODIFIED:20250524T202133Z
UID:10106896-1915610400-1915617600@rg-admin.net
SUMMARY:Pokemon League
DESCRIPTION:Pokemon League at Recess is scheduled most Saturdays.  \nThis is a great time to come and play Pokemon Trading Card game. This is also a great time to learn how to play. Our Pokemon Trainers will show you how to play and even help you play better if you already know how to play. \nIt is a great Family event \nFree \n 
URL:https://rg-admin.net/event/pokemon-league-2-2/2030-09-14/
CATEGORIES:pokemon,saturday
ATTACH;FMTTYPE=image/jpeg:https://rg-admin.net/wp-content/uploads/pokemon-saturday.jpeg
END:VEVENT
BEGIN:VEVENT
DTSTART;TZID=America/New_York:20300914T133000
DTEND;TZID=America/New_York:20300914T160000
DTSTAMP:20260422T174141
CREATED:20251014T050539Z
LAST-MODIFIED:20251014T050719Z
UID:10106542-1915623000-1915632000@rg-admin.net
SUMMARY:Riftbound Weekly Play - NEXUS NIGHTS
DESCRIPTION:
URL:https://rg-admin.net/event/riftbound-nexus-nights-riftbound-weekly-play/2030-09-14/
LOCATION:Recess Games
CATEGORIES:Riftbound
ATTACH;FMTTYPE=image/png:https://rg-admin.net/wp-content/uploads/Riftbound_Organized_Play-3_1.png
END:VEVENT
BEGIN:VEVENT
DTSTART;TZID=America/New_York:20300915T110000
DTEND;TZID=America/New_York:20300915T180000
DTSTAMP:20260422T174141
CREATED:20230602T221033Z
LAST-MODIFIED:20250524T201449Z
UID:10106929-1915700400-1915725600@rg-admin.net
SUMMARY:Age of Sigmar Open Play
DESCRIPTION:MORE INFORMATION\nAge of Sigmar Open Play Every Sunday \nBuild armies of plastic warriors\, paint your models\, and take them to the tabletop to play fast-paced games and tell your own stories within the Mortal Realms. \n 
URL:https://rg-admin.net/event/age-of-sigmar-open-play-3/2030-09-15/
CATEGORIES:age of sigmar,games workshop,sunday
ATTACH;FMTTYPE=image/jpeg:https://rg-admin.net/wp-content/uploads/aosopen.jpeg
END:VEVENT
BEGIN:VEVENT
DTSTART;TZID=America/New_York:20300915T123000
DTEND;TZID=America/New_York:20300915T160000
DTSTAMP:20260422T174141
CREATED:20250528T010956Z
LAST-MODIFIED:20250528T193908Z
UID:10106952-1915705800-1915718400@rg-admin.net
SUMMARY:One Piece TCG Sunday Tournaments
DESCRIPTION:  \n  \n  \nOne Piece is an incredibly popular battle manga about pirates in a fantasy setting.
URL:https://rg-admin.net/event/one-piece-store-tournament-2/2030-09-15/
LOCATION:Recess Games
CATEGORIES:One Piece,thursday
ATTACH;FMTTYPE=image/png:https://rg-admin.net/wp-content/uploads/One-Piece-Store-Tournament-13.png
END:VEVENT
BEGIN:VEVENT
DTSTART;TZID=America/New_York:20300918T170000
DTEND;TZID=America/New_York:20300918T220000
DTSTAMP:20260422T174141
CREATED:20240701T182338Z
LAST-MODIFIED:20250524T201832Z
UID:10106182-1915981200-1915999200@rg-admin.net
SUMMARY:Build & Paint Night
DESCRIPTION:more information
URL:https://rg-admin.net/event/build-paint-night/2030-09-18/
LOCATION:Recess Games
CATEGORIES:build & paint,painter's guild
ATTACH;FMTTYPE=image/png:https://rg-admin.net/wp-content/uploads/Build-Paint-Night-1.png
END:VEVENT
BEGIN:VEVENT
DTSTART;TZID=America/New_York:20300918T170000
DTEND;TZID=America/New_York:20300918T220000
DTSTAMP:20260422T174141
CREATED:20250129T155542Z
LAST-MODIFIED:20250524T201841Z
UID:10106222-1915981200-1915999200@rg-admin.net
SUMMARY:Heroscape Open Play
DESCRIPTION:
URL:https://rg-admin.net/event/heroscape-open-play/2030-09-18/
LOCATION:Recess Games
CATEGORIES:Heroscape
ATTACH;FMTTYPE=image/png:https://rg-admin.net/wp-content/uploads/Heroscape-1.png
END:VEVENT
BEGIN:VEVENT
DTSTART;TZID=America/New_York:20300918T180000
DTEND;TZID=America/New_York:20300918T230000
DTSTAMP:20260422T174141
CREATED:20241124T042643Z
LAST-MODIFIED:20250524T201824Z
UID:10106202-1915984800-1916002800@rg-admin.net
SUMMARY:Union Arena TCG Tournament
DESCRIPTION:  \n  \n  \nUnion Arena is a card game that only applies 1 rule to allow you to play with your favorite characters\, \nDATE: Wednesday\nREGISTRATION: 6:00 PM\nEVENT BEGINS: 6:30 PM
URL:https://rg-admin.net/event/union-arena-tcg-tournament-2/2030-09-18/
CATEGORIES:Bandai,Union Arena,wednesday
ATTACH;FMTTYPE=image/png:https://rg-admin.net/wp-content/uploads/Union-Arena-WEDNESDAY-FB.png
END:VEVENT
BEGIN:VEVENT
DTSTART;TZID=America/New_York:20300919T050000
DTEND;TZID=America/New_York:20300919T220000
DTSTAMP:20260422T174141
CREATED:20250521T231111Z
LAST-MODIFIED:20251105T172040Z
UID:10106282-1916024400-1916085600@rg-admin.net
SUMMARY:Thursday Board Game Meetup
DESCRIPTION:
URL:https://rg-admin.net/event/thursday-board-game-meetup/2030-09-19/
LOCATION:Recess Games
ATTACH;FMTTYPE=image/jpeg:https://rg-admin.net/wp-content/uploads/487922764_1226742742787835_8526504673676290138_n.jpg
END:VEVENT
BEGIN:VEVENT
DTSTART;TZID=America/New_York:20300919T180000
DTEND;TZID=America/New_York:20300919T220000
DTSTAMP:20260422T174141
CREATED:20231102T014951Z
LAST-MODIFIED:20251105T172214Z
UID:10106262-1916071200-1916085600@rg-admin.net
SUMMARY:Marvel Crisis Protocol Open Play
DESCRIPTION:ki More Information \nMarvel: Crisis Protocol is a tabletop hobby miniatures game set in the Marvel Universe. \nGathering time to play 6:00 PM
URL:https://rg-admin.net/event/marvel-crisis-protocol-open-play-2/2030-09-19/
CATEGORIES:Marvel,Marvel Crisis Protocol,thursday
ATTACH;FMTTYPE=image/jpeg:https://rg-admin.net/wp-content/uploads/marvelcrisispro.jpeg
END:VEVENT
BEGIN:VEVENT
DTSTART;TZID=America/New_York:20300919T180000
DTEND;TZID=America/New_York:20300919T220000
DTSTAMP:20260422T174141
CREATED:20231121T223814Z
LAST-MODIFIED:20251105T172130Z
UID:10106242-1916071200-1916085600@rg-admin.net
SUMMARY:Kill Team Open Play
DESCRIPTION:MORE INFORMATION\nKill Team Open Play\n  \n 
URL:https://rg-admin.net/event/kill-team-open-play-2/2030-09-19/
CATEGORIES:games workshop,kill team,thursday
ATTACH;FMTTYPE=image/png:https://rg-admin.net/wp-content/uploads/Kill-Team-Open-Play.png
END:VEVENT
BEGIN:VEVENT
DTSTART;TZID=America/New_York:20300920T180000
DTEND;TZID=America/New_York:20300920T230000
DTSTAMP:20260422T174141
CREATED:20250521T231832Z
LAST-MODIFIED:20250524T202008Z
UID:10106877-1916157600-1916175600@rg-admin.net
SUMMARY:Warhammer 40K Open Play
DESCRIPTION:
URL:https://rg-admin.net/event/warhammer-40k-open-play/2030-09-20/
LOCATION:Recess Games
CATEGORIES:40k,games workshop
ATTACH;FMTTYPE=image/jpeg:https://rg-admin.net/wp-content/uploads/40kopenplay.jpeg
END:VEVENT
BEGIN:VEVENT
DTSTART;TZID=America/New_York:20300920T180000
DTEND;TZID=America/New_York:20300920T230000
DTSTAMP:20260422T174141
CREATED:20250722T053228Z
LAST-MODIFIED:20250722T053228Z
UID:10106885-1916157600-1916175600@rg-admin.net
SUMMARY:Gundam TCG Weekly Tournament
DESCRIPTION:
URL:https://rg-admin.net/event/gundam-tcg-weekly-tournament/2030-09-20/
LOCATION:Recess Games
CATEGORIES:Bandai,Gundam
ATTACH;FMTTYPE=image/png:https://rg-admin.net/wp-content/uploads/Gundam-Friday-2-1.png
END:VEVENT
BEGIN:VEVENT
DTSTART;TZID=America/New_York:20300921T133000
DTEND;TZID=America/New_York:20300921T160000
DTSTAMP:20260422T174141
CREATED:20251014T050539Z
LAST-MODIFIED:20251014T050719Z
UID:10106543-1916227800-1916236800@rg-admin.net
SUMMARY:Riftbound Weekly Play - NEXUS NIGHTS
DESCRIPTION:
URL:https://rg-admin.net/event/riftbound-nexus-nights-riftbound-weekly-play/2030-09-21/
LOCATION:Recess Games
CATEGORIES:Riftbound
ATTACH;FMTTYPE=image/png:https://rg-admin.net/wp-content/uploads/Riftbound_Organized_Play-3_1.png
END:VEVENT
BEGIN:VEVENT
DTSTART;TZID=America/New_York:20300922T110000
DTEND;TZID=America/New_York:20300922T180000
DTSTAMP:20260422T174141
CREATED:20230602T221033Z
LAST-MODIFIED:20250524T201449Z
UID:10106930-1916305200-1916330400@rg-admin.net
SUMMARY:Age of Sigmar Open Play
DESCRIPTION:MORE INFORMATION\nAge of Sigmar Open Play Every Sunday \nBuild armies of plastic warriors\, paint your models\, and take them to the tabletop to play fast-paced games and tell your own stories within the Mortal Realms. \n 
URL:https://rg-admin.net/event/age-of-sigmar-open-play-3/2030-09-22/
CATEGORIES:age of sigmar,games workshop,sunday
ATTACH;FMTTYPE=image/jpeg:https://rg-admin.net/wp-content/uploads/aosopen.jpeg
END:VEVENT
BEGIN:VEVENT
DTSTART;TZID=America/New_York:20300922T123000
DTEND;TZID=America/New_York:20300922T160000
DTSTAMP:20260422T174141
CREATED:20250528T010956Z
LAST-MODIFIED:20250528T193908Z
UID:10106953-1916310600-1916323200@rg-admin.net
SUMMARY:One Piece TCG Sunday Tournaments
DESCRIPTION:  \n  \n  \nOne Piece is an incredibly popular battle manga about pirates in a fantasy setting.
URL:https://rg-admin.net/event/one-piece-store-tournament-2/2030-09-22/
LOCATION:Recess Games
CATEGORIES:One Piece,thursday
ATTACH;FMTTYPE=image/png:https://rg-admin.net/wp-content/uploads/One-Piece-Store-Tournament-13.png
END:VEVENT
BEGIN:VEVENT
DTSTART;TZID=America/New_York:20300925T170000
DTEND;TZID=America/New_York:20300925T220000
DTSTAMP:20260422T174141
CREATED:20240701T182338Z
LAST-MODIFIED:20250524T201832Z
UID:10106183-1916586000-1916604000@rg-admin.net
SUMMARY:Build & Paint Night
DESCRIPTION:more information
URL:https://rg-admin.net/event/build-paint-night/2030-09-25/
LOCATION:Recess Games
CATEGORIES:build & paint,painter's guild
ATTACH;FMTTYPE=image/png:https://rg-admin.net/wp-content/uploads/Build-Paint-Night-1.png
END:VEVENT
BEGIN:VEVENT
DTSTART;TZID=America/New_York:20300925T170000
DTEND;TZID=America/New_York:20300925T220000
DTSTAMP:20260422T174141
CREATED:20250129T155542Z
LAST-MODIFIED:20250524T201841Z
UID:10106223-1916586000-1916604000@rg-admin.net
SUMMARY:Heroscape Open Play
DESCRIPTION:
URL:https://rg-admin.net/event/heroscape-open-play/2030-09-25/
LOCATION:Recess Games
CATEGORIES:Heroscape
ATTACH;FMTTYPE=image/png:https://rg-admin.net/wp-content/uploads/Heroscape-1.png
END:VEVENT
BEGIN:VEVENT
DTSTART;TZID=America/New_York:20300925T180000
DTEND;TZID=America/New_York:20300925T230000
DTSTAMP:20260422T174141
CREATED:20241124T042643Z
LAST-MODIFIED:20250524T201824Z
UID:10106203-1916589600-1916607600@rg-admin.net
SUMMARY:Union Arena TCG Tournament
DESCRIPTION:  \n  \n  \nUnion Arena is a card game that only applies 1 rule to allow you to play with your favorite characters\, \nDATE: Wednesday\nREGISTRATION: 6:00 PM\nEVENT BEGINS: 6:30 PM
URL:https://rg-admin.net/event/union-arena-tcg-tournament-2/2030-09-25/
CATEGORIES:Bandai,Union Arena,wednesday
ATTACH;FMTTYPE=image/png:https://rg-admin.net/wp-content/uploads/Union-Arena-WEDNESDAY-FB.png
END:VEVENT
BEGIN:VEVENT
DTSTART;TZID=America/New_York:20300926T050000
DTEND;TZID=America/New_York:20300926T220000
DTSTAMP:20260422T174141
CREATED:20250521T231111Z
LAST-MODIFIED:20251105T172040Z
UID:10106283-1916629200-1916690400@rg-admin.net
SUMMARY:Thursday Board Game Meetup
DESCRIPTION:
URL:https://rg-admin.net/event/thursday-board-game-meetup/2030-09-26/
LOCATION:Recess Games
ATTACH;FMTTYPE=image/jpeg:https://rg-admin.net/wp-content/uploads/487922764_1226742742787835_8526504673676290138_n.jpg
END:VEVENT
BEGIN:VEVENT
DTSTART;TZID=America/New_York:20300926T180000
DTEND;TZID=America/New_York:20300926T220000
DTSTAMP:20260422T174141
CREATED:20231102T014951Z
LAST-MODIFIED:20251105T172214Z
UID:10106263-1916676000-1916690400@rg-admin.net
SUMMARY:Marvel Crisis Protocol Open Play
DESCRIPTION:ki More Information \nMarvel: Crisis Protocol is a tabletop hobby miniatures game set in the Marvel Universe. \nGathering time to play 6:00 PM
URL:https://rg-admin.net/event/marvel-crisis-protocol-open-play-2/2030-09-26/
CATEGORIES:Marvel,Marvel Crisis Protocol,thursday
ATTACH;FMTTYPE=image/jpeg:https://rg-admin.net/wp-content/uploads/marvelcrisispro.jpeg
END:VEVENT
BEGIN:VEVENT
DTSTART;TZID=America/New_York:20300926T180000
DTEND;TZID=America/New_York:20300926T220000
DTSTAMP:20260422T174141
CREATED:20231121T223814Z
LAST-MODIFIED:20251105T172130Z
UID:10106243-1916676000-1916690400@rg-admin.net
SUMMARY:Kill Team Open Play
DESCRIPTION:MORE INFORMATION\nKill Team Open Play\n  \n 
URL:https://rg-admin.net/event/kill-team-open-play-2/2030-09-26/
CATEGORIES:games workshop,kill team,thursday
ATTACH;FMTTYPE=image/png:https://rg-admin.net/wp-content/uploads/Kill-Team-Open-Play.png
END:VEVENT
BEGIN:VEVENT
DTSTART;TZID=America/New_York:20300927T180000
DTEND;TZID=America/New_York:20300927T230000
DTSTAMP:20260422T174141
CREATED:20250521T231832Z
LAST-MODIFIED:20250524T202008Z
UID:10106878-1916762400-1916780400@rg-admin.net
SUMMARY:Warhammer 40K Open Play
DESCRIPTION:
URL:https://rg-admin.net/event/warhammer-40k-open-play/2030-09-27/
LOCATION:Recess Games
CATEGORIES:40k,games workshop
ATTACH;FMTTYPE=image/jpeg:https://rg-admin.net/wp-content/uploads/40kopenplay.jpeg
END:VEVENT
END:VCALENDAR