BEGIN:VCALENDAR
VERSION:2.0
PRODID:-// - ECPv6.15.20//NONSGML v1.0//EN
CALSCALE:GREGORIAN
METHOD:PUBLISH
X-ORIGINAL-URL:https://rg-admin.net
X-WR-CALDESC:Events for 
REFRESH-INTERVAL;VALUE=DURATION:PT1H
X-Robots-Tag:noindex
X-PUBLISHED-TTL:PT1H
BEGIN:VTIMEZONE
TZID:America/New_York
BEGIN:DAYLIGHT
TZOFFSETFROM:-0500
TZOFFSETTO:-0400
TZNAME:EDT
DTSTART:20290311T070000
END:DAYLIGHT
BEGIN:STANDARD
TZOFFSETFROM:-0400
TZOFFSETTO:-0500
TZNAME:EST
DTSTART:20291104T060000
END:STANDARD
BEGIN:DAYLIGHT
TZOFFSETFROM:-0500
TZOFFSETTO:-0400
TZNAME:EDT
DTSTART:20300310T070000
END:DAYLIGHT
BEGIN:STANDARD
TZOFFSETFROM:-0400
TZOFFSETTO:-0500
TZNAME:EST
DTSTART:20301103T060000
END:STANDARD
BEGIN:DAYLIGHT
TZOFFSETFROM:-0500
TZOFFSETTO:-0400
TZNAME:EDT
DTSTART:20310309T070000
END:DAYLIGHT
BEGIN:STANDARD
TZOFFSETFROM:-0400
TZOFFSETTO:-0500
TZNAME:EST
DTSTART:20311102T060000
END:STANDARD
END:VTIMEZONE
BEGIN:VEVENT
DTSTART;TZID=America/New_York:20300616T110000
DTEND;TZID=America/New_York:20300616T180000
DTSTAMP:20260422T061014
CREATED:20230602T221033Z
LAST-MODIFIED:20250524T201449Z
UID:10106916-1907838000-1907863200@rg-admin.net
SUMMARY:Age of Sigmar Open Play
DESCRIPTION:MORE INFORMATION\nAge of Sigmar Open Play Every Sunday \nBuild armies of plastic warriors\, paint your models\, and take them to the tabletop to play fast-paced games and tell your own stories within the Mortal Realms. \n 
URL:https://rg-admin.net/event/age-of-sigmar-open-play-3/2030-06-16/
CATEGORIES:age of sigmar,games workshop,sunday
ATTACH;FMTTYPE=image/jpeg:https://rg-admin.net/wp-content/uploads/aosopen.jpeg
END:VEVENT
BEGIN:VEVENT
DTSTART;TZID=America/New_York:20300616T123000
DTEND;TZID=America/New_York:20300616T160000
DTSTAMP:20260422T061014
CREATED:20250528T010956Z
LAST-MODIFIED:20250528T193908Z
UID:10106939-1907843400-1907856000@rg-admin.net
SUMMARY:One Piece TCG Sunday Tournaments
DESCRIPTION:  \n  \n  \nOne Piece is an incredibly popular battle manga about pirates in a fantasy setting.
URL:https://rg-admin.net/event/one-piece-store-tournament-2/2030-06-16/
LOCATION:Recess Games
CATEGORIES:One Piece,thursday
ATTACH;FMTTYPE=image/png:https://rg-admin.net/wp-content/uploads/One-Piece-Store-Tournament-13.png
END:VEVENT
BEGIN:VEVENT
DTSTART;TZID=America/New_York:20300619T170000
DTEND;TZID=America/New_York:20300619T220000
DTSTAMP:20260422T061014
CREATED:20240701T182338Z
LAST-MODIFIED:20250524T201832Z
UID:10106169-1908118800-1908136800@rg-admin.net
SUMMARY:Build & Paint Night
DESCRIPTION:more information
URL:https://rg-admin.net/event/build-paint-night/2030-06-19/
LOCATION:Recess Games
CATEGORIES:build & paint,painter's guild
ATTACH;FMTTYPE=image/png:https://rg-admin.net/wp-content/uploads/Build-Paint-Night-1.png
END:VEVENT
BEGIN:VEVENT
DTSTART;TZID=America/New_York:20300619T170000
DTEND;TZID=America/New_York:20300619T220000
DTSTAMP:20260422T061014
CREATED:20250129T155542Z
LAST-MODIFIED:20250524T201841Z
UID:10106209-1908118800-1908136800@rg-admin.net
SUMMARY:Heroscape Open Play
DESCRIPTION:
URL:https://rg-admin.net/event/heroscape-open-play/2030-06-19/
LOCATION:Recess Games
CATEGORIES:Heroscape
ATTACH;FMTTYPE=image/png:https://rg-admin.net/wp-content/uploads/Heroscape-1.png
END:VEVENT
BEGIN:VEVENT
DTSTART;TZID=America/New_York:20300619T180000
DTEND;TZID=America/New_York:20300619T230000
DTSTAMP:20260422T061014
CREATED:20241124T042643Z
LAST-MODIFIED:20250524T201824Z
UID:10106189-1908122400-1908140400@rg-admin.net
SUMMARY:Union Arena TCG Tournament
DESCRIPTION:  \n  \n  \nUnion Arena is a card game that only applies 1 rule to allow you to play with your favorite characters\, \nDATE: Wednesday\nREGISTRATION: 6:00 PM\nEVENT BEGINS: 6:30 PM
URL:https://rg-admin.net/event/union-arena-tcg-tournament-2/2030-06-19/
CATEGORIES:Bandai,Union Arena,wednesday
ATTACH;FMTTYPE=image/png:https://rg-admin.net/wp-content/uploads/Union-Arena-WEDNESDAY-FB.png
END:VEVENT
BEGIN:VEVENT
DTSTART;TZID=America/New_York:20300620T050000
DTEND;TZID=America/New_York:20300620T220000
DTSTAMP:20260422T061014
CREATED:20250521T231111Z
LAST-MODIFIED:20251105T172040Z
UID:10106269-1908162000-1908223200@rg-admin.net
SUMMARY:Thursday Board Game Meetup
DESCRIPTION:
URL:https://rg-admin.net/event/thursday-board-game-meetup/2030-06-20/
LOCATION:Recess Games
ATTACH;FMTTYPE=image/jpeg:https://rg-admin.net/wp-content/uploads/487922764_1226742742787835_8526504673676290138_n.jpg
END:VEVENT
BEGIN:VEVENT
DTSTART;TZID=America/New_York:20300620T180000
DTEND;TZID=America/New_York:20300620T220000
DTSTAMP:20260422T061014
CREATED:20231102T014951Z
LAST-MODIFIED:20251105T172214Z
UID:10106249-1908208800-1908223200@rg-admin.net
SUMMARY:Marvel Crisis Protocol Open Play
DESCRIPTION:ki More Information \nMarvel: Crisis Protocol is a tabletop hobby miniatures game set in the Marvel Universe. \nGathering time to play 6:00 PM
URL:https://rg-admin.net/event/marvel-crisis-protocol-open-play-2/2030-06-20/
CATEGORIES:Marvel,Marvel Crisis Protocol,thursday
ATTACH;FMTTYPE=image/jpeg:https://rg-admin.net/wp-content/uploads/marvelcrisispro.jpeg
END:VEVENT
BEGIN:VEVENT
DTSTART;TZID=America/New_York:20300620T180000
DTEND;TZID=America/New_York:20300620T220000
DTSTAMP:20260422T061014
CREATED:20231121T223814Z
LAST-MODIFIED:20251105T172130Z
UID:10106229-1908208800-1908223200@rg-admin.net
SUMMARY:Kill Team Open Play
DESCRIPTION:MORE INFORMATION\nKill Team Open Play\n  \n 
URL:https://rg-admin.net/event/kill-team-open-play-2/2030-06-20/
CATEGORIES:games workshop,kill team,thursday
ATTACH;FMTTYPE=image/png:https://rg-admin.net/wp-content/uploads/Kill-Team-Open-Play.png
END:VEVENT
BEGIN:VEVENT
DTSTART;TZID=America/New_York:20300621T180000
DTEND;TZID=America/New_York:20300621T230000
DTSTAMP:20260422T061014
CREATED:20250521T231832Z
LAST-MODIFIED:20250524T202008Z
UID:10106864-1908295200-1908313200@rg-admin.net
SUMMARY:Warhammer 40K Open Play
DESCRIPTION:
URL:https://rg-admin.net/event/warhammer-40k-open-play/2030-06-21/
LOCATION:Recess Games
CATEGORIES:40k,games workshop
ATTACH;FMTTYPE=image/jpeg:https://rg-admin.net/wp-content/uploads/40kopenplay.jpeg
END:VEVENT
BEGIN:VEVENT
DTSTART;TZID=America/New_York:20300621T180000
DTEND;TZID=America/New_York:20300621T230000
DTSTAMP:20260422T061014
CREATED:20250722T053228Z
LAST-MODIFIED:20250722T053228Z
UID:10105058-1908295200-1908313200@rg-admin.net
SUMMARY:Gundam TCG Weekly Tournament
DESCRIPTION:
URL:https://rg-admin.net/event/gundam-tcg-weekly-tournament/2030-06-21/
LOCATION:Recess Games
CATEGORIES:Bandai,Gundam
ATTACH;FMTTYPE=image/png:https://rg-admin.net/wp-content/uploads/Gundam-Friday-2-1.png
END:VEVENT
BEGIN:VEVENT
DTSTART;TZID=America/New_York:20300621T190000
DTEND;TZID=America/New_York:20300621T230000
DTSTAMP:20260422T061014
CREATED:20250724T184434Z
LAST-MODIFIED:20250724T184435Z
UID:10105433-1908298800-1908313200@rg-admin.net
SUMMARY:Marvel Champions Organized Play
DESCRIPTION:
URL:https://rg-admin.net/event/marvel-champions-organized-play-2-2/2030-06-21/
LOCATION:Recess Games
CATEGORIES:Marvel,Marvel Champions
ATTACH;FMTTYPE=image/png:https://rg-admin.net/wp-content/uploads/Marvel-Champions-FB.png
END:VEVENT
BEGIN:VEVENT
DTSTART;TZID=America/New_York:20300622T100000
DTEND;TZID=America/New_York:20300622T120000
DTSTAMP:20260422T061014
CREATED:20230716T150200Z
LAST-MODIFIED:20250524T202133Z
UID:10105823-1908352800-1908360000@rg-admin.net
SUMMARY:Pokemon League
DESCRIPTION:Pokemon League at Recess is scheduled most Saturdays.  \nThis is a great time to come and play Pokemon Trading Card game. This is also a great time to learn how to play. Our Pokemon Trainers will show you how to play and even help you play better if you already know how to play. \nIt is a great Family event \nFree \n 
URL:https://rg-admin.net/event/pokemon-league-2-2/2030-06-22/
CATEGORIES:pokemon,saturday
ATTACH;FMTTYPE=image/jpeg:https://rg-admin.net/wp-content/uploads/pokemon-saturday.jpeg
END:VEVENT
BEGIN:VEVENT
DTSTART;TZID=America/New_York:20300622T133000
DTEND;TZID=America/New_York:20300622T160000
DTSTAMP:20260422T061014
CREATED:20251014T050539Z
LAST-MODIFIED:20251014T050719Z
UID:10106530-1908365400-1908374400@rg-admin.net
SUMMARY:Riftbound Weekly Play - NEXUS NIGHTS
DESCRIPTION:
URL:https://rg-admin.net/event/riftbound-nexus-nights-riftbound-weekly-play/2030-06-22/
LOCATION:Recess Games
CATEGORIES:Riftbound
ATTACH;FMTTYPE=image/png:https://rg-admin.net/wp-content/uploads/Riftbound_Organized_Play-3_1.png
END:VEVENT
BEGIN:VEVENT
DTSTART;TZID=America/New_York:20300623T110000
DTEND;TZID=America/New_York:20300623T180000
DTSTAMP:20260422T061015
CREATED:20230602T221033Z
LAST-MODIFIED:20250524T201449Z
UID:10106917-1908442800-1908468000@rg-admin.net
SUMMARY:Age of Sigmar Open Play
DESCRIPTION:MORE INFORMATION\nAge of Sigmar Open Play Every Sunday \nBuild armies of plastic warriors\, paint your models\, and take them to the tabletop to play fast-paced games and tell your own stories within the Mortal Realms. \n 
URL:https://rg-admin.net/event/age-of-sigmar-open-play-3/2030-06-23/
CATEGORIES:age of sigmar,games workshop,sunday
ATTACH;FMTTYPE=image/jpeg:https://rg-admin.net/wp-content/uploads/aosopen.jpeg
END:VEVENT
BEGIN:VEVENT
DTSTART;TZID=America/New_York:20300623T123000
DTEND;TZID=America/New_York:20300623T160000
DTSTAMP:20260422T061015
CREATED:20250528T010956Z
LAST-MODIFIED:20250528T193908Z
UID:10106940-1908448200-1908460800@rg-admin.net
SUMMARY:One Piece TCG Sunday Tournaments
DESCRIPTION:  \n  \n  \nOne Piece is an incredibly popular battle manga about pirates in a fantasy setting.
URL:https://rg-admin.net/event/one-piece-store-tournament-2/2030-06-23/
LOCATION:Recess Games
CATEGORIES:One Piece,thursday
ATTACH;FMTTYPE=image/png:https://rg-admin.net/wp-content/uploads/One-Piece-Store-Tournament-13.png
END:VEVENT
BEGIN:VEVENT
DTSTART;TZID=America/New_York:20300626T170000
DTEND;TZID=America/New_York:20300626T220000
DTSTAMP:20260422T061015
CREATED:20240701T182338Z
LAST-MODIFIED:20250524T201832Z
UID:10106170-1908723600-1908741600@rg-admin.net
SUMMARY:Build & Paint Night
DESCRIPTION:more information
URL:https://rg-admin.net/event/build-paint-night/2030-06-26/
LOCATION:Recess Games
CATEGORIES:build & paint,painter's guild
ATTACH;FMTTYPE=image/png:https://rg-admin.net/wp-content/uploads/Build-Paint-Night-1.png
END:VEVENT
BEGIN:VEVENT
DTSTART;TZID=America/New_York:20300626T170000
DTEND;TZID=America/New_York:20300626T220000
DTSTAMP:20260422T061015
CREATED:20250129T155542Z
LAST-MODIFIED:20250524T201841Z
UID:10106210-1908723600-1908741600@rg-admin.net
SUMMARY:Heroscape Open Play
DESCRIPTION:
URL:https://rg-admin.net/event/heroscape-open-play/2030-06-26/
LOCATION:Recess Games
CATEGORIES:Heroscape
ATTACH;FMTTYPE=image/png:https://rg-admin.net/wp-content/uploads/Heroscape-1.png
END:VEVENT
BEGIN:VEVENT
DTSTART;TZID=America/New_York:20300626T180000
DTEND;TZID=America/New_York:20300626T230000
DTSTAMP:20260422T061015
CREATED:20241124T042643Z
LAST-MODIFIED:20250524T201824Z
UID:10106190-1908727200-1908745200@rg-admin.net
SUMMARY:Union Arena TCG Tournament
DESCRIPTION:  \n  \n  \nUnion Arena is a card game that only applies 1 rule to allow you to play with your favorite characters\, \nDATE: Wednesday\nREGISTRATION: 6:00 PM\nEVENT BEGINS: 6:30 PM
URL:https://rg-admin.net/event/union-arena-tcg-tournament-2/2030-06-26/
CATEGORIES:Bandai,Union Arena,wednesday
ATTACH;FMTTYPE=image/png:https://rg-admin.net/wp-content/uploads/Union-Arena-WEDNESDAY-FB.png
END:VEVENT
BEGIN:VEVENT
DTSTART;TZID=America/New_York:20300627T050000
DTEND;TZID=America/New_York:20300627T220000
DTSTAMP:20260422T061015
CREATED:20250521T231111Z
LAST-MODIFIED:20251105T172040Z
UID:10106270-1908766800-1908828000@rg-admin.net
SUMMARY:Thursday Board Game Meetup
DESCRIPTION:
URL:https://rg-admin.net/event/thursday-board-game-meetup/2030-06-27/
LOCATION:Recess Games
ATTACH;FMTTYPE=image/jpeg:https://rg-admin.net/wp-content/uploads/487922764_1226742742787835_8526504673676290138_n.jpg
END:VEVENT
BEGIN:VEVENT
DTSTART;TZID=America/New_York:20300627T180000
DTEND;TZID=America/New_York:20300627T220000
DTSTAMP:20260422T061015
CREATED:20231102T014951Z
LAST-MODIFIED:20251105T172214Z
UID:10106250-1908813600-1908828000@rg-admin.net
SUMMARY:Marvel Crisis Protocol Open Play
DESCRIPTION:ki More Information \nMarvel: Crisis Protocol is a tabletop hobby miniatures game set in the Marvel Universe. \nGathering time to play 6:00 PM
URL:https://rg-admin.net/event/marvel-crisis-protocol-open-play-2/2030-06-27/
CATEGORIES:Marvel,Marvel Crisis Protocol,thursday
ATTACH;FMTTYPE=image/jpeg:https://rg-admin.net/wp-content/uploads/marvelcrisispro.jpeg
END:VEVENT
BEGIN:VEVENT
DTSTART;TZID=America/New_York:20300627T180000
DTEND;TZID=America/New_York:20300627T220000
DTSTAMP:20260422T061015
CREATED:20231121T223814Z
LAST-MODIFIED:20251105T172130Z
UID:10106230-1908813600-1908828000@rg-admin.net
SUMMARY:Kill Team Open Play
DESCRIPTION:MORE INFORMATION\nKill Team Open Play\n  \n 
URL:https://rg-admin.net/event/kill-team-open-play-2/2030-06-27/
CATEGORIES:games workshop,kill team,thursday
ATTACH;FMTTYPE=image/png:https://rg-admin.net/wp-content/uploads/Kill-Team-Open-Play.png
END:VEVENT
BEGIN:VEVENT
DTSTART;TZID=America/New_York:20300628T180000
DTEND;TZID=America/New_York:20300628T230000
DTSTAMP:20260422T061015
CREATED:20250521T231832Z
LAST-MODIFIED:20250524T202008Z
UID:10106865-1908900000-1908918000@rg-admin.net
SUMMARY:Warhammer 40K Open Play
DESCRIPTION:
URL:https://rg-admin.net/event/warhammer-40k-open-play/2030-06-28/
LOCATION:Recess Games
CATEGORIES:40k,games workshop
ATTACH;FMTTYPE=image/jpeg:https://rg-admin.net/wp-content/uploads/40kopenplay.jpeg
END:VEVENT
BEGIN:VEVENT
DTSTART;TZID=America/New_York:20300628T180000
DTEND;TZID=America/New_York:20300628T230000
DTSTAMP:20260422T061015
CREATED:20250722T053228Z
LAST-MODIFIED:20250722T053228Z
UID:10105059-1908900000-1908918000@rg-admin.net
SUMMARY:Gundam TCG Weekly Tournament
DESCRIPTION:
URL:https://rg-admin.net/event/gundam-tcg-weekly-tournament/2030-06-28/
LOCATION:Recess Games
CATEGORIES:Bandai,Gundam
ATTACH;FMTTYPE=image/png:https://rg-admin.net/wp-content/uploads/Gundam-Friday-2-1.png
END:VEVENT
BEGIN:VEVENT
DTSTART;TZID=America/New_York:20300629T100000
DTEND;TZID=America/New_York:20300629T120000
DTSTAMP:20260422T061015
CREATED:20230716T150200Z
LAST-MODIFIED:20250524T202133Z
UID:10105824-1908957600-1908964800@rg-admin.net
SUMMARY:Pokemon League
DESCRIPTION:Pokemon League at Recess is scheduled most Saturdays.  \nThis is a great time to come and play Pokemon Trading Card game. This is also a great time to learn how to play. Our Pokemon Trainers will show you how to play and even help you play better if you already know how to play. \nIt is a great Family event \nFree \n 
URL:https://rg-admin.net/event/pokemon-league-2-2/2030-06-29/
CATEGORIES:pokemon,saturday
ATTACH;FMTTYPE=image/jpeg:https://rg-admin.net/wp-content/uploads/pokemon-saturday.jpeg
END:VEVENT
BEGIN:VEVENT
DTSTART;TZID=America/New_York:20300629T133000
DTEND;TZID=America/New_York:20300629T160000
DTSTAMP:20260422T061015
CREATED:20251014T050539Z
LAST-MODIFIED:20251014T050719Z
UID:10106531-1908970200-1908979200@rg-admin.net
SUMMARY:Riftbound Weekly Play - NEXUS NIGHTS
DESCRIPTION:
URL:https://rg-admin.net/event/riftbound-nexus-nights-riftbound-weekly-play/2030-06-29/
LOCATION:Recess Games
CATEGORIES:Riftbound
ATTACH;FMTTYPE=image/png:https://rg-admin.net/wp-content/uploads/Riftbound_Organized_Play-3_1.png
END:VEVENT
BEGIN:VEVENT
DTSTART;TZID=America/New_York:20300630T110000
DTEND;TZID=America/New_York:20300630T180000
DTSTAMP:20260422T061015
CREATED:20230602T221033Z
LAST-MODIFIED:20250524T201449Z
UID:10106918-1909047600-1909072800@rg-admin.net
SUMMARY:Age of Sigmar Open Play
DESCRIPTION:MORE INFORMATION\nAge of Sigmar Open Play Every Sunday \nBuild armies of plastic warriors\, paint your models\, and take them to the tabletop to play fast-paced games and tell your own stories within the Mortal Realms. \n 
URL:https://rg-admin.net/event/age-of-sigmar-open-play-3/2030-06-30/
CATEGORIES:age of sigmar,games workshop,sunday
ATTACH;FMTTYPE=image/jpeg:https://rg-admin.net/wp-content/uploads/aosopen.jpeg
END:VEVENT
BEGIN:VEVENT
DTSTART;TZID=America/New_York:20300630T123000
DTEND;TZID=America/New_York:20300630T160000
DTSTAMP:20260422T061015
CREATED:20250528T010956Z
LAST-MODIFIED:20250528T193908Z
UID:10106941-1909053000-1909065600@rg-admin.net
SUMMARY:One Piece TCG Sunday Tournaments
DESCRIPTION:  \n  \n  \nOne Piece is an incredibly popular battle manga about pirates in a fantasy setting.
URL:https://rg-admin.net/event/one-piece-store-tournament-2/2030-06-30/
LOCATION:Recess Games
CATEGORIES:One Piece,thursday
ATTACH;FMTTYPE=image/png:https://rg-admin.net/wp-content/uploads/One-Piece-Store-Tournament-13.png
END:VEVENT
BEGIN:VEVENT
DTSTART;TZID=America/New_York:20300703T170000
DTEND;TZID=America/New_York:20300703T220000
DTSTAMP:20260422T061015
CREATED:20240701T182338Z
LAST-MODIFIED:20250524T201832Z
UID:10106171-1909328400-1909346400@rg-admin.net
SUMMARY:Build & Paint Night
DESCRIPTION:more information
URL:https://rg-admin.net/event/build-paint-night/2030-07-03/
LOCATION:Recess Games
CATEGORIES:build & paint,painter's guild
ATTACH;FMTTYPE=image/png:https://rg-admin.net/wp-content/uploads/Build-Paint-Night-1.png
END:VEVENT
BEGIN:VEVENT
DTSTART;TZID=America/New_York:20300703T170000
DTEND;TZID=America/New_York:20300703T220000
DTSTAMP:20260422T061015
CREATED:20250129T155542Z
LAST-MODIFIED:20250524T201841Z
UID:10106211-1909328400-1909346400@rg-admin.net
SUMMARY:Heroscape Open Play
DESCRIPTION:
URL:https://rg-admin.net/event/heroscape-open-play/2030-07-03/
LOCATION:Recess Games
CATEGORIES:Heroscape
ATTACH;FMTTYPE=image/png:https://rg-admin.net/wp-content/uploads/Heroscape-1.png
END:VEVENT
BEGIN:VEVENT
DTSTART;TZID=America/New_York:20300703T180000
DTEND;TZID=America/New_York:20300703T230000
DTSTAMP:20260422T061015
CREATED:20241124T042643Z
LAST-MODIFIED:20250524T201824Z
UID:10106191-1909332000-1909350000@rg-admin.net
SUMMARY:Union Arena TCG Tournament
DESCRIPTION:  \n  \n  \nUnion Arena is a card game that only applies 1 rule to allow you to play with your favorite characters\, \nDATE: Wednesday\nREGISTRATION: 6:00 PM\nEVENT BEGINS: 6:30 PM
URL:https://rg-admin.net/event/union-arena-tcg-tournament-2/2030-07-03/
CATEGORIES:Bandai,Union Arena,wednesday
ATTACH;FMTTYPE=image/png:https://rg-admin.net/wp-content/uploads/Union-Arena-WEDNESDAY-FB.png
END:VEVENT
END:VCALENDAR