BEGIN:VCALENDAR
VERSION:2.0
PRODID:-// - ECPv6.15.20//NONSGML v1.0//EN
CALSCALE:GREGORIAN
METHOD:PUBLISH
X-ORIGINAL-URL:https://rg-admin.net
X-WR-CALDESC:Events for 
REFRESH-INTERVAL;VALUE=DURATION:PT1H
X-Robots-Tag:noindex
X-PUBLISHED-TTL:PT1H
BEGIN:VTIMEZONE
TZID:America/New_York
BEGIN:DAYLIGHT
TZOFFSETFROM:-0500
TZOFFSETTO:-0400
TZNAME:EDT
DTSTART:20280312T070000
END:DAYLIGHT
BEGIN:STANDARD
TZOFFSETFROM:-0400
TZOFFSETTO:-0500
TZNAME:EST
DTSTART:20281105T060000
END:STANDARD
BEGIN:DAYLIGHT
TZOFFSETFROM:-0500
TZOFFSETTO:-0400
TZNAME:EDT
DTSTART:20290311T070000
END:DAYLIGHT
BEGIN:STANDARD
TZOFFSETFROM:-0400
TZOFFSETTO:-0500
TZNAME:EST
DTSTART:20291104T060000
END:STANDARD
BEGIN:DAYLIGHT
TZOFFSETFROM:-0500
TZOFFSETTO:-0400
TZNAME:EDT
DTSTART:20300310T070000
END:DAYLIGHT
BEGIN:STANDARD
TZOFFSETFROM:-0400
TZOFFSETTO:-0500
TZNAME:EST
DTSTART:20301103T060000
END:STANDARD
END:VTIMEZONE
BEGIN:VEVENT
DTSTART;TZID=America/New_York:20290502T180000
DTEND;TZID=America/New_York:20290502T230000
DTSTAMP:20260423T191707
CREATED:20241124T042643Z
LAST-MODIFIED:20250524T201824Z
UID:10014889-1872439200-1872457200@rg-admin.net
SUMMARY:Union Arena TCG Tournament
DESCRIPTION:  \n  \n  \nUnion Arena is a card game that only applies 1 rule to allow you to play with your favorite characters\, \nDATE: Wednesday\nREGISTRATION: 6:00 PM\nEVENT BEGINS: 6:30 PM
URL:https://rg-admin.net/event/union-arena-tcg-tournament-2/2029-05-02/
CATEGORIES:Bandai,Union Arena,wednesday
ATTACH;FMTTYPE=image/png:https://rg-admin.net/wp-content/uploads/Union-Arena-WEDNESDAY-FB.png
END:VEVENT
BEGIN:VEVENT
DTSTART;TZID=America/New_York:20290509T180000
DTEND;TZID=America/New_York:20290509T230000
DTSTAMP:20260423T191707
CREATED:20241124T042643Z
LAST-MODIFIED:20250524T201824Z
UID:10014890-1873044000-1873062000@rg-admin.net
SUMMARY:Union Arena TCG Tournament
DESCRIPTION:  \n  \n  \nUnion Arena is a card game that only applies 1 rule to allow you to play with your favorite characters\, \nDATE: Wednesday\nREGISTRATION: 6:00 PM\nEVENT BEGINS: 6:30 PM
URL:https://rg-admin.net/event/union-arena-tcg-tournament-2/2029-05-09/
CATEGORIES:Bandai,Union Arena,wednesday
ATTACH;FMTTYPE=image/png:https://rg-admin.net/wp-content/uploads/Union-Arena-WEDNESDAY-FB.png
END:VEVENT
BEGIN:VEVENT
DTSTART;TZID=America/New_York:20290516T180000
DTEND;TZID=America/New_York:20290516T230000
DTSTAMP:20260423T191707
CREATED:20241124T042643Z
LAST-MODIFIED:20250524T201824Z
UID:10014891-1873648800-1873666800@rg-admin.net
SUMMARY:Union Arena TCG Tournament
DESCRIPTION:  \n  \n  \nUnion Arena is a card game that only applies 1 rule to allow you to play with your favorite characters\, \nDATE: Wednesday\nREGISTRATION: 6:00 PM\nEVENT BEGINS: 6:30 PM
URL:https://rg-admin.net/event/union-arena-tcg-tournament-2/2029-05-16/
CATEGORIES:Bandai,Union Arena,wednesday
ATTACH;FMTTYPE=image/png:https://rg-admin.net/wp-content/uploads/Union-Arena-WEDNESDAY-FB.png
END:VEVENT
BEGIN:VEVENT
DTSTART;TZID=America/New_York:20290523T180000
DTEND;TZID=America/New_York:20290523T230000
DTSTAMP:20260423T191707
CREATED:20241124T042643Z
LAST-MODIFIED:20250524T201824Z
UID:10014892-1874253600-1874271600@rg-admin.net
SUMMARY:Union Arena TCG Tournament
DESCRIPTION:  \n  \n  \nUnion Arena is a card game that only applies 1 rule to allow you to play with your favorite characters\, \nDATE: Wednesday\nREGISTRATION: 6:00 PM\nEVENT BEGINS: 6:30 PM
URL:https://rg-admin.net/event/union-arena-tcg-tournament-2/2029-05-23/
CATEGORIES:Bandai,Union Arena,wednesday
ATTACH;FMTTYPE=image/png:https://rg-admin.net/wp-content/uploads/Union-Arena-WEDNESDAY-FB.png
END:VEVENT
BEGIN:VEVENT
DTSTART;TZID=America/New_York:20290530T180000
DTEND;TZID=America/New_York:20290530T230000
DTSTAMP:20260423T191707
CREATED:20241124T042643Z
LAST-MODIFIED:20250524T201824Z
UID:10014893-1874858400-1874876400@rg-admin.net
SUMMARY:Union Arena TCG Tournament
DESCRIPTION:  \n  \n  \nUnion Arena is a card game that only applies 1 rule to allow you to play with your favorite characters\, \nDATE: Wednesday\nREGISTRATION: 6:00 PM\nEVENT BEGINS: 6:30 PM
URL:https://rg-admin.net/event/union-arena-tcg-tournament-2/2029-05-30/
CATEGORIES:Bandai,Union Arena,wednesday
ATTACH;FMTTYPE=image/png:https://rg-admin.net/wp-content/uploads/Union-Arena-WEDNESDAY-FB.png
END:VEVENT
END:VCALENDAR