BEGIN:VCALENDAR
VERSION:2.0
PRODID:-// - ECPv6.15.20//NONSGML v1.0//EN
CALSCALE:GREGORIAN
METHOD:PUBLISH
X-ORIGINAL-URL:https://rg-admin.net
X-WR-CALDESC:Events for 
REFRESH-INTERVAL;VALUE=DURATION:PT1H
X-Robots-Tag:noindex
X-PUBLISHED-TTL:PT1H
BEGIN:VTIMEZONE
TZID:America/New_York
BEGIN:DAYLIGHT
TZOFFSETFROM:-0500
TZOFFSETTO:-0400
TZNAME:EDT
DTSTART:20230312T070000
END:DAYLIGHT
BEGIN:STANDARD
TZOFFSETFROM:-0400
TZOFFSETTO:-0500
TZNAME:EST
DTSTART:20231105T060000
END:STANDARD
BEGIN:DAYLIGHT
TZOFFSETFROM:-0500
TZOFFSETTO:-0400
TZNAME:EDT
DTSTART:20240310T070000
END:DAYLIGHT
BEGIN:STANDARD
TZOFFSETFROM:-0400
TZOFFSETTO:-0500
TZNAME:EST
DTSTART:20241103T060000
END:STANDARD
BEGIN:DAYLIGHT
TZOFFSETFROM:-0500
TZOFFSETTO:-0400
TZNAME:EDT
DTSTART:20250309T070000
END:DAYLIGHT
BEGIN:STANDARD
TZOFFSETFROM:-0400
TZOFFSETTO:-0500
TZNAME:EST
DTSTART:20251102T060000
END:STANDARD
END:VTIMEZONE
BEGIN:VEVENT
DTSTART;TZID=America/New_York:20240721T123000
DTEND;TZID=America/New_York:20240721T160000
DTSTAMP:20260420T104416
CREATED:20231106T220703Z
LAST-MODIFIED:20250524T201529Z
UID:10016510-1721565000-1721577600@rg-admin.net
SUMMARY:One Piece TCG Sunday Tournaments
DESCRIPTION:  \n  \n  \nOne Piece is an incredibly popular battle manga about pirates in a fantasy setting.
URL:https://rg-admin.net/event/one-piece-store-tournament/2024-07-21/
LOCATION:Recess Games
CATEGORIES:One Piece,thursday
ATTACH;FMTTYPE=image/png:https://rg-admin.net/wp-content/uploads/One-Piece-SQ-3.png
END:VEVENT
BEGIN:VEVENT
DTSTART;TZID=America/New_York:20240725T180000
DTEND;TZID=America/New_York:20240725T220000
DTSTAMP:20260420T104416
CREATED:20231102T014951Z
LAST-MODIFIED:20251105T172214Z
UID:10006141-1721930400-1721944800@rg-admin.net
SUMMARY:Marvel Crisis Protocol Open Play
DESCRIPTION:ki More Information \nMarvel: Crisis Protocol is a tabletop hobby miniatures game set in the Marvel Universe. \nGathering time to play 6:00 PM
URL:https://rg-admin.net/event/marvel-crisis-protocol-open-play-2/2024-07-25/
CATEGORIES:Marvel,Marvel Crisis Protocol,thursday
ATTACH;FMTTYPE=image/jpeg:https://rg-admin.net/wp-content/uploads/marvelcrisispro.jpeg
END:VEVENT
BEGIN:VEVENT
DTSTART;TZID=America/New_York:20240725T180000
DTEND;TZID=America/New_York:20240725T220000
DTSTAMP:20260420T104416
CREATED:20231121T223814Z
LAST-MODIFIED:20251105T172130Z
UID:10007541-1721930400-1721944800@rg-admin.net
SUMMARY:Kill Team Open Play
DESCRIPTION:MORE INFORMATION\nKill Team Open Play\n  \n 
URL:https://rg-admin.net/event/kill-team-open-play-2/2024-07-25/
CATEGORIES:games workshop,kill team,thursday
ATTACH;FMTTYPE=image/png:https://rg-admin.net/wp-content/uploads/Kill-Team-Open-Play.png
END:VEVENT
BEGIN:VEVENT
DTSTART;TZID=America/New_York:20240728T123000
DTEND;TZID=America/New_York:20240728T160000
DTSTAMP:20260420T104416
CREATED:20231106T220703Z
LAST-MODIFIED:20250524T201529Z
UID:10016511-1722169800-1722182400@rg-admin.net
SUMMARY:One Piece TCG Sunday Tournaments
DESCRIPTION:  \n  \n  \nOne Piece is an incredibly popular battle manga about pirates in a fantasy setting.
URL:https://rg-admin.net/event/one-piece-store-tournament/2024-07-28/
LOCATION:Recess Games
CATEGORIES:One Piece,thursday
ATTACH;FMTTYPE=image/png:https://rg-admin.net/wp-content/uploads/One-Piece-SQ-3.png
END:VEVENT
BEGIN:VEVENT
DTSTART;TZID=America/New_York:20240801T180000
DTEND;TZID=America/New_York:20240801T220000
DTSTAMP:20260420T104416
CREATED:20231102T014951Z
LAST-MODIFIED:20251105T172214Z
UID:10006142-1722535200-1722549600@rg-admin.net
SUMMARY:Marvel Crisis Protocol Open Play
DESCRIPTION:ki More Information \nMarvel: Crisis Protocol is a tabletop hobby miniatures game set in the Marvel Universe. \nGathering time to play 6:00 PM
URL:https://rg-admin.net/event/marvel-crisis-protocol-open-play-2/2024-08-01/
CATEGORIES:Marvel,Marvel Crisis Protocol,thursday
ATTACH;FMTTYPE=image/jpeg:https://rg-admin.net/wp-content/uploads/marvelcrisispro.jpeg
END:VEVENT
BEGIN:VEVENT
DTSTART;TZID=America/New_York:20240801T180000
DTEND;TZID=America/New_York:20240801T220000
DTSTAMP:20260420T104416
CREATED:20231121T223814Z
LAST-MODIFIED:20251105T172130Z
UID:10007542-1722535200-1722549600@rg-admin.net
SUMMARY:Kill Team Open Play
DESCRIPTION:MORE INFORMATION\nKill Team Open Play\n  \n 
URL:https://rg-admin.net/event/kill-team-open-play-2/2024-08-01/
CATEGORIES:games workshop,kill team,thursday
ATTACH;FMTTYPE=image/png:https://rg-admin.net/wp-content/uploads/Kill-Team-Open-Play.png
END:VEVENT
BEGIN:VEVENT
DTSTART;TZID=America/New_York:20240804T123000
DTEND;TZID=America/New_York:20240804T160000
DTSTAMP:20260420T104416
CREATED:20231106T220703Z
LAST-MODIFIED:20250524T201529Z
UID:10016512-1722774600-1722787200@rg-admin.net
SUMMARY:One Piece TCG Sunday Tournaments
DESCRIPTION:  \n  \n  \nOne Piece is an incredibly popular battle manga about pirates in a fantasy setting.
URL:https://rg-admin.net/event/one-piece-store-tournament/2024-08-04/
LOCATION:Recess Games
CATEGORIES:One Piece,thursday
ATTACH;FMTTYPE=image/png:https://rg-admin.net/wp-content/uploads/One-Piece-SQ-3.png
END:VEVENT
BEGIN:VEVENT
DTSTART;TZID=America/New_York:20240808T180000
DTEND;TZID=America/New_York:20240808T220000
DTSTAMP:20260420T104416
CREATED:20231102T014951Z
LAST-MODIFIED:20251105T172214Z
UID:10006143-1723140000-1723154400@rg-admin.net
SUMMARY:Marvel Crisis Protocol Open Play
DESCRIPTION:ki More Information \nMarvel: Crisis Protocol is a tabletop hobby miniatures game set in the Marvel Universe. \nGathering time to play 6:00 PM
URL:https://rg-admin.net/event/marvel-crisis-protocol-open-play-2/2024-08-08/
CATEGORIES:Marvel,Marvel Crisis Protocol,thursday
ATTACH;FMTTYPE=image/jpeg:https://rg-admin.net/wp-content/uploads/marvelcrisispro.jpeg
END:VEVENT
BEGIN:VEVENT
DTSTART;TZID=America/New_York:20240808T180000
DTEND;TZID=America/New_York:20240808T220000
DTSTAMP:20260420T104416
CREATED:20231121T223814Z
LAST-MODIFIED:20251105T172130Z
UID:10007543-1723140000-1723154400@rg-admin.net
SUMMARY:Kill Team Open Play
DESCRIPTION:MORE INFORMATION\nKill Team Open Play\n  \n 
URL:https://rg-admin.net/event/kill-team-open-play-2/2024-08-08/
CATEGORIES:games workshop,kill team,thursday
ATTACH;FMTTYPE=image/png:https://rg-admin.net/wp-content/uploads/Kill-Team-Open-Play.png
END:VEVENT
BEGIN:VEVENT
DTSTART;TZID=America/New_York:20240815T180000
DTEND;TZID=America/New_York:20240815T220000
DTSTAMP:20260420T104416
CREATED:20231102T014951Z
LAST-MODIFIED:20251105T172214Z
UID:10006144-1723744800-1723759200@rg-admin.net
SUMMARY:Marvel Crisis Protocol Open Play
DESCRIPTION:ki More Information \nMarvel: Crisis Protocol is a tabletop hobby miniatures game set in the Marvel Universe. \nGathering time to play 6:00 PM
URL:https://rg-admin.net/event/marvel-crisis-protocol-open-play-2/2024-08-15/
CATEGORIES:Marvel,Marvel Crisis Protocol,thursday
ATTACH;FMTTYPE=image/jpeg:https://rg-admin.net/wp-content/uploads/marvelcrisispro.jpeg
END:VEVENT
BEGIN:VEVENT
DTSTART;TZID=America/New_York:20240815T180000
DTEND;TZID=America/New_York:20240815T220000
DTSTAMP:20260420T104416
CREATED:20231121T223814Z
LAST-MODIFIED:20251105T172130Z
UID:10007544-1723744800-1723759200@rg-admin.net
SUMMARY:Kill Team Open Play
DESCRIPTION:MORE INFORMATION\nKill Team Open Play\n  \n 
URL:https://rg-admin.net/event/kill-team-open-play-2/2024-08-15/
CATEGORIES:games workshop,kill team,thursday
ATTACH;FMTTYPE=image/png:https://rg-admin.net/wp-content/uploads/Kill-Team-Open-Play.png
END:VEVENT
BEGIN:VEVENT
DTSTART;TZID=America/New_York:20240818T123000
DTEND;TZID=America/New_York:20240818T160000
DTSTAMP:20260420T104416
CREATED:20231106T220703Z
LAST-MODIFIED:20250524T201529Z
UID:10016513-1723984200-1723996800@rg-admin.net
SUMMARY:One Piece TCG Sunday Tournaments
DESCRIPTION:  \n  \n  \nOne Piece is an incredibly popular battle manga about pirates in a fantasy setting.
URL:https://rg-admin.net/event/one-piece-store-tournament/2024-08-18/
LOCATION:Recess Games
CATEGORIES:One Piece,thursday
ATTACH;FMTTYPE=image/png:https://rg-admin.net/wp-content/uploads/One-Piece-SQ-3.png
END:VEVENT
BEGIN:VEVENT
DTSTART;TZID=America/New_York:20240822T180000
DTEND;TZID=America/New_York:20240822T220000
DTSTAMP:20260420T104416
CREATED:20231102T014951Z
LAST-MODIFIED:20251105T172214Z
UID:10006145-1724349600-1724364000@rg-admin.net
SUMMARY:Marvel Crisis Protocol Open Play
DESCRIPTION:ki More Information \nMarvel: Crisis Protocol is a tabletop hobby miniatures game set in the Marvel Universe. \nGathering time to play 6:00 PM
URL:https://rg-admin.net/event/marvel-crisis-protocol-open-play-2/2024-08-22/
CATEGORIES:Marvel,Marvel Crisis Protocol,thursday
ATTACH;FMTTYPE=image/jpeg:https://rg-admin.net/wp-content/uploads/marvelcrisispro.jpeg
END:VEVENT
BEGIN:VEVENT
DTSTART;TZID=America/New_York:20240822T180000
DTEND;TZID=America/New_York:20240822T220000
DTSTAMP:20260420T104416
CREATED:20231121T223814Z
LAST-MODIFIED:20251105T172130Z
UID:10007545-1724349600-1724364000@rg-admin.net
SUMMARY:Kill Team Open Play
DESCRIPTION:MORE INFORMATION\nKill Team Open Play\n  \n 
URL:https://rg-admin.net/event/kill-team-open-play-2/2024-08-22/
CATEGORIES:games workshop,kill team,thursday
ATTACH;FMTTYPE=image/png:https://rg-admin.net/wp-content/uploads/Kill-Team-Open-Play.png
END:VEVENT
BEGIN:VEVENT
DTSTART;TZID=America/New_York:20240825T123000
DTEND;TZID=America/New_York:20240825T160000
DTSTAMP:20260420T104416
CREATED:20231106T220703Z
LAST-MODIFIED:20250524T201529Z
UID:10016514-1724589000-1724601600@rg-admin.net
SUMMARY:One Piece TCG Sunday Tournaments
DESCRIPTION:  \n  \n  \nOne Piece is an incredibly popular battle manga about pirates in a fantasy setting.
URL:https://rg-admin.net/event/one-piece-store-tournament/2024-08-25/
LOCATION:Recess Games
CATEGORIES:One Piece,thursday
ATTACH;FMTTYPE=image/png:https://rg-admin.net/wp-content/uploads/One-Piece-SQ-3.png
END:VEVENT
BEGIN:VEVENT
DTSTART;TZID=America/New_York:20240829T180000
DTEND;TZID=America/New_York:20240829T220000
DTSTAMP:20260420T104416
CREATED:20231102T014951Z
LAST-MODIFIED:20251105T172214Z
UID:10006146-1724954400-1724968800@rg-admin.net
SUMMARY:Marvel Crisis Protocol Open Play
DESCRIPTION:ki More Information \nMarvel: Crisis Protocol is a tabletop hobby miniatures game set in the Marvel Universe. \nGathering time to play 6:00 PM
URL:https://rg-admin.net/event/marvel-crisis-protocol-open-play-2/2024-08-29/
CATEGORIES:Marvel,Marvel Crisis Protocol,thursday
ATTACH;FMTTYPE=image/jpeg:https://rg-admin.net/wp-content/uploads/marvelcrisispro.jpeg
END:VEVENT
BEGIN:VEVENT
DTSTART;TZID=America/New_York:20240829T180000
DTEND;TZID=America/New_York:20240829T220000
DTSTAMP:20260420T104416
CREATED:20231121T223814Z
LAST-MODIFIED:20251105T172130Z
UID:10007546-1724954400-1724968800@rg-admin.net
SUMMARY:Kill Team Open Play
DESCRIPTION:MORE INFORMATION\nKill Team Open Play\n  \n 
URL:https://rg-admin.net/event/kill-team-open-play-2/2024-08-29/
CATEGORIES:games workshop,kill team,thursday
ATTACH;FMTTYPE=image/png:https://rg-admin.net/wp-content/uploads/Kill-Team-Open-Play.png
END:VEVENT
BEGIN:VEVENT
DTSTART;TZID=America/New_York:20240901T123000
DTEND;TZID=America/New_York:20240901T160000
DTSTAMP:20260420T104416
CREATED:20231106T220703Z
LAST-MODIFIED:20250524T201529Z
UID:10016515-1725193800-1725206400@rg-admin.net
SUMMARY:One Piece TCG Sunday Tournaments
DESCRIPTION:  \n  \n  \nOne Piece is an incredibly popular battle manga about pirates in a fantasy setting.
URL:https://rg-admin.net/event/one-piece-store-tournament/2024-09-01/
LOCATION:Recess Games
CATEGORIES:One Piece,thursday
ATTACH;FMTTYPE=image/png:https://rg-admin.net/wp-content/uploads/One-Piece-SQ-3.png
END:VEVENT
BEGIN:VEVENT
DTSTART;TZID=America/New_York:20240905T180000
DTEND;TZID=America/New_York:20240905T220000
DTSTAMP:20260420T104416
CREATED:20231102T014951Z
LAST-MODIFIED:20251105T172214Z
UID:10006147-1725559200-1725573600@rg-admin.net
SUMMARY:Marvel Crisis Protocol Open Play
DESCRIPTION:ki More Information \nMarvel: Crisis Protocol is a tabletop hobby miniatures game set in the Marvel Universe. \nGathering time to play 6:00 PM
URL:https://rg-admin.net/event/marvel-crisis-protocol-open-play-2/2024-09-05/
CATEGORIES:Marvel,Marvel Crisis Protocol,thursday
ATTACH;FMTTYPE=image/jpeg:https://rg-admin.net/wp-content/uploads/marvelcrisispro.jpeg
END:VEVENT
BEGIN:VEVENT
DTSTART;TZID=America/New_York:20240905T180000
DTEND;TZID=America/New_York:20240905T220000
DTSTAMP:20260420T104416
CREATED:20231121T223814Z
LAST-MODIFIED:20251105T172130Z
UID:10007547-1725559200-1725573600@rg-admin.net
SUMMARY:Kill Team Open Play
DESCRIPTION:MORE INFORMATION\nKill Team Open Play\n  \n 
URL:https://rg-admin.net/event/kill-team-open-play-2/2024-09-05/
CATEGORIES:games workshop,kill team,thursday
ATTACH;FMTTYPE=image/png:https://rg-admin.net/wp-content/uploads/Kill-Team-Open-Play.png
END:VEVENT
BEGIN:VEVENT
DTSTART;TZID=America/New_York:20240908T123000
DTEND;TZID=America/New_York:20240908T160000
DTSTAMP:20260420T104416
CREATED:20231106T220703Z
LAST-MODIFIED:20250524T201529Z
UID:10016516-1725798600-1725811200@rg-admin.net
SUMMARY:One Piece TCG Sunday Tournaments
DESCRIPTION:  \n  \n  \nOne Piece is an incredibly popular battle manga about pirates in a fantasy setting.
URL:https://rg-admin.net/event/one-piece-store-tournament/2024-09-08/
LOCATION:Recess Games
CATEGORIES:One Piece,thursday
ATTACH;FMTTYPE=image/png:https://rg-admin.net/wp-content/uploads/One-Piece-SQ-3.png
END:VEVENT
BEGIN:VEVENT
DTSTART;TZID=America/New_York:20240912T180000
DTEND;TZID=America/New_York:20240912T220000
DTSTAMP:20260420T104416
CREATED:20231102T014951Z
LAST-MODIFIED:20251105T172214Z
UID:10006148-1726164000-1726178400@rg-admin.net
SUMMARY:Marvel Crisis Protocol Open Play
DESCRIPTION:ki More Information \nMarvel: Crisis Protocol is a tabletop hobby miniatures game set in the Marvel Universe. \nGathering time to play 6:00 PM
URL:https://rg-admin.net/event/marvel-crisis-protocol-open-play-2/2024-09-12/
CATEGORIES:Marvel,Marvel Crisis Protocol,thursday
ATTACH;FMTTYPE=image/jpeg:https://rg-admin.net/wp-content/uploads/marvelcrisispro.jpeg
END:VEVENT
BEGIN:VEVENT
DTSTART;TZID=America/New_York:20240912T180000
DTEND;TZID=America/New_York:20240912T220000
DTSTAMP:20260420T104416
CREATED:20231121T223814Z
LAST-MODIFIED:20251105T172130Z
UID:10007548-1726164000-1726178400@rg-admin.net
SUMMARY:Kill Team Open Play
DESCRIPTION:MORE INFORMATION\nKill Team Open Play\n  \n 
URL:https://rg-admin.net/event/kill-team-open-play-2/2024-09-12/
CATEGORIES:games workshop,kill team,thursday
ATTACH;FMTTYPE=image/png:https://rg-admin.net/wp-content/uploads/Kill-Team-Open-Play.png
END:VEVENT
BEGIN:VEVENT
DTSTART;TZID=America/New_York:20240915T123000
DTEND;TZID=America/New_York:20240915T160000
DTSTAMP:20260420T104416
CREATED:20231106T220703Z
LAST-MODIFIED:20250524T201529Z
UID:10016517-1726403400-1726416000@rg-admin.net
SUMMARY:One Piece TCG Sunday Tournaments
DESCRIPTION:  \n  \n  \nOne Piece is an incredibly popular battle manga about pirates in a fantasy setting.
URL:https://rg-admin.net/event/one-piece-store-tournament/2024-09-15/
LOCATION:Recess Games
CATEGORIES:One Piece,thursday
ATTACH;FMTTYPE=image/png:https://rg-admin.net/wp-content/uploads/One-Piece-SQ-3.png
END:VEVENT
BEGIN:VEVENT
DTSTART;TZID=America/New_York:20240919T180000
DTEND;TZID=America/New_York:20240919T220000
DTSTAMP:20260420T104416
CREATED:20231102T014951Z
LAST-MODIFIED:20251105T172214Z
UID:10006149-1726768800-1726783200@rg-admin.net
SUMMARY:Marvel Crisis Protocol Open Play
DESCRIPTION:ki More Information \nMarvel: Crisis Protocol is a tabletop hobby miniatures game set in the Marvel Universe. \nGathering time to play 6:00 PM
URL:https://rg-admin.net/event/marvel-crisis-protocol-open-play-2/2024-09-19/
CATEGORIES:Marvel,Marvel Crisis Protocol,thursday
ATTACH;FMTTYPE=image/jpeg:https://rg-admin.net/wp-content/uploads/marvelcrisispro.jpeg
END:VEVENT
BEGIN:VEVENT
DTSTART;TZID=America/New_York:20240919T180000
DTEND;TZID=America/New_York:20240919T220000
DTSTAMP:20260420T104416
CREATED:20231121T223814Z
LAST-MODIFIED:20251105T172130Z
UID:10007549-1726768800-1726783200@rg-admin.net
SUMMARY:Kill Team Open Play
DESCRIPTION:MORE INFORMATION\nKill Team Open Play\n  \n 
URL:https://rg-admin.net/event/kill-team-open-play-2/2024-09-19/
CATEGORIES:games workshop,kill team,thursday
ATTACH;FMTTYPE=image/png:https://rg-admin.net/wp-content/uploads/Kill-Team-Open-Play.png
END:VEVENT
BEGIN:VEVENT
DTSTART;TZID=America/New_York:20240922T123000
DTEND;TZID=America/New_York:20240922T160000
DTSTAMP:20260420T104416
CREATED:20231106T220703Z
LAST-MODIFIED:20250524T201529Z
UID:10016518-1727008200-1727020800@rg-admin.net
SUMMARY:One Piece TCG Sunday Tournaments
DESCRIPTION:  \n  \n  \nOne Piece is an incredibly popular battle manga about pirates in a fantasy setting.
URL:https://rg-admin.net/event/one-piece-store-tournament/2024-09-22/
LOCATION:Recess Games
CATEGORIES:One Piece,thursday
ATTACH;FMTTYPE=image/png:https://rg-admin.net/wp-content/uploads/One-Piece-SQ-3.png
END:VEVENT
BEGIN:VEVENT
DTSTART;TZID=America/New_York:20240926T180000
DTEND;TZID=America/New_York:20240926T220000
DTSTAMP:20260420T104416
CREATED:20231102T014951Z
LAST-MODIFIED:20251105T172214Z
UID:10006150-1727373600-1727388000@rg-admin.net
SUMMARY:Marvel Crisis Protocol Open Play
DESCRIPTION:ki More Information \nMarvel: Crisis Protocol is a tabletop hobby miniatures game set in the Marvel Universe. \nGathering time to play 6:00 PM
URL:https://rg-admin.net/event/marvel-crisis-protocol-open-play-2/2024-09-26/
CATEGORIES:Marvel,Marvel Crisis Protocol,thursday
ATTACH;FMTTYPE=image/jpeg:https://rg-admin.net/wp-content/uploads/marvelcrisispro.jpeg
END:VEVENT
BEGIN:VEVENT
DTSTART;TZID=America/New_York:20240926T180000
DTEND;TZID=America/New_York:20240926T220000
DTSTAMP:20260420T104416
CREATED:20231121T223814Z
LAST-MODIFIED:20251105T172130Z
UID:10007550-1727373600-1727388000@rg-admin.net
SUMMARY:Kill Team Open Play
DESCRIPTION:MORE INFORMATION\nKill Team Open Play\n  \n 
URL:https://rg-admin.net/event/kill-team-open-play-2/2024-09-26/
CATEGORIES:games workshop,kill team,thursday
ATTACH;FMTTYPE=image/png:https://rg-admin.net/wp-content/uploads/Kill-Team-Open-Play.png
END:VEVENT
BEGIN:VEVENT
DTSTART;TZID=America/New_York:20240929T123000
DTEND;TZID=America/New_York:20240929T160000
DTSTAMP:20260420T104416
CREATED:20231106T220703Z
LAST-MODIFIED:20250524T201529Z
UID:10016519-1727613000-1727625600@rg-admin.net
SUMMARY:One Piece TCG Sunday Tournaments
DESCRIPTION:  \n  \n  \nOne Piece is an incredibly popular battle manga about pirates in a fantasy setting.
URL:https://rg-admin.net/event/one-piece-store-tournament/2024-09-29/
LOCATION:Recess Games
CATEGORIES:One Piece,thursday
ATTACH;FMTTYPE=image/png:https://rg-admin.net/wp-content/uploads/One-Piece-SQ-3.png
END:VEVENT
END:VCALENDAR