BEGIN:VCALENDAR
VERSION:2.0
PRODID:-// - ECPv6.15.20//NONSGML v1.0//EN
CALSCALE:GREGORIAN
METHOD:PUBLISH
X-ORIGINAL-URL:https://rg-admin.net
X-WR-CALDESC:Events for 
REFRESH-INTERVAL;VALUE=DURATION:PT1H
X-Robots-Tag:noindex
X-PUBLISHED-TTL:PT1H
BEGIN:VTIMEZONE
TZID:America/New_York
BEGIN:DAYLIGHT
TZOFFSETFROM:-0500
TZOFFSETTO:-0400
TZNAME:EDT
DTSTART:20280312T070000
END:DAYLIGHT
BEGIN:STANDARD
TZOFFSETFROM:-0400
TZOFFSETTO:-0500
TZNAME:EST
DTSTART:20281105T060000
END:STANDARD
BEGIN:DAYLIGHT
TZOFFSETFROM:-0500
TZOFFSETTO:-0400
TZNAME:EDT
DTSTART:20290311T070000
END:DAYLIGHT
BEGIN:STANDARD
TZOFFSETFROM:-0400
TZOFFSETTO:-0500
TZNAME:EST
DTSTART:20291104T060000
END:STANDARD
BEGIN:DAYLIGHT
TZOFFSETFROM:-0500
TZOFFSETTO:-0400
TZNAME:EDT
DTSTART:20300310T070000
END:DAYLIGHT
BEGIN:STANDARD
TZOFFSETFROM:-0400
TZOFFSETTO:-0500
TZNAME:EST
DTSTART:20301103T060000
END:STANDARD
END:VTIMEZONE
BEGIN:VEVENT
DTSTART;TZID=America/New_York:20290507T180000
DTEND;TZID=America/New_York:20290507T220000
DTSTAMP:20260422T130924
CREATED:20250521T235350Z
LAST-MODIFIED:20250524T203404Z
UID:10073241-1872871200-1872885600@rg-admin.net
SUMMARY:Supershow Monday Mayhem
DESCRIPTION:
URL:https://rg-admin.net/event/supershow-monday-mayhem/2029-05-07/
LOCATION:Recess Games
CATEGORIES:srg supershow
ATTACH;FMTTYPE=image/jpeg:https://rg-admin.net/wp-content/uploads/SRG-Supershow-Open-Play.jpg
END:VEVENT
BEGIN:VEVENT
DTSTART;TZID=America/New_York:20290514T180000
DTEND;TZID=America/New_York:20290514T220000
DTSTAMP:20260422T130924
CREATED:20250521T235350Z
LAST-MODIFIED:20250524T203404Z
UID:10073242-1873476000-1873490400@rg-admin.net
SUMMARY:Supershow Monday Mayhem
DESCRIPTION:
URL:https://rg-admin.net/event/supershow-monday-mayhem/2029-05-14/
LOCATION:Recess Games
CATEGORIES:srg supershow
ATTACH;FMTTYPE=image/jpeg:https://rg-admin.net/wp-content/uploads/SRG-Supershow-Open-Play.jpg
END:VEVENT
BEGIN:VEVENT
DTSTART;TZID=America/New_York:20290521T180000
DTEND;TZID=America/New_York:20290521T220000
DTSTAMP:20260422T130924
CREATED:20250521T235350Z
LAST-MODIFIED:20250524T203404Z
UID:10073243-1874080800-1874095200@rg-admin.net
SUMMARY:Supershow Monday Mayhem
DESCRIPTION:
URL:https://rg-admin.net/event/supershow-monday-mayhem/2029-05-21/
LOCATION:Recess Games
CATEGORIES:srg supershow
ATTACH;FMTTYPE=image/jpeg:https://rg-admin.net/wp-content/uploads/SRG-Supershow-Open-Play.jpg
END:VEVENT
BEGIN:VEVENT
DTSTART;TZID=America/New_York:20290528T180000
DTEND;TZID=America/New_York:20290528T220000
DTSTAMP:20260422T130924
CREATED:20250521T235350Z
LAST-MODIFIED:20250524T203404Z
UID:10073244-1874685600-1874700000@rg-admin.net
SUMMARY:Supershow Monday Mayhem
DESCRIPTION:
URL:https://rg-admin.net/event/supershow-monday-mayhem/2029-05-28/
LOCATION:Recess Games
CATEGORIES:srg supershow
ATTACH;FMTTYPE=image/jpeg:https://rg-admin.net/wp-content/uploads/SRG-Supershow-Open-Play.jpg
END:VEVENT
END:VCALENDAR