BEGIN:VCALENDAR
VERSION:2.0
PRODID:-// - ECPv6.15.20//NONSGML v1.0//EN
CALSCALE:GREGORIAN
METHOD:PUBLISH
X-ORIGINAL-URL:https://rg-admin.net
X-WR-CALDESC:Events for 
REFRESH-INTERVAL;VALUE=DURATION:PT1H
X-Robots-Tag:noindex
X-PUBLISHED-TTL:PT1H
BEGIN:VTIMEZONE
TZID:America/New_York
BEGIN:DAYLIGHT
TZOFFSETFROM:-0500
TZOFFSETTO:-0400
TZNAME:EDT
DTSTART:20270314T070000
END:DAYLIGHT
BEGIN:STANDARD
TZOFFSETFROM:-0400
TZOFFSETTO:-0500
TZNAME:EST
DTSTART:20271107T060000
END:STANDARD
BEGIN:DAYLIGHT
TZOFFSETFROM:-0500
TZOFFSETTO:-0400
TZNAME:EDT
DTSTART:20280312T070000
END:DAYLIGHT
BEGIN:STANDARD
TZOFFSETFROM:-0400
TZOFFSETTO:-0500
TZNAME:EST
DTSTART:20281105T060000
END:STANDARD
BEGIN:DAYLIGHT
TZOFFSETFROM:-0500
TZOFFSETTO:-0400
TZNAME:EDT
DTSTART:20290311T070000
END:DAYLIGHT
BEGIN:STANDARD
TZOFFSETFROM:-0400
TZOFFSETTO:-0500
TZNAME:EST
DTSTART:20291104T060000
END:STANDARD
BEGIN:DAYLIGHT
TZOFFSETFROM:-0500
TZOFFSETTO:-0400
TZNAME:EDT
DTSTART:20300310T070000
END:DAYLIGHT
BEGIN:STANDARD
TZOFFSETFROM:-0400
TZOFFSETTO:-0500
TZNAME:EST
DTSTART:20301103T060000
END:STANDARD
END:VTIMEZONE
BEGIN:VEVENT
DTSTART;TZID=America/New_York:20280720T180000
DTEND;TZID=America/New_York:20280720T220000
DTSTAMP:20260420T221644
CREATED:20231102T014951Z
LAST-MODIFIED:20251105T172214Z
UID:10006349-1847728800-1847743200@rg-admin.net
SUMMARY:Marvel Crisis Protocol Open Play
DESCRIPTION:ki More Information \nMarvel: Crisis Protocol is a tabletop hobby miniatures game set in the Marvel Universe. \nGathering time to play 6:00 PM
URL:https://rg-admin.net/event/marvel-crisis-protocol-open-play-2/2028-07-20/
CATEGORIES:Marvel,Marvel Crisis Protocol,thursday
ATTACH;FMTTYPE=image/jpeg:https://rg-admin.net/wp-content/uploads/marvelcrisispro.jpeg
END:VEVENT
BEGIN:VEVENT
DTSTART;TZID=America/New_York:20280727T180000
DTEND;TZID=America/New_York:20280727T220000
DTSTAMP:20260420T221644
CREATED:20231102T014951Z
LAST-MODIFIED:20251105T172214Z
UID:10006350-1848333600-1848348000@rg-admin.net
SUMMARY:Marvel Crisis Protocol Open Play
DESCRIPTION:ki More Information \nMarvel: Crisis Protocol is a tabletop hobby miniatures game set in the Marvel Universe. \nGathering time to play 6:00 PM
URL:https://rg-admin.net/event/marvel-crisis-protocol-open-play-2/2028-07-27/
CATEGORIES:Marvel,Marvel Crisis Protocol,thursday
ATTACH;FMTTYPE=image/jpeg:https://rg-admin.net/wp-content/uploads/marvelcrisispro.jpeg
END:VEVENT
BEGIN:VEVENT
DTSTART;TZID=America/New_York:20280803T180000
DTEND;TZID=America/New_York:20280803T220000
DTSTAMP:20260420T221644
CREATED:20231102T014951Z
LAST-MODIFIED:20251105T172214Z
UID:10006351-1848938400-1848952800@rg-admin.net
SUMMARY:Marvel Crisis Protocol Open Play
DESCRIPTION:ki More Information \nMarvel: Crisis Protocol is a tabletop hobby miniatures game set in the Marvel Universe. \nGathering time to play 6:00 PM
URL:https://rg-admin.net/event/marvel-crisis-protocol-open-play-2/2028-08-03/
CATEGORIES:Marvel,Marvel Crisis Protocol,thursday
ATTACH;FMTTYPE=image/jpeg:https://rg-admin.net/wp-content/uploads/marvelcrisispro.jpeg
END:VEVENT
BEGIN:VEVENT
DTSTART;TZID=America/New_York:20280810T180000
DTEND;TZID=America/New_York:20280810T220000
DTSTAMP:20260420T221644
CREATED:20231102T014951Z
LAST-MODIFIED:20251105T172214Z
UID:10006352-1849543200-1849557600@rg-admin.net
SUMMARY:Marvel Crisis Protocol Open Play
DESCRIPTION:ki More Information \nMarvel: Crisis Protocol is a tabletop hobby miniatures game set in the Marvel Universe. \nGathering time to play 6:00 PM
URL:https://rg-admin.net/event/marvel-crisis-protocol-open-play-2/2028-08-10/
CATEGORIES:Marvel,Marvel Crisis Protocol,thursday
ATTACH;FMTTYPE=image/jpeg:https://rg-admin.net/wp-content/uploads/marvelcrisispro.jpeg
END:VEVENT
BEGIN:VEVENT
DTSTART;TZID=America/New_York:20280817T180000
DTEND;TZID=America/New_York:20280817T220000
DTSTAMP:20260420T221644
CREATED:20231102T014951Z
LAST-MODIFIED:20251105T172214Z
UID:10006353-1850148000-1850162400@rg-admin.net
SUMMARY:Marvel Crisis Protocol Open Play
DESCRIPTION:ki More Information \nMarvel: Crisis Protocol is a tabletop hobby miniatures game set in the Marvel Universe. \nGathering time to play 6:00 PM
URL:https://rg-admin.net/event/marvel-crisis-protocol-open-play-2/2028-08-17/
CATEGORIES:Marvel,Marvel Crisis Protocol,thursday
ATTACH;FMTTYPE=image/jpeg:https://rg-admin.net/wp-content/uploads/marvelcrisispro.jpeg
END:VEVENT
BEGIN:VEVENT
DTSTART;TZID=America/New_York:20280824T180000
DTEND;TZID=America/New_York:20280824T220000
DTSTAMP:20260420T221644
CREATED:20231102T014951Z
LAST-MODIFIED:20251105T172214Z
UID:10006354-1850752800-1850767200@rg-admin.net
SUMMARY:Marvel Crisis Protocol Open Play
DESCRIPTION:ki More Information \nMarvel: Crisis Protocol is a tabletop hobby miniatures game set in the Marvel Universe. \nGathering time to play 6:00 PM
URL:https://rg-admin.net/event/marvel-crisis-protocol-open-play-2/2028-08-24/
CATEGORIES:Marvel,Marvel Crisis Protocol,thursday
ATTACH;FMTTYPE=image/jpeg:https://rg-admin.net/wp-content/uploads/marvelcrisispro.jpeg
END:VEVENT
BEGIN:VEVENT
DTSTART;TZID=America/New_York:20280831T180000
DTEND;TZID=America/New_York:20280831T220000
DTSTAMP:20260420T221644
CREATED:20231102T014951Z
LAST-MODIFIED:20251105T172214Z
UID:10006355-1851357600-1851372000@rg-admin.net
SUMMARY:Marvel Crisis Protocol Open Play
DESCRIPTION:ki More Information \nMarvel: Crisis Protocol is a tabletop hobby miniatures game set in the Marvel Universe. \nGathering time to play 6:00 PM
URL:https://rg-admin.net/event/marvel-crisis-protocol-open-play-2/2028-08-31/
CATEGORIES:Marvel,Marvel Crisis Protocol,thursday
ATTACH;FMTTYPE=image/jpeg:https://rg-admin.net/wp-content/uploads/marvelcrisispro.jpeg
END:VEVENT
BEGIN:VEVENT
DTSTART;TZID=America/New_York:20280907T180000
DTEND;TZID=America/New_York:20280907T220000
DTSTAMP:20260420T221644
CREATED:20231102T014951Z
LAST-MODIFIED:20251105T172214Z
UID:10006356-1851962400-1851976800@rg-admin.net
SUMMARY:Marvel Crisis Protocol Open Play
DESCRIPTION:ki More Information \nMarvel: Crisis Protocol is a tabletop hobby miniatures game set in the Marvel Universe. \nGathering time to play 6:00 PM
URL:https://rg-admin.net/event/marvel-crisis-protocol-open-play-2/2028-09-07/
CATEGORIES:Marvel,Marvel Crisis Protocol,thursday
ATTACH;FMTTYPE=image/jpeg:https://rg-admin.net/wp-content/uploads/marvelcrisispro.jpeg
END:VEVENT
BEGIN:VEVENT
DTSTART;TZID=America/New_York:20280914T180000
DTEND;TZID=America/New_York:20280914T220000
DTSTAMP:20260420T221644
CREATED:20231102T014951Z
LAST-MODIFIED:20251105T172214Z
UID:10006357-1852567200-1852581600@rg-admin.net
SUMMARY:Marvel Crisis Protocol Open Play
DESCRIPTION:ki More Information \nMarvel: Crisis Protocol is a tabletop hobby miniatures game set in the Marvel Universe. \nGathering time to play 6:00 PM
URL:https://rg-admin.net/event/marvel-crisis-protocol-open-play-2/2028-09-14/
CATEGORIES:Marvel,Marvel Crisis Protocol,thursday
ATTACH;FMTTYPE=image/jpeg:https://rg-admin.net/wp-content/uploads/marvelcrisispro.jpeg
END:VEVENT
BEGIN:VEVENT
DTSTART;TZID=America/New_York:20280921T180000
DTEND;TZID=America/New_York:20280921T220000
DTSTAMP:20260420T221644
CREATED:20231102T014951Z
LAST-MODIFIED:20251105T172214Z
UID:10006358-1853172000-1853186400@rg-admin.net
SUMMARY:Marvel Crisis Protocol Open Play
DESCRIPTION:ki More Information \nMarvel: Crisis Protocol is a tabletop hobby miniatures game set in the Marvel Universe. \nGathering time to play 6:00 PM
URL:https://rg-admin.net/event/marvel-crisis-protocol-open-play-2/2028-09-21/
CATEGORIES:Marvel,Marvel Crisis Protocol,thursday
ATTACH;FMTTYPE=image/jpeg:https://rg-admin.net/wp-content/uploads/marvelcrisispro.jpeg
END:VEVENT
BEGIN:VEVENT
DTSTART;TZID=America/New_York:20280928T180000
DTEND;TZID=America/New_York:20280928T220000
DTSTAMP:20260420T221644
CREATED:20231102T014951Z
LAST-MODIFIED:20251105T172214Z
UID:10006359-1853776800-1853791200@rg-admin.net
SUMMARY:Marvel Crisis Protocol Open Play
DESCRIPTION:ki More Information \nMarvel: Crisis Protocol is a tabletop hobby miniatures game set in the Marvel Universe. \nGathering time to play 6:00 PM
URL:https://rg-admin.net/event/marvel-crisis-protocol-open-play-2/2028-09-28/
CATEGORIES:Marvel,Marvel Crisis Protocol,thursday
ATTACH;FMTTYPE=image/jpeg:https://rg-admin.net/wp-content/uploads/marvelcrisispro.jpeg
END:VEVENT
BEGIN:VEVENT
DTSTART;TZID=America/New_York:20281005T180000
DTEND;TZID=America/New_York:20281005T220000
DTSTAMP:20260420T221644
CREATED:20231102T014951Z
LAST-MODIFIED:20251105T172214Z
UID:10006360-1854381600-1854396000@rg-admin.net
SUMMARY:Marvel Crisis Protocol Open Play
DESCRIPTION:ki More Information \nMarvel: Crisis Protocol is a tabletop hobby miniatures game set in the Marvel Universe. \nGathering time to play 6:00 PM
URL:https://rg-admin.net/event/marvel-crisis-protocol-open-play-2/2028-10-05/
CATEGORIES:Marvel,Marvel Crisis Protocol,thursday
ATTACH;FMTTYPE=image/jpeg:https://rg-admin.net/wp-content/uploads/marvelcrisispro.jpeg
END:VEVENT
BEGIN:VEVENT
DTSTART;TZID=America/New_York:20281012T180000
DTEND;TZID=America/New_York:20281012T220000
DTSTAMP:20260420T221644
CREATED:20231102T014951Z
LAST-MODIFIED:20251105T172214Z
UID:10006361-1854986400-1855000800@rg-admin.net
SUMMARY:Marvel Crisis Protocol Open Play
DESCRIPTION:ki More Information \nMarvel: Crisis Protocol is a tabletop hobby miniatures game set in the Marvel Universe. \nGathering time to play 6:00 PM
URL:https://rg-admin.net/event/marvel-crisis-protocol-open-play-2/2028-10-12/
CATEGORIES:Marvel,Marvel Crisis Protocol,thursday
ATTACH;FMTTYPE=image/jpeg:https://rg-admin.net/wp-content/uploads/marvelcrisispro.jpeg
END:VEVENT
BEGIN:VEVENT
DTSTART;TZID=America/New_York:20281019T180000
DTEND;TZID=America/New_York:20281019T220000
DTSTAMP:20260420T221644
CREATED:20231102T014951Z
LAST-MODIFIED:20251105T172214Z
UID:10006362-1855591200-1855605600@rg-admin.net
SUMMARY:Marvel Crisis Protocol Open Play
DESCRIPTION:ki More Information \nMarvel: Crisis Protocol is a tabletop hobby miniatures game set in the Marvel Universe. \nGathering time to play 6:00 PM
URL:https://rg-admin.net/event/marvel-crisis-protocol-open-play-2/2028-10-19/
CATEGORIES:Marvel,Marvel Crisis Protocol,thursday
ATTACH;FMTTYPE=image/jpeg:https://rg-admin.net/wp-content/uploads/marvelcrisispro.jpeg
END:VEVENT
BEGIN:VEVENT
DTSTART;TZID=America/New_York:20281026T180000
DTEND;TZID=America/New_York:20281026T220000
DTSTAMP:20260420T221644
CREATED:20231102T014951Z
LAST-MODIFIED:20251105T172214Z
UID:10006363-1856196000-1856210400@rg-admin.net
SUMMARY:Marvel Crisis Protocol Open Play
DESCRIPTION:ki More Information \nMarvel: Crisis Protocol is a tabletop hobby miniatures game set in the Marvel Universe. \nGathering time to play 6:00 PM
URL:https://rg-admin.net/event/marvel-crisis-protocol-open-play-2/2028-10-26/
CATEGORIES:Marvel,Marvel Crisis Protocol,thursday
ATTACH;FMTTYPE=image/jpeg:https://rg-admin.net/wp-content/uploads/marvelcrisispro.jpeg
END:VEVENT
BEGIN:VEVENT
DTSTART;TZID=America/New_York:20281102T180000
DTEND;TZID=America/New_York:20281102T220000
DTSTAMP:20260420T221644
CREATED:20231102T014951Z
LAST-MODIFIED:20251105T172214Z
UID:10015371-1856800800-1856815200@rg-admin.net
SUMMARY:Marvel Crisis Protocol Open Play
DESCRIPTION:ki More Information \nMarvel: Crisis Protocol is a tabletop hobby miniatures game set in the Marvel Universe. \nGathering time to play 6:00 PM
URL:https://rg-admin.net/event/marvel-crisis-protocol-open-play-2/2028-11-02/
CATEGORIES:Marvel,Marvel Crisis Protocol,thursday
ATTACH;FMTTYPE=image/jpeg:https://rg-admin.net/wp-content/uploads/marvelcrisispro.jpeg
END:VEVENT
BEGIN:VEVENT
DTSTART;TZID=America/New_York:20281109T180000
DTEND;TZID=America/New_York:20281109T220000
DTSTAMP:20260420T221644
CREATED:20231102T014951Z
LAST-MODIFIED:20251105T172214Z
UID:10015372-1857405600-1857420000@rg-admin.net
SUMMARY:Marvel Crisis Protocol Open Play
DESCRIPTION:ki More Information \nMarvel: Crisis Protocol is a tabletop hobby miniatures game set in the Marvel Universe. \nGathering time to play 6:00 PM
URL:https://rg-admin.net/event/marvel-crisis-protocol-open-play-2/2028-11-09/
CATEGORIES:Marvel,Marvel Crisis Protocol,thursday
ATTACH;FMTTYPE=image/jpeg:https://rg-admin.net/wp-content/uploads/marvelcrisispro.jpeg
END:VEVENT
BEGIN:VEVENT
DTSTART;TZID=America/New_York:20281116T180000
DTEND;TZID=America/New_York:20281116T220000
DTSTAMP:20260420T221644
CREATED:20231102T014951Z
LAST-MODIFIED:20251105T172214Z
UID:10015373-1858010400-1858024800@rg-admin.net
SUMMARY:Marvel Crisis Protocol Open Play
DESCRIPTION:ki More Information \nMarvel: Crisis Protocol is a tabletop hobby miniatures game set in the Marvel Universe. \nGathering time to play 6:00 PM
URL:https://rg-admin.net/event/marvel-crisis-protocol-open-play-2/2028-11-16/
CATEGORIES:Marvel,Marvel Crisis Protocol,thursday
ATTACH;FMTTYPE=image/jpeg:https://rg-admin.net/wp-content/uploads/marvelcrisispro.jpeg
END:VEVENT
BEGIN:VEVENT
DTSTART;TZID=America/New_York:20281123T180000
DTEND;TZID=America/New_York:20281123T220000
DTSTAMP:20260420T221644
CREATED:20231102T014951Z
LAST-MODIFIED:20251105T172214Z
UID:10015374-1858615200-1858629600@rg-admin.net
SUMMARY:Marvel Crisis Protocol Open Play
DESCRIPTION:ki More Information \nMarvel: Crisis Protocol is a tabletop hobby miniatures game set in the Marvel Universe. \nGathering time to play 6:00 PM
URL:https://rg-admin.net/event/marvel-crisis-protocol-open-play-2/2028-11-23/
CATEGORIES:Marvel,Marvel Crisis Protocol,thursday
ATTACH;FMTTYPE=image/jpeg:https://rg-admin.net/wp-content/uploads/marvelcrisispro.jpeg
END:VEVENT
BEGIN:VEVENT
DTSTART;TZID=America/New_York:20281130T180000
DTEND;TZID=America/New_York:20281130T220000
DTSTAMP:20260420T221644
CREATED:20231102T014951Z
LAST-MODIFIED:20251105T172214Z
UID:10015375-1859220000-1859234400@rg-admin.net
SUMMARY:Marvel Crisis Protocol Open Play
DESCRIPTION:ki More Information \nMarvel: Crisis Protocol is a tabletop hobby miniatures game set in the Marvel Universe. \nGathering time to play 6:00 PM
URL:https://rg-admin.net/event/marvel-crisis-protocol-open-play-2/2028-11-30/
CATEGORIES:Marvel,Marvel Crisis Protocol,thursday
ATTACH;FMTTYPE=image/jpeg:https://rg-admin.net/wp-content/uploads/marvelcrisispro.jpeg
END:VEVENT
BEGIN:VEVENT
DTSTART;TZID=America/New_York:20281207T180000
DTEND;TZID=America/New_York:20281207T220000
DTSTAMP:20260420T221644
CREATED:20231102T014951Z
LAST-MODIFIED:20251105T172214Z
UID:10015376-1859824800-1859839200@rg-admin.net
SUMMARY:Marvel Crisis Protocol Open Play
DESCRIPTION:ki More Information \nMarvel: Crisis Protocol is a tabletop hobby miniatures game set in the Marvel Universe. \nGathering time to play 6:00 PM
URL:https://rg-admin.net/event/marvel-crisis-protocol-open-play-2/2028-12-07/
CATEGORIES:Marvel,Marvel Crisis Protocol,thursday
ATTACH;FMTTYPE=image/jpeg:https://rg-admin.net/wp-content/uploads/marvelcrisispro.jpeg
END:VEVENT
BEGIN:VEVENT
DTSTART;TZID=America/New_York:20281214T180000
DTEND;TZID=America/New_York:20281214T220000
DTSTAMP:20260420T221644
CREATED:20231102T014951Z
LAST-MODIFIED:20251105T172214Z
UID:10015377-1860429600-1860444000@rg-admin.net
SUMMARY:Marvel Crisis Protocol Open Play
DESCRIPTION:ki More Information \nMarvel: Crisis Protocol is a tabletop hobby miniatures game set in the Marvel Universe. \nGathering time to play 6:00 PM
URL:https://rg-admin.net/event/marvel-crisis-protocol-open-play-2/2028-12-14/
CATEGORIES:Marvel,Marvel Crisis Protocol,thursday
ATTACH;FMTTYPE=image/jpeg:https://rg-admin.net/wp-content/uploads/marvelcrisispro.jpeg
END:VEVENT
BEGIN:VEVENT
DTSTART;TZID=America/New_York:20281221T180000
DTEND;TZID=America/New_York:20281221T220000
DTSTAMP:20260420T221644
CREATED:20231102T014951Z
LAST-MODIFIED:20251105T172214Z
UID:10015378-1861034400-1861048800@rg-admin.net
SUMMARY:Marvel Crisis Protocol Open Play
DESCRIPTION:ki More Information \nMarvel: Crisis Protocol is a tabletop hobby miniatures game set in the Marvel Universe. \nGathering time to play 6:00 PM
URL:https://rg-admin.net/event/marvel-crisis-protocol-open-play-2/2028-12-21/
CATEGORIES:Marvel,Marvel Crisis Protocol,thursday
ATTACH;FMTTYPE=image/jpeg:https://rg-admin.net/wp-content/uploads/marvelcrisispro.jpeg
END:VEVENT
BEGIN:VEVENT
DTSTART;TZID=America/New_York:20281228T180000
DTEND;TZID=America/New_York:20281228T220000
DTSTAMP:20260420T221644
CREATED:20231102T014951Z
LAST-MODIFIED:20251105T172214Z
UID:10015379-1861639200-1861653600@rg-admin.net
SUMMARY:Marvel Crisis Protocol Open Play
DESCRIPTION:ki More Information \nMarvel: Crisis Protocol is a tabletop hobby miniatures game set in the Marvel Universe. \nGathering time to play 6:00 PM
URL:https://rg-admin.net/event/marvel-crisis-protocol-open-play-2/2028-12-28/
CATEGORIES:Marvel,Marvel Crisis Protocol,thursday
ATTACH;FMTTYPE=image/jpeg:https://rg-admin.net/wp-content/uploads/marvelcrisispro.jpeg
END:VEVENT
BEGIN:VEVENT
DTSTART;TZID=America/New_York:20290104T180000
DTEND;TZID=America/New_York:20290104T220000
DTSTAMP:20260420T221644
CREATED:20231102T014951Z
LAST-MODIFIED:20251105T172214Z
UID:10015380-1862244000-1862258400@rg-admin.net
SUMMARY:Marvel Crisis Protocol Open Play
DESCRIPTION:ki More Information \nMarvel: Crisis Protocol is a tabletop hobby miniatures game set in the Marvel Universe. \nGathering time to play 6:00 PM
URL:https://rg-admin.net/event/marvel-crisis-protocol-open-play-2/2029-01-04/
CATEGORIES:Marvel,Marvel Crisis Protocol,thursday
ATTACH;FMTTYPE=image/jpeg:https://rg-admin.net/wp-content/uploads/marvelcrisispro.jpeg
END:VEVENT
BEGIN:VEVENT
DTSTART;TZID=America/New_York:20290111T180000
DTEND;TZID=America/New_York:20290111T220000
DTSTAMP:20260420T221644
CREATED:20231102T014951Z
LAST-MODIFIED:20251105T172214Z
UID:10015381-1862848800-1862863200@rg-admin.net
SUMMARY:Marvel Crisis Protocol Open Play
DESCRIPTION:ki More Information \nMarvel: Crisis Protocol is a tabletop hobby miniatures game set in the Marvel Universe. \nGathering time to play 6:00 PM
URL:https://rg-admin.net/event/marvel-crisis-protocol-open-play-2/2029-01-11/
CATEGORIES:Marvel,Marvel Crisis Protocol,thursday
ATTACH;FMTTYPE=image/jpeg:https://rg-admin.net/wp-content/uploads/marvelcrisispro.jpeg
END:VEVENT
BEGIN:VEVENT
DTSTART;TZID=America/New_York:20290118T180000
DTEND;TZID=America/New_York:20290118T220000
DTSTAMP:20260420T221644
CREATED:20231102T014951Z
LAST-MODIFIED:20251105T172214Z
UID:10015382-1863453600-1863468000@rg-admin.net
SUMMARY:Marvel Crisis Protocol Open Play
DESCRIPTION:ki More Information \nMarvel: Crisis Protocol is a tabletop hobby miniatures game set in the Marvel Universe. \nGathering time to play 6:00 PM
URL:https://rg-admin.net/event/marvel-crisis-protocol-open-play-2/2029-01-18/
CATEGORIES:Marvel,Marvel Crisis Protocol,thursday
ATTACH;FMTTYPE=image/jpeg:https://rg-admin.net/wp-content/uploads/marvelcrisispro.jpeg
END:VEVENT
BEGIN:VEVENT
DTSTART;TZID=America/New_York:20290125T180000
DTEND;TZID=America/New_York:20290125T220000
DTSTAMP:20260420T221644
CREATED:20231102T014951Z
LAST-MODIFIED:20251105T172214Z
UID:10015383-1864058400-1864072800@rg-admin.net
SUMMARY:Marvel Crisis Protocol Open Play
DESCRIPTION:ki More Information \nMarvel: Crisis Protocol is a tabletop hobby miniatures game set in the Marvel Universe. \nGathering time to play 6:00 PM
URL:https://rg-admin.net/event/marvel-crisis-protocol-open-play-2/2029-01-25/
CATEGORIES:Marvel,Marvel Crisis Protocol,thursday
ATTACH;FMTTYPE=image/jpeg:https://rg-admin.net/wp-content/uploads/marvelcrisispro.jpeg
END:VEVENT
BEGIN:VEVENT
DTSTART;TZID=America/New_York:20290201T180000
DTEND;TZID=America/New_York:20290201T220000
DTSTAMP:20260420T221644
CREATED:20231102T014951Z
LAST-MODIFIED:20251105T172214Z
UID:10015384-1864663200-1864677600@rg-admin.net
SUMMARY:Marvel Crisis Protocol Open Play
DESCRIPTION:ki More Information \nMarvel: Crisis Protocol is a tabletop hobby miniatures game set in the Marvel Universe. \nGathering time to play 6:00 PM
URL:https://rg-admin.net/event/marvel-crisis-protocol-open-play-2/2029-02-01/
CATEGORIES:Marvel,Marvel Crisis Protocol,thursday
ATTACH;FMTTYPE=image/jpeg:https://rg-admin.net/wp-content/uploads/marvelcrisispro.jpeg
END:VEVENT
BEGIN:VEVENT
DTSTART;TZID=America/New_York:20290208T180000
DTEND;TZID=America/New_York:20290208T220000
DTSTAMP:20260420T221644
CREATED:20231102T014951Z
LAST-MODIFIED:20251105T172214Z
UID:10015385-1865268000-1865282400@rg-admin.net
SUMMARY:Marvel Crisis Protocol Open Play
DESCRIPTION:ki More Information \nMarvel: Crisis Protocol is a tabletop hobby miniatures game set in the Marvel Universe. \nGathering time to play 6:00 PM
URL:https://rg-admin.net/event/marvel-crisis-protocol-open-play-2/2029-02-08/
CATEGORIES:Marvel,Marvel Crisis Protocol,thursday
ATTACH;FMTTYPE=image/jpeg:https://rg-admin.net/wp-content/uploads/marvelcrisispro.jpeg
END:VEVENT
END:VCALENDAR