BEGIN:VCALENDAR
VERSION:2.0
PRODID:-// - ECPv6.15.20//NONSGML v1.0//EN
CALSCALE:GREGORIAN
METHOD:PUBLISH
X-ORIGINAL-URL:https://rg-admin.net
X-WR-CALDESC:Events for 
REFRESH-INTERVAL;VALUE=DURATION:PT1H
X-Robots-Tag:noindex
X-PUBLISHED-TTL:PT1H
BEGIN:VTIMEZONE
TZID:America/New_York
BEGIN:DAYLIGHT
TZOFFSETFROM:-0500
TZOFFSETTO:-0400
TZNAME:EDT
DTSTART:20270314T070000
END:DAYLIGHT
BEGIN:STANDARD
TZOFFSETFROM:-0400
TZOFFSETTO:-0500
TZNAME:EST
DTSTART:20271107T060000
END:STANDARD
BEGIN:DAYLIGHT
TZOFFSETFROM:-0500
TZOFFSETTO:-0400
TZNAME:EDT
DTSTART:20280312T070000
END:DAYLIGHT
BEGIN:STANDARD
TZOFFSETFROM:-0400
TZOFFSETTO:-0500
TZNAME:EST
DTSTART:20281105T060000
END:STANDARD
BEGIN:DAYLIGHT
TZOFFSETFROM:-0500
TZOFFSETTO:-0400
TZNAME:EDT
DTSTART:20290311T070000
END:DAYLIGHT
BEGIN:STANDARD
TZOFFSETFROM:-0400
TZOFFSETTO:-0500
TZNAME:EST
DTSTART:20291104T060000
END:STANDARD
BEGIN:DAYLIGHT
TZOFFSETFROM:-0500
TZOFFSETTO:-0400
TZNAME:EDT
DTSTART:20300310T070000
END:DAYLIGHT
BEGIN:STANDARD
TZOFFSETFROM:-0400
TZOFFSETTO:-0500
TZNAME:EST
DTSTART:20301103T060000
END:STANDARD
BEGIN:DAYLIGHT
TZOFFSETFROM:-0500
TZOFFSETTO:-0400
TZNAME:EDT
DTSTART:20310309T070000
END:DAYLIGHT
BEGIN:STANDARD
TZOFFSETFROM:-0400
TZOFFSETTO:-0500
TZNAME:EST
DTSTART:20311102T060000
END:STANDARD
END:VTIMEZONE
BEGIN:VEVENT
DTSTART;TZID=America/New_York:20281124T190000
DTEND;TZID=America/New_York:20281124T230000
DTSTAMP:20260422T214305
CREATED:20250724T184434Z
LAST-MODIFIED:20250724T184435Z
UID:10103968-1858705200-1858719600@rg-admin.net
SUMMARY:Marvel Champions Organized Play
DESCRIPTION:
URL:https://rg-admin.net/event/marvel-champions-organized-play-2-2/2028-11-24/
LOCATION:Recess Games
CATEGORIES:Marvel,Marvel Champions
ATTACH;FMTTYPE=image/png:https://rg-admin.net/wp-content/uploads/Marvel-Champions-FB.png
END:VEVENT
BEGIN:VEVENT
DTSTART;TZID=America/New_York:20281208T190000
DTEND;TZID=America/New_York:20281208T230000
DTSTAMP:20260422T214305
CREATED:20250724T184434Z
LAST-MODIFIED:20250724T184435Z
UID:10105402-1859914800-1859929200@rg-admin.net
SUMMARY:Marvel Champions Organized Play
DESCRIPTION:
URL:https://rg-admin.net/event/marvel-champions-organized-play-2-2/2028-12-08/
LOCATION:Recess Games
CATEGORIES:Marvel,Marvel Champions
ATTACH;FMTTYPE=image/png:https://rg-admin.net/wp-content/uploads/Marvel-Champions-FB.png
END:VEVENT
BEGIN:VEVENT
DTSTART;TZID=America/New_York:20281222T190000
DTEND;TZID=America/New_York:20281222T230000
DTSTAMP:20260422T214305
CREATED:20250724T184434Z
LAST-MODIFIED:20250724T184435Z
UID:10103969-1861124400-1861138800@rg-admin.net
SUMMARY:Marvel Champions Organized Play
DESCRIPTION:
URL:https://rg-admin.net/event/marvel-champions-organized-play-2-2/2028-12-22/
LOCATION:Recess Games
CATEGORIES:Marvel,Marvel Champions
ATTACH;FMTTYPE=image/png:https://rg-admin.net/wp-content/uploads/Marvel-Champions-FB.png
END:VEVENT
BEGIN:VEVENT
DTSTART;TZID=America/New_York:20290105T190000
DTEND;TZID=America/New_York:20290105T230000
DTSTAMP:20260422T214305
CREATED:20250724T184434Z
LAST-MODIFIED:20250724T184435Z
UID:10105403-1862334000-1862348400@rg-admin.net
SUMMARY:Marvel Champions Organized Play
DESCRIPTION:
URL:https://rg-admin.net/event/marvel-champions-organized-play-2-2/2029-01-05/
LOCATION:Recess Games
CATEGORIES:Marvel,Marvel Champions
ATTACH;FMTTYPE=image/png:https://rg-admin.net/wp-content/uploads/Marvel-Champions-FB.png
END:VEVENT
BEGIN:VEVENT
DTSTART;TZID=America/New_York:20290119T190000
DTEND;TZID=America/New_York:20290119T230000
DTSTAMP:20260422T214305
CREATED:20250724T184434Z
LAST-MODIFIED:20250724T184435Z
UID:10105404-1863543600-1863558000@rg-admin.net
SUMMARY:Marvel Champions Organized Play
DESCRIPTION:
URL:https://rg-admin.net/event/marvel-champions-organized-play-2-2/2029-01-19/
LOCATION:Recess Games
CATEGORIES:Marvel,Marvel Champions
ATTACH;FMTTYPE=image/png:https://rg-admin.net/wp-content/uploads/Marvel-Champions-FB.png
END:VEVENT
BEGIN:VEVENT
DTSTART;TZID=America/New_York:20290202T190000
DTEND;TZID=America/New_York:20290202T230000
DTSTAMP:20260422T214305
CREATED:20250724T184434Z
LAST-MODIFIED:20250724T184435Z
UID:10105405-1864753200-1864767600@rg-admin.net
SUMMARY:Marvel Champions Organized Play
DESCRIPTION:
URL:https://rg-admin.net/event/marvel-champions-organized-play-2-2/2029-02-02/
LOCATION:Recess Games
CATEGORIES:Marvel,Marvel Champions
ATTACH;FMTTYPE=image/png:https://rg-admin.net/wp-content/uploads/Marvel-Champions-FB.png
END:VEVENT
BEGIN:VEVENT
DTSTART;TZID=America/New_York:20290216T190000
DTEND;TZID=America/New_York:20290216T230000
DTSTAMP:20260422T214305
CREATED:20250724T184434Z
LAST-MODIFIED:20250724T184435Z
UID:10105406-1865962800-1865977200@rg-admin.net
SUMMARY:Marvel Champions Organized Play
DESCRIPTION:
URL:https://rg-admin.net/event/marvel-champions-organized-play-2-2/2029-02-16/
LOCATION:Recess Games
CATEGORIES:Marvel,Marvel Champions
ATTACH;FMTTYPE=image/png:https://rg-admin.net/wp-content/uploads/Marvel-Champions-FB.png
END:VEVENT
BEGIN:VEVENT
DTSTART;TZID=America/New_York:20290302T190000
DTEND;TZID=America/New_York:20290302T230000
DTSTAMP:20260422T214305
CREATED:20250724T184434Z
LAST-MODIFIED:20250724T184435Z
UID:10105407-1867172400-1867186800@rg-admin.net
SUMMARY:Marvel Champions Organized Play
DESCRIPTION:
URL:https://rg-admin.net/event/marvel-champions-organized-play-2-2/2029-03-02/
LOCATION:Recess Games
CATEGORIES:Marvel,Marvel Champions
ATTACH;FMTTYPE=image/png:https://rg-admin.net/wp-content/uploads/Marvel-Champions-FB.png
END:VEVENT
BEGIN:VEVENT
DTSTART;TZID=America/New_York:20290316T190000
DTEND;TZID=America/New_York:20290316T230000
DTSTAMP:20260422T214305
CREATED:20250724T184434Z
LAST-MODIFIED:20250724T184435Z
UID:10105408-1868382000-1868396400@rg-admin.net
SUMMARY:Marvel Champions Organized Play
DESCRIPTION:
URL:https://rg-admin.net/event/marvel-champions-organized-play-2-2/2029-03-16/
LOCATION:Recess Games
CATEGORIES:Marvel,Marvel Champions
ATTACH;FMTTYPE=image/png:https://rg-admin.net/wp-content/uploads/Marvel-Champions-FB.png
END:VEVENT
BEGIN:VEVENT
DTSTART;TZID=America/New_York:20290330T190000
DTEND;TZID=America/New_York:20290330T230000
DTSTAMP:20260422T214305
CREATED:20250724T184434Z
LAST-MODIFIED:20250724T184435Z
UID:10105409-1869591600-1869606000@rg-admin.net
SUMMARY:Marvel Champions Organized Play
DESCRIPTION:
URL:https://rg-admin.net/event/marvel-champions-organized-play-2-2/2029-03-30/
LOCATION:Recess Games
CATEGORIES:Marvel,Marvel Champions
ATTACH;FMTTYPE=image/png:https://rg-admin.net/wp-content/uploads/Marvel-Champions-FB.png
END:VEVENT
BEGIN:VEVENT
DTSTART;TZID=America/New_York:20290413T190000
DTEND;TZID=America/New_York:20290413T230000
DTSTAMP:20260422T214305
CREATED:20250724T184434Z
LAST-MODIFIED:20250724T184435Z
UID:10105410-1870801200-1870815600@rg-admin.net
SUMMARY:Marvel Champions Organized Play
DESCRIPTION:
URL:https://rg-admin.net/event/marvel-champions-organized-play-2-2/2029-04-13/
LOCATION:Recess Games
CATEGORIES:Marvel,Marvel Champions
ATTACH;FMTTYPE=image/png:https://rg-admin.net/wp-content/uploads/Marvel-Champions-FB.png
END:VEVENT
BEGIN:VEVENT
DTSTART;TZID=America/New_York:20290427T190000
DTEND;TZID=America/New_York:20290427T230000
DTSTAMP:20260422T214305
CREATED:20250724T184434Z
LAST-MODIFIED:20250724T184435Z
UID:10103973-1872010800-1872025200@rg-admin.net
SUMMARY:Marvel Champions Organized Play
DESCRIPTION:
URL:https://rg-admin.net/event/marvel-champions-organized-play-2-2/2029-04-27/
LOCATION:Recess Games
CATEGORIES:Marvel,Marvel Champions
ATTACH;FMTTYPE=image/png:https://rg-admin.net/wp-content/uploads/Marvel-Champions-FB.png
END:VEVENT
BEGIN:VEVENT
DTSTART;TZID=America/New_York:20290511T190000
DTEND;TZID=America/New_York:20290511T230000
DTSTAMP:20260422T214305
CREATED:20250724T184434Z
LAST-MODIFIED:20250724T184435Z
UID:10105411-1873220400-1873234800@rg-admin.net
SUMMARY:Marvel Champions Organized Play
DESCRIPTION:
URL:https://rg-admin.net/event/marvel-champions-organized-play-2-2/2029-05-11/
LOCATION:Recess Games
CATEGORIES:Marvel,Marvel Champions
ATTACH;FMTTYPE=image/png:https://rg-admin.net/wp-content/uploads/Marvel-Champions-FB.png
END:VEVENT
BEGIN:VEVENT
DTSTART;TZID=America/New_York:20290525T190000
DTEND;TZID=America/New_York:20290525T230000
DTSTAMP:20260422T214305
CREATED:20250724T184434Z
LAST-MODIFIED:20250724T184435Z
UID:10103974-1874430000-1874444400@rg-admin.net
SUMMARY:Marvel Champions Organized Play
DESCRIPTION:
URL:https://rg-admin.net/event/marvel-champions-organized-play-2-2/2029-05-25/
LOCATION:Recess Games
CATEGORIES:Marvel,Marvel Champions
ATTACH;FMTTYPE=image/png:https://rg-admin.net/wp-content/uploads/Marvel-Champions-FB.png
END:VEVENT
BEGIN:VEVENT
DTSTART;TZID=America/New_York:20290608T190000
DTEND;TZID=America/New_York:20290608T230000
DTSTAMP:20260422T214305
CREATED:20250724T184434Z
LAST-MODIFIED:20250724T184435Z
UID:10105412-1875639600-1875654000@rg-admin.net
SUMMARY:Marvel Champions Organized Play
DESCRIPTION:
URL:https://rg-admin.net/event/marvel-champions-organized-play-2-2/2029-06-08/
LOCATION:Recess Games
CATEGORIES:Marvel,Marvel Champions
ATTACH;FMTTYPE=image/png:https://rg-admin.net/wp-content/uploads/Marvel-Champions-FB.png
END:VEVENT
BEGIN:VEVENT
DTSTART;TZID=America/New_York:20290622T190000
DTEND;TZID=America/New_York:20290622T230000
DTSTAMP:20260422T214305
CREATED:20250724T184434Z
LAST-MODIFIED:20250724T184435Z
UID:10103975-1876849200-1876863600@rg-admin.net
SUMMARY:Marvel Champions Organized Play
DESCRIPTION:
URL:https://rg-admin.net/event/marvel-champions-organized-play-2-2/2029-06-22/
LOCATION:Recess Games
CATEGORIES:Marvel,Marvel Champions
ATTACH;FMTTYPE=image/png:https://rg-admin.net/wp-content/uploads/Marvel-Champions-FB.png
END:VEVENT
BEGIN:VEVENT
DTSTART;TZID=America/New_York:20290706T190000
DTEND;TZID=America/New_York:20290706T230000
DTSTAMP:20260422T214305
CREATED:20250724T184434Z
LAST-MODIFIED:20250724T184435Z
UID:10105413-1878058800-1878073200@rg-admin.net
SUMMARY:Marvel Champions Organized Play
DESCRIPTION:
URL:https://rg-admin.net/event/marvel-champions-organized-play-2-2/2029-07-06/
LOCATION:Recess Games
CATEGORIES:Marvel,Marvel Champions
ATTACH;FMTTYPE=image/png:https://rg-admin.net/wp-content/uploads/Marvel-Champions-FB.png
END:VEVENT
BEGIN:VEVENT
DTSTART;TZID=America/New_York:20290720T190000
DTEND;TZID=America/New_York:20290720T230000
DTSTAMP:20260422T214305
CREATED:20250724T184434Z
LAST-MODIFIED:20250724T184435Z
UID:10105414-1879268400-1879282800@rg-admin.net
SUMMARY:Marvel Champions Organized Play
DESCRIPTION:
URL:https://rg-admin.net/event/marvel-champions-organized-play-2-2/2029-07-20/
LOCATION:Recess Games
CATEGORIES:Marvel,Marvel Champions
ATTACH;FMTTYPE=image/png:https://rg-admin.net/wp-content/uploads/Marvel-Champions-FB.png
END:VEVENT
BEGIN:VEVENT
DTSTART;TZID=America/New_York:20290803T190000
DTEND;TZID=America/New_York:20290803T230000
DTSTAMP:20260422T214305
CREATED:20250724T184434Z
LAST-MODIFIED:20250724T184435Z
UID:10105415-1880478000-1880492400@rg-admin.net
SUMMARY:Marvel Champions Organized Play
DESCRIPTION:
URL:https://rg-admin.net/event/marvel-champions-organized-play-2-2/2029-08-03/
LOCATION:Recess Games
CATEGORIES:Marvel,Marvel Champions
ATTACH;FMTTYPE=image/png:https://rg-admin.net/wp-content/uploads/Marvel-Champions-FB.png
END:VEVENT
BEGIN:VEVENT
DTSTART;TZID=America/New_York:20290817T190000
DTEND;TZID=America/New_York:20290817T230000
DTSTAMP:20260422T214305
CREATED:20250724T184434Z
LAST-MODIFIED:20250724T184435Z
UID:10105416-1881687600-1881702000@rg-admin.net
SUMMARY:Marvel Champions Organized Play
DESCRIPTION:
URL:https://rg-admin.net/event/marvel-champions-organized-play-2-2/2029-08-17/
LOCATION:Recess Games
CATEGORIES:Marvel,Marvel Champions
ATTACH;FMTTYPE=image/png:https://rg-admin.net/wp-content/uploads/Marvel-Champions-FB.png
END:VEVENT
BEGIN:VEVENT
DTSTART;TZID=America/New_York:20290831T190000
DTEND;TZID=America/New_York:20290831T230000
DTSTAMP:20260422T214306
CREATED:20250724T184434Z
LAST-MODIFIED:20250724T184435Z
UID:10105417-1882897200-1882911600@rg-admin.net
SUMMARY:Marvel Champions Organized Play
DESCRIPTION:
URL:https://rg-admin.net/event/marvel-champions-organized-play-2-2/2029-08-31/
LOCATION:Recess Games
CATEGORIES:Marvel,Marvel Champions
ATTACH;FMTTYPE=image/png:https://rg-admin.net/wp-content/uploads/Marvel-Champions-FB.png
END:VEVENT
BEGIN:VEVENT
DTSTART;TZID=America/New_York:20290914T190000
DTEND;TZID=America/New_York:20290914T230000
DTSTAMP:20260422T214306
CREATED:20250724T184434Z
LAST-MODIFIED:20250724T184435Z
UID:10105418-1884106800-1884121200@rg-admin.net
SUMMARY:Marvel Champions Organized Play
DESCRIPTION:
URL:https://rg-admin.net/event/marvel-champions-organized-play-2-2/2029-09-14/
LOCATION:Recess Games
CATEGORIES:Marvel,Marvel Champions
ATTACH;FMTTYPE=image/png:https://rg-admin.net/wp-content/uploads/Marvel-Champions-FB.png
END:VEVENT
BEGIN:VEVENT
DTSTART;TZID=America/New_York:20290928T190000
DTEND;TZID=America/New_York:20290928T230000
DTSTAMP:20260422T214306
CREATED:20250724T184434Z
LAST-MODIFIED:20250724T184435Z
UID:10103978-1885316400-1885330800@rg-admin.net
SUMMARY:Marvel Champions Organized Play
DESCRIPTION:
URL:https://rg-admin.net/event/marvel-champions-organized-play-2-2/2029-09-28/
LOCATION:Recess Games
CATEGORIES:Marvel,Marvel Champions
ATTACH;FMTTYPE=image/png:https://rg-admin.net/wp-content/uploads/Marvel-Champions-FB.png
END:VEVENT
BEGIN:VEVENT
DTSTART;TZID=America/New_York:20291012T190000
DTEND;TZID=America/New_York:20291012T230000
DTSTAMP:20260422T214306
CREATED:20250724T184434Z
LAST-MODIFIED:20250724T184435Z
UID:10105419-1886526000-1886540400@rg-admin.net
SUMMARY:Marvel Champions Organized Play
DESCRIPTION:
URL:https://rg-admin.net/event/marvel-champions-organized-play-2-2/2029-10-12/
LOCATION:Recess Games
CATEGORIES:Marvel,Marvel Champions
ATTACH;FMTTYPE=image/png:https://rg-admin.net/wp-content/uploads/Marvel-Champions-FB.png
END:VEVENT
BEGIN:VEVENT
DTSTART;TZID=America/New_York:20291026T190000
DTEND;TZID=America/New_York:20291026T230000
DTSTAMP:20260422T214306
CREATED:20250724T184434Z
LAST-MODIFIED:20250724T184435Z
UID:10103979-1887735600-1887750000@rg-admin.net
SUMMARY:Marvel Champions Organized Play
DESCRIPTION:
URL:https://rg-admin.net/event/marvel-champions-organized-play-2-2/2029-10-26/
LOCATION:Recess Games
CATEGORIES:Marvel,Marvel Champions
ATTACH;FMTTYPE=image/png:https://rg-admin.net/wp-content/uploads/Marvel-Champions-FB.png
END:VEVENT
BEGIN:VEVENT
DTSTART;TZID=America/New_York:20291109T190000
DTEND;TZID=America/New_York:20291109T230000
DTSTAMP:20260422T214306
CREATED:20250724T184434Z
LAST-MODIFIED:20250724T184435Z
UID:10105420-1888945200-1888959600@rg-admin.net
SUMMARY:Marvel Champions Organized Play
DESCRIPTION:
URL:https://rg-admin.net/event/marvel-champions-organized-play-2-2/2029-11-09/
LOCATION:Recess Games
CATEGORIES:Marvel,Marvel Champions
ATTACH;FMTTYPE=image/png:https://rg-admin.net/wp-content/uploads/Marvel-Champions-FB.png
END:VEVENT
BEGIN:VEVENT
DTSTART;TZID=America/New_York:20291123T190000
DTEND;TZID=America/New_York:20291123T230000
DTSTAMP:20260422T214306
CREATED:20250724T184434Z
LAST-MODIFIED:20250724T184435Z
UID:10103980-1890154800-1890169200@rg-admin.net
SUMMARY:Marvel Champions Organized Play
DESCRIPTION:
URL:https://rg-admin.net/event/marvel-champions-organized-play-2-2/2029-11-23/
LOCATION:Recess Games
CATEGORIES:Marvel,Marvel Champions
ATTACH;FMTTYPE=image/png:https://rg-admin.net/wp-content/uploads/Marvel-Champions-FB.png
END:VEVENT
BEGIN:VEVENT
DTSTART;TZID=America/New_York:20291207T190000
DTEND;TZID=America/New_York:20291207T230000
DTSTAMP:20260422T214306
CREATED:20250724T184434Z
LAST-MODIFIED:20250724T184435Z
UID:10105421-1891364400-1891378800@rg-admin.net
SUMMARY:Marvel Champions Organized Play
DESCRIPTION:
URL:https://rg-admin.net/event/marvel-champions-organized-play-2-2/2029-12-07/
LOCATION:Recess Games
CATEGORIES:Marvel,Marvel Champions
ATTACH;FMTTYPE=image/png:https://rg-admin.net/wp-content/uploads/Marvel-Champions-FB.png
END:VEVENT
BEGIN:VEVENT
DTSTART;TZID=America/New_York:20291221T190000
DTEND;TZID=America/New_York:20291221T230000
DTSTAMP:20260422T214306
CREATED:20250724T184434Z
LAST-MODIFIED:20250724T184435Z
UID:10105422-1892574000-1892588400@rg-admin.net
SUMMARY:Marvel Champions Organized Play
DESCRIPTION:
URL:https://rg-admin.net/event/marvel-champions-organized-play-2-2/2029-12-21/
LOCATION:Recess Games
CATEGORIES:Marvel,Marvel Champions
ATTACH;FMTTYPE=image/png:https://rg-admin.net/wp-content/uploads/Marvel-Champions-FB.png
END:VEVENT
BEGIN:VEVENT
DTSTART;TZID=America/New_York:20300104T190000
DTEND;TZID=America/New_York:20300104T230000
DTSTAMP:20260422T214306
CREATED:20250724T184434Z
LAST-MODIFIED:20250724T184435Z
UID:10105423-1893783600-1893798000@rg-admin.net
SUMMARY:Marvel Champions Organized Play
DESCRIPTION:
URL:https://rg-admin.net/event/marvel-champions-organized-play-2-2/2030-01-04/
LOCATION:Recess Games
CATEGORIES:Marvel,Marvel Champions
ATTACH;FMTTYPE=image/png:https://rg-admin.net/wp-content/uploads/Marvel-Champions-FB.png
END:VEVENT
END:VCALENDAR