BEGIN:VCALENDAR
VERSION:2.0
PRODID:-// - ECPv6.15.20//NONSGML v1.0//EN
CALSCALE:GREGORIAN
METHOD:PUBLISH
X-ORIGINAL-URL:https://rg-admin.net
X-WR-CALDESC:Events for 
REFRESH-INTERVAL;VALUE=DURATION:PT1H
X-Robots-Tag:noindex
X-PUBLISHED-TTL:PT1H
BEGIN:VTIMEZONE
TZID:America/New_York
BEGIN:DAYLIGHT
TZOFFSETFROM:-0500
TZOFFSETTO:-0400
TZNAME:EDT
DTSTART:20240310T070000
END:DAYLIGHT
BEGIN:STANDARD
TZOFFSETFROM:-0400
TZOFFSETTO:-0500
TZNAME:EST
DTSTART:20241103T060000
END:STANDARD
BEGIN:DAYLIGHT
TZOFFSETFROM:-0500
TZOFFSETTO:-0400
TZNAME:EDT
DTSTART:20250309T070000
END:DAYLIGHT
BEGIN:STANDARD
TZOFFSETFROM:-0400
TZOFFSETTO:-0500
TZNAME:EST
DTSTART:20251102T060000
END:STANDARD
BEGIN:DAYLIGHT
TZOFFSETFROM:-0500
TZOFFSETTO:-0400
TZNAME:EDT
DTSTART:20260308T070000
END:DAYLIGHT
BEGIN:STANDARD
TZOFFSETFROM:-0400
TZOFFSETTO:-0500
TZNAME:EST
DTSTART:20261101T060000
END:STANDARD
END:VTIMEZONE
BEGIN:VEVENT
DTSTART;TZID=America/New_York:20250405T120000
DTEND;TZID=America/New_York:20250405T160000
DTSTAMP:20260422T114623
CREATED:20250303T233716Z
LAST-MODIFIED:20250321T184845Z
UID:10017162-1743854400-1743868800@rg-admin.net
SUMMARY:MTG Tarkir Dragonstorm Prerelease
DESCRIPTION:Return to the clans of Tarkir for Prerelease! \nPlayers will receive kits that consist of: 6 Tarkir Dragonstorm Play Boosters\, 1 foil year-stamped Rare or Mythic Rare\, 1 deck box\, 1 Spindown die. Players will build a 40 card deck with this kit to play. \nPrizing will consist of Play Boosters and will be 1 pack for 0 or 1 win\, 3 packs for 2 wins\, and 6 packs for 3 wins! \nEntry is $40 but players can use 100 Rewards Points to discount it to $30.
URL:https://rg-admin.net/event/mtg-tarkir-dragonstorm-prerelease/2025-04-05/2/
LOCATION:Recess Games
CATEGORIES:Magic the Gathering,Tarkir Dragonstorm
ATTACH;FMTTYPE=image/png:https://rg-admin.net/wp-content/uploads/Tarkir-Dragonstorm-1-1.png
END:VEVENT
BEGIN:VEVENT
DTSTART;TZID=America/New_York:20250405T160000
DTEND;TZID=America/New_York:20250405T190000
DTSTAMP:20260422T114623
CREATED:20250303T233716Z
LAST-MODIFIED:20250321T184845Z
UID:10017783-1743868800-1743879600@rg-admin.net
SUMMARY:MTG Tarkir Dragonstorm Prerelease
DESCRIPTION:Return to the clans of Tarkir for Prerelease! \nPlayers will receive kits that consist of: 6 Tarkir Dragonstorm Play Boosters\, 1 foil year-stamped Rare or Mythic Rare\, 1 deck box\, 1 Spindown die. Players will build a 40 card deck with this kit to play. \nPrizing will consist of Play Boosters and will be 1 pack for 0 or 1 win\, 3 packs for 2 wins\, and 6 packs for 3 wins! \nEntry is $40 but players can use 100 Rewards Points to discount it to $30.
URL:https://rg-admin.net/event/mtg-tarkir-dragonstorm-prerelease/2025-04-05/3/
LOCATION:Recess Games
CATEGORIES:Magic the Gathering,Tarkir Dragonstorm
ATTACH;FMTTYPE=image/png:https://rg-admin.net/wp-content/uploads/Tarkir-Dragonstorm-1-1.png
END:VEVENT
END:VCALENDAR