BEGIN:VCALENDAR
VERSION:2.0
PRODID:-// - ECPv6.15.20//NONSGML v1.0//EN
CALSCALE:GREGORIAN
METHOD:PUBLISH
X-ORIGINAL-URL:https://rg-admin.net
X-WR-CALDESC:Events for 
REFRESH-INTERVAL;VALUE=DURATION:PT1H
X-Robots-Tag:noindex
X-PUBLISHED-TTL:PT1H
BEGIN:VTIMEZONE
TZID:America/New_York
BEGIN:DAYLIGHT
TZOFFSETFROM:-0500
TZOFFSETTO:-0400
TZNAME:EDT
DTSTART:20230312T070000
END:DAYLIGHT
BEGIN:STANDARD
TZOFFSETFROM:-0400
TZOFFSETTO:-0500
TZNAME:EST
DTSTART:20231105T060000
END:STANDARD
BEGIN:DAYLIGHT
TZOFFSETFROM:-0500
TZOFFSETTO:-0400
TZNAME:EDT
DTSTART:20240310T070000
END:DAYLIGHT
BEGIN:STANDARD
TZOFFSETFROM:-0400
TZOFFSETTO:-0500
TZNAME:EST
DTSTART:20241103T060000
END:STANDARD
BEGIN:DAYLIGHT
TZOFFSETFROM:-0500
TZOFFSETTO:-0400
TZNAME:EDT
DTSTART:20250309T070000
END:DAYLIGHT
BEGIN:STANDARD
TZOFFSETFROM:-0400
TZOFFSETTO:-0500
TZNAME:EST
DTSTART:20251102T060000
END:STANDARD
END:VTIMEZONE
BEGIN:VEVENT
DTSTART;TZID=America/New_York:20240927T183000
DTEND;TZID=America/New_York:20240927T230000
DTSTAMP:20260425T191603
CREATED:20240901T222443Z
LAST-MODIFIED:20240901T222443Z
UID:10013815-1727461800-1727478000@rg-admin.net
SUMMARY:Duskmourn: House of Horror Friday Night Magic Draft
DESCRIPTION:Players can use 100 rewards points to take $10 off.  \nREGISTRATION: 6:30pm\nDRAFTING BEGINS: 7:00pm
URL:https://rg-admin.net/event/duskmourn-house-of-horror-friday-night-magic-draft/2024-09-27/
LOCATION:Recess Games
CATEGORIES:Duskmourn: House of Horror,friday,Friday Night Magic,Magic the Gathering
ATTACH;FMTTYPE=image/png:https://rg-admin.net/wp-content/uploads/Duskmourn-House-of-Horror-Draft-FB.png
END:VEVENT
END:VCALENDAR