BEGIN:VCALENDAR
VERSION:2.0
PRODID:-// - ECPv6.15.20//NONSGML v1.0//EN
CALSCALE:GREGORIAN
METHOD:PUBLISH
X-ORIGINAL-URL:https://rg-admin.net
X-WR-CALDESC:Events for 
REFRESH-INTERVAL;VALUE=DURATION:PT1H
X-Robots-Tag:noindex
X-PUBLISHED-TTL:PT1H
BEGIN:VTIMEZONE
TZID:America/New_York
BEGIN:DAYLIGHT
TZOFFSETFROM:-0500
TZOFFSETTO:-0400
TZNAME:EDT
DTSTART:20260308T070000
END:DAYLIGHT
BEGIN:STANDARD
TZOFFSETFROM:-0400
TZOFFSETTO:-0500
TZNAME:EST
DTSTART:20261101T060000
END:STANDARD
BEGIN:DAYLIGHT
TZOFFSETFROM:-0500
TZOFFSETTO:-0400
TZNAME:EDT
DTSTART:20270314T070000
END:DAYLIGHT
BEGIN:STANDARD
TZOFFSETFROM:-0400
TZOFFSETTO:-0500
TZNAME:EST
DTSTART:20271107T060000
END:STANDARD
BEGIN:DAYLIGHT
TZOFFSETFROM:-0500
TZOFFSETTO:-0400
TZNAME:EDT
DTSTART:20280312T070000
END:DAYLIGHT
BEGIN:STANDARD
TZOFFSETFROM:-0400
TZOFFSETTO:-0500
TZNAME:EST
DTSTART:20281105T060000
END:STANDARD
END:VTIMEZONE
BEGIN:VEVENT
DTSTART;TZID=America/New_York:20270817T180000
DTEND;TZID=America/New_York:20270817T220000
DTSTAMP:20260422T063300
CREATED:20240226T160019Z
LAST-MODIFIED:20250524T201651Z
UID:10010288-1818525600-1818540000@rg-admin.net
SUMMARY:Warhammer - The Old World Open Play
DESCRIPTION:Fight massed fantasy battles in a rich and wondrous setting where countless factions seek to protect their homelands and subjugate their foes. \nEvery Tuesday @ 6:00 PM
URL:https://rg-admin.net/event/warhammer-the-old-world-open-play/2027-08-17/
CATEGORIES:games workshop
ATTACH;FMTTYPE=image/png:https://rg-admin.net/wp-content/uploads/Old-Word-Open-Play-1.png
END:VEVENT
END:VCALENDAR