BEGIN:VCALENDAR
VERSION:2.0
PRODID:-// - ECPv6.15.20//NONSGML v1.0//EN
CALSCALE:GREGORIAN
METHOD:PUBLISH
X-ORIGINAL-URL:https://rg-admin.net
X-WR-CALDESC:Events for 
REFRESH-INTERVAL;VALUE=DURATION:PT1H
X-Robots-Tag:noindex
X-PUBLISHED-TTL:PT1H
BEGIN:VTIMEZONE
TZID:America/New_York
BEGIN:DAYLIGHT
TZOFFSETFROM:-0500
TZOFFSETTO:-0400
TZNAME:EDT
DTSTART:20290311T070000
END:DAYLIGHT
BEGIN:STANDARD
TZOFFSETFROM:-0400
TZOFFSETTO:-0500
TZNAME:EST
DTSTART:20291104T060000
END:STANDARD
BEGIN:DAYLIGHT
TZOFFSETFROM:-0500
TZOFFSETTO:-0400
TZNAME:EDT
DTSTART:20300310T070000
END:DAYLIGHT
BEGIN:STANDARD
TZOFFSETFROM:-0400
TZOFFSETTO:-0500
TZNAME:EST
DTSTART:20301103T060000
END:STANDARD
BEGIN:DAYLIGHT
TZOFFSETFROM:-0500
TZOFFSETTO:-0400
TZNAME:EDT
DTSTART:20310309T070000
END:DAYLIGHT
BEGIN:STANDARD
TZOFFSETFROM:-0400
TZOFFSETTO:-0500
TZNAME:EST
DTSTART:20311102T060000
END:STANDARD
END:VTIMEZONE
BEGIN:VEVENT
DTSTART;TZID=America/New_York:20300301T180000
DTEND;TZID=America/New_York:20300301T230000
DTSTAMP:20260425T092349
CREATED:20250521T231832Z
LAST-MODIFIED:20250524T202008Z
UID:10106848-1898618400-1898636400@rg-admin.net
SUMMARY:Warhammer 40K Open Play
DESCRIPTION:
URL:https://rg-admin.net/event/warhammer-40k-open-play/2030-03-01/
LOCATION:Recess Games
CATEGORIES:40k,games workshop
ATTACH;FMTTYPE=image/jpeg:https://rg-admin.net/wp-content/uploads/40kopenplay.jpeg
END:VEVENT
BEGIN:VEVENT
DTSTART;TZID=America/New_York:20300303T110000
DTEND;TZID=America/New_York:20300303T180000
DTSTAMP:20260425T092349
CREATED:20230602T221033Z
LAST-MODIFIED:20250524T201449Z
UID:10017179-1898766000-1898791200@rg-admin.net
SUMMARY:Age of Sigmar Open Play
DESCRIPTION:MORE INFORMATION\nAge of Sigmar Open Play Every Sunday \nBuild armies of plastic warriors\, paint your models\, and take them to the tabletop to play fast-paced games and tell your own stories within the Mortal Realms. \n 
URL:https://rg-admin.net/event/age-of-sigmar-open-play-3/2030-03-03/
CATEGORIES:age of sigmar,games workshop,sunday
ATTACH;FMTTYPE=image/jpeg:https://rg-admin.net/wp-content/uploads/aosopen.jpeg
END:VEVENT
BEGIN:VEVENT
DTSTART;TZID=America/New_York:20300303T110000
DTEND;TZID=America/New_York:20300303T180000
DTSTAMP:20260425T092349
CREATED:20241130T021359Z
LAST-MODIFIED:20250524T202306Z
UID:10102537-1898766000-1898791200@rg-admin.net
SUMMARY:30k Horus Heresy Open Play
DESCRIPTION:Open play for the first Sunday each Month
URL:https://rg-admin.net/event/30k-horus-heresy-open-play/2030-03-03/
LOCATION:Recess Games
CATEGORIES:games workshop,Horus Heresy
ATTACH;FMTTYPE=image/png:https://rg-admin.net/wp-content/uploads/Casual-Play-Horus-Heresy-30K-FB.png
ORGANIZER;CN="Maria":MAILTO:maria@recess.games
END:VEVENT
BEGIN:VEVENT
DTSTART;TZID=America/New_York:20300305T180000
DTEND;TZID=America/New_York:20300305T220000
DTSTAMP:20260425T092349
CREATED:20240226T160019Z
LAST-MODIFIED:20250524T201651Z
UID:10102370-1898964000-1898978400@rg-admin.net
SUMMARY:Warhammer - The Old World Open Play
DESCRIPTION:Fight massed fantasy battles in a rich and wondrous setting where countless factions seek to protect their homelands and subjugate their foes. \nEvery Tuesday @ 6:00 PM
URL:https://rg-admin.net/event/warhammer-the-old-world-open-play/2030-03-05/
CATEGORIES:games workshop
ATTACH;FMTTYPE=image/png:https://rg-admin.net/wp-content/uploads/Old-Word-Open-Play-1.png
END:VEVENT
BEGIN:VEVENT
DTSTART;TZID=America/New_York:20300307T180000
DTEND;TZID=America/New_York:20300307T220000
DTSTAMP:20260425T092349
CREATED:20231121T223814Z
LAST-MODIFIED:20251105T172130Z
UID:10102516-1899136800-1899151200@rg-admin.net
SUMMARY:Kill Team Open Play
DESCRIPTION:MORE INFORMATION\nKill Team Open Play\n  \n 
URL:https://rg-admin.net/event/kill-team-open-play-2/2030-03-07/
CATEGORIES:games workshop,kill team,thursday
ATTACH;FMTTYPE=image/png:https://rg-admin.net/wp-content/uploads/Kill-Team-Open-Play.png
END:VEVENT
BEGIN:VEVENT
DTSTART;TZID=America/New_York:20300308T180000
DTEND;TZID=America/New_York:20300308T230000
DTSTAMP:20260425T092349
CREATED:20250521T231832Z
LAST-MODIFIED:20250524T202008Z
UID:10106849-1899223200-1899241200@rg-admin.net
SUMMARY:Warhammer 40K Open Play
DESCRIPTION:
URL:https://rg-admin.net/event/warhammer-40k-open-play/2030-03-08/
LOCATION:Recess Games
CATEGORIES:40k,games workshop
ATTACH;FMTTYPE=image/jpeg:https://rg-admin.net/wp-content/uploads/40kopenplay.jpeg
END:VEVENT
BEGIN:VEVENT
DTSTART;TZID=America/New_York:20300310T110000
DTEND;TZID=America/New_York:20300310T180000
DTSTAMP:20260425T092349
CREATED:20230602T221033Z
LAST-MODIFIED:20250524T201449Z
UID:10017981-1899370800-1899396000@rg-admin.net
SUMMARY:Age of Sigmar Open Play
DESCRIPTION:MORE INFORMATION\nAge of Sigmar Open Play Every Sunday \nBuild armies of plastic warriors\, paint your models\, and take them to the tabletop to play fast-paced games and tell your own stories within the Mortal Realms. \n 
URL:https://rg-admin.net/event/age-of-sigmar-open-play-3/2030-03-10/
CATEGORIES:age of sigmar,games workshop,sunday
ATTACH;FMTTYPE=image/jpeg:https://rg-admin.net/wp-content/uploads/aosopen.jpeg
END:VEVENT
BEGIN:VEVENT
DTSTART;TZID=America/New_York:20300312T180000
DTEND;TZID=America/New_York:20300312T220000
DTSTAMP:20260425T092349
CREATED:20240226T160019Z
LAST-MODIFIED:20250524T201651Z
UID:10102371-1899568800-1899583200@rg-admin.net
SUMMARY:Warhammer - The Old World Open Play
DESCRIPTION:Fight massed fantasy battles in a rich and wondrous setting where countless factions seek to protect their homelands and subjugate their foes. \nEvery Tuesday @ 6:00 PM
URL:https://rg-admin.net/event/warhammer-the-old-world-open-play/2030-03-12/
CATEGORIES:games workshop
ATTACH;FMTTYPE=image/png:https://rg-admin.net/wp-content/uploads/Old-Word-Open-Play-1.png
END:VEVENT
BEGIN:VEVENT
DTSTART;TZID=America/New_York:20300314T180000
DTEND;TZID=America/New_York:20300314T220000
DTSTAMP:20260425T092349
CREATED:20231121T223814Z
LAST-MODIFIED:20251105T172130Z
UID:10102517-1899741600-1899756000@rg-admin.net
SUMMARY:Kill Team Open Play
DESCRIPTION:MORE INFORMATION\nKill Team Open Play\n  \n 
URL:https://rg-admin.net/event/kill-team-open-play-2/2030-03-14/
CATEGORIES:games workshop,kill team,thursday
ATTACH;FMTTYPE=image/png:https://rg-admin.net/wp-content/uploads/Kill-Team-Open-Play.png
END:VEVENT
BEGIN:VEVENT
DTSTART;TZID=America/New_York:20300315T180000
DTEND;TZID=America/New_York:20300315T230000
DTSTAMP:20260425T092349
CREATED:20250521T231832Z
LAST-MODIFIED:20250524T202008Z
UID:10106850-1899828000-1899846000@rg-admin.net
SUMMARY:Warhammer 40K Open Play
DESCRIPTION:
URL:https://rg-admin.net/event/warhammer-40k-open-play/2030-03-15/
LOCATION:Recess Games
CATEGORIES:40k,games workshop
ATTACH;FMTTYPE=image/jpeg:https://rg-admin.net/wp-content/uploads/40kopenplay.jpeg
END:VEVENT
BEGIN:VEVENT
DTSTART;TZID=America/New_York:20300317T110000
DTEND;TZID=America/New_York:20300317T180000
DTSTAMP:20260425T092349
CREATED:20230602T221033Z
LAST-MODIFIED:20250524T201449Z
UID:10017982-1899975600-1900000800@rg-admin.net
SUMMARY:Age of Sigmar Open Play
DESCRIPTION:MORE INFORMATION\nAge of Sigmar Open Play Every Sunday \nBuild armies of plastic warriors\, paint your models\, and take them to the tabletop to play fast-paced games and tell your own stories within the Mortal Realms. \n 
URL:https://rg-admin.net/event/age-of-sigmar-open-play-3/2030-03-17/
CATEGORIES:age of sigmar,games workshop,sunday
ATTACH;FMTTYPE=image/jpeg:https://rg-admin.net/wp-content/uploads/aosopen.jpeg
END:VEVENT
BEGIN:VEVENT
DTSTART;TZID=America/New_York:20300319T180000
DTEND;TZID=America/New_York:20300319T220000
DTSTAMP:20260425T092349
CREATED:20240226T160019Z
LAST-MODIFIED:20250524T201651Z
UID:10102372-1900173600-1900188000@rg-admin.net
SUMMARY:Warhammer - The Old World Open Play
DESCRIPTION:Fight massed fantasy battles in a rich and wondrous setting where countless factions seek to protect their homelands and subjugate their foes. \nEvery Tuesday @ 6:00 PM
URL:https://rg-admin.net/event/warhammer-the-old-world-open-play/2030-03-19/
CATEGORIES:games workshop
ATTACH;FMTTYPE=image/png:https://rg-admin.net/wp-content/uploads/Old-Word-Open-Play-1.png
END:VEVENT
BEGIN:VEVENT
DTSTART;TZID=America/New_York:20300321T180000
DTEND;TZID=America/New_York:20300321T220000
DTSTAMP:20260425T092349
CREATED:20231121T223814Z
LAST-MODIFIED:20251105T172130Z
UID:10102518-1900346400-1900360800@rg-admin.net
SUMMARY:Kill Team Open Play
DESCRIPTION:MORE INFORMATION\nKill Team Open Play\n  \n 
URL:https://rg-admin.net/event/kill-team-open-play-2/2030-03-21/
CATEGORIES:games workshop,kill team,thursday
ATTACH;FMTTYPE=image/png:https://rg-admin.net/wp-content/uploads/Kill-Team-Open-Play.png
END:VEVENT
BEGIN:VEVENT
DTSTART;TZID=America/New_York:20300322T180000
DTEND;TZID=America/New_York:20300322T230000
DTSTAMP:20260425T092349
CREATED:20250521T231832Z
LAST-MODIFIED:20250524T202008Z
UID:10106851-1900432800-1900450800@rg-admin.net
SUMMARY:Warhammer 40K Open Play
DESCRIPTION:
URL:https://rg-admin.net/event/warhammer-40k-open-play/2030-03-22/
LOCATION:Recess Games
CATEGORIES:40k,games workshop
ATTACH;FMTTYPE=image/jpeg:https://rg-admin.net/wp-content/uploads/40kopenplay.jpeg
END:VEVENT
BEGIN:VEVENT
DTSTART;TZID=America/New_York:20300324T110000
DTEND;TZID=America/New_York:20300324T180000
DTSTAMP:20260425T092349
CREATED:20230602T221033Z
LAST-MODIFIED:20250524T201449Z
UID:10017983-1900580400-1900605600@rg-admin.net
SUMMARY:Age of Sigmar Open Play
DESCRIPTION:MORE INFORMATION\nAge of Sigmar Open Play Every Sunday \nBuild armies of plastic warriors\, paint your models\, and take them to the tabletop to play fast-paced games and tell your own stories within the Mortal Realms. \n 
URL:https://rg-admin.net/event/age-of-sigmar-open-play-3/2030-03-24/
CATEGORIES:age of sigmar,games workshop,sunday
ATTACH;FMTTYPE=image/jpeg:https://rg-admin.net/wp-content/uploads/aosopen.jpeg
END:VEVENT
BEGIN:VEVENT
DTSTART;TZID=America/New_York:20300326T180000
DTEND;TZID=America/New_York:20300326T220000
DTSTAMP:20260425T092349
CREATED:20240226T160019Z
LAST-MODIFIED:20250524T201651Z
UID:10102373-1900778400-1900792800@rg-admin.net
SUMMARY:Warhammer - The Old World Open Play
DESCRIPTION:Fight massed fantasy battles in a rich and wondrous setting where countless factions seek to protect their homelands and subjugate their foes. \nEvery Tuesday @ 6:00 PM
URL:https://rg-admin.net/event/warhammer-the-old-world-open-play/2030-03-26/
CATEGORIES:games workshop
ATTACH;FMTTYPE=image/png:https://rg-admin.net/wp-content/uploads/Old-Word-Open-Play-1.png
END:VEVENT
BEGIN:VEVENT
DTSTART;TZID=America/New_York:20300328T180000
DTEND;TZID=America/New_York:20300328T220000
DTSTAMP:20260425T092349
CREATED:20231121T223814Z
LAST-MODIFIED:20251105T172130Z
UID:10102519-1900951200-1900965600@rg-admin.net
SUMMARY:Kill Team Open Play
DESCRIPTION:MORE INFORMATION\nKill Team Open Play\n  \n 
URL:https://rg-admin.net/event/kill-team-open-play-2/2030-03-28/
CATEGORIES:games workshop,kill team,thursday
ATTACH;FMTTYPE=image/png:https://rg-admin.net/wp-content/uploads/Kill-Team-Open-Play.png
END:VEVENT
BEGIN:VEVENT
DTSTART;TZID=America/New_York:20300329T180000
DTEND;TZID=America/New_York:20300329T230000
DTSTAMP:20260425T092349
CREATED:20250521T231832Z
LAST-MODIFIED:20250524T202008Z
UID:10106852-1901037600-1901055600@rg-admin.net
SUMMARY:Warhammer 40K Open Play
DESCRIPTION:
URL:https://rg-admin.net/event/warhammer-40k-open-play/2030-03-29/
LOCATION:Recess Games
CATEGORIES:40k,games workshop
ATTACH;FMTTYPE=image/jpeg:https://rg-admin.net/wp-content/uploads/40kopenplay.jpeg
END:VEVENT
BEGIN:VEVENT
DTSTART;TZID=America/New_York:20300331T110000
DTEND;TZID=America/New_York:20300331T180000
DTSTAMP:20260425T092349
CREATED:20230602T221033Z
LAST-MODIFIED:20250524T201449Z
UID:10017984-1901185200-1901210400@rg-admin.net
SUMMARY:Age of Sigmar Open Play
DESCRIPTION:MORE INFORMATION\nAge of Sigmar Open Play Every Sunday \nBuild armies of plastic warriors\, paint your models\, and take them to the tabletop to play fast-paced games and tell your own stories within the Mortal Realms. \n 
URL:https://rg-admin.net/event/age-of-sigmar-open-play-3/2030-03-31/
CATEGORIES:age of sigmar,games workshop,sunday
ATTACH;FMTTYPE=image/jpeg:https://rg-admin.net/wp-content/uploads/aosopen.jpeg
END:VEVENT
END:VCALENDAR