BEGIN:VCALENDAR
VERSION:2.0
PRODID:-// - ECPv6.15.20//NONSGML v1.0//EN
CALSCALE:GREGORIAN
METHOD:PUBLISH
X-ORIGINAL-URL:https://rg-admin.net
X-WR-CALDESC:Events for 
REFRESH-INTERVAL;VALUE=DURATION:PT1H
X-Robots-Tag:noindex
X-PUBLISHED-TTL:PT1H
BEGIN:VTIMEZONE
TZID:America/New_York
BEGIN:DAYLIGHT
TZOFFSETFROM:-0500
TZOFFSETTO:-0400
TZNAME:EDT
DTSTART:20240310T070000
END:DAYLIGHT
BEGIN:STANDARD
TZOFFSETFROM:-0400
TZOFFSETTO:-0500
TZNAME:EST
DTSTART:20241103T060000
END:STANDARD
BEGIN:DAYLIGHT
TZOFFSETFROM:-0500
TZOFFSETTO:-0400
TZNAME:EDT
DTSTART:20250309T070000
END:DAYLIGHT
BEGIN:STANDARD
TZOFFSETFROM:-0400
TZOFFSETTO:-0500
TZNAME:EST
DTSTART:20251102T060000
END:STANDARD
BEGIN:DAYLIGHT
TZOFFSETFROM:-0500
TZOFFSETTO:-0400
TZNAME:EDT
DTSTART:20260308T070000
END:DAYLIGHT
BEGIN:STANDARD
TZOFFSETFROM:-0400
TZOFFSETTO:-0500
TZNAME:EST
DTSTART:20261101T060000
END:STANDARD
END:VTIMEZONE
BEGIN:VEVENT
DTSTART;TZID=America/New_York:20250607T120000
DTEND;TZID=America/New_York:20250607T180000
DTSTAMP:20260422T205757
CREATED:20240615T022629Z
LAST-MODIFIED:20250524T204025Z
UID:10011535-1749297600-1749319200@rg-admin.net
SUMMARY:BattleTech: World Wide Event
DESCRIPTION:BattleTech is the world’s greatest armored-combat game.  \nDATE: Sunday\, June 7th \nBEGINS: 12:00 PM (setup at 11:00 AM)
URL:https://rg-admin.net/event/battletech-40th-anniversary-world-tour/
LOCATION:Recess Games
CATEGORIES:battletech
ATTACH;FMTTYPE=image/png:https://rg-admin.net/wp-content/uploads/BattleTech-1-1.png
END:VEVENT
BEGIN:VEVENT
DTSTART;TZID=America/New_York:20251101T120000
DTEND;TZID=America/New_York:20251101T170000
DTSTAMP:20260422T205757
CREATED:20251010T050008Z
LAST-MODIFIED:20251010T050448Z
UID:10106152-1761998400-1762016400@rg-admin.net
SUMMARY:Belated Battletech Gothic Halloween
DESCRIPTION:
URL:https://rg-admin.net/event/belated-battletech-gothic-halloween/
LOCATION:Recess Games
CATEGORIES:battletech,saturday
ATTACH;FMTTYPE=image/png:https://rg-admin.net/wp-content/uploads/Battletech-Gothic-Halloween-event-2.png
END:VEVENT
END:VCALENDAR