BEGIN:VCALENDAR
VERSION:2.0
PRODID:-// - ECPv6.15.20//NONSGML v1.0//EN
CALSCALE:GREGORIAN
METHOD:PUBLISH
X-ORIGINAL-URL:https://rg-admin.net
X-WR-CALDESC:Events for 
REFRESH-INTERVAL;VALUE=DURATION:PT1H
X-Robots-Tag:noindex
X-PUBLISHED-TTL:PT1H
BEGIN:VTIMEZONE
TZID:America/New_York
BEGIN:DAYLIGHT
TZOFFSETFROM:-0500
TZOFFSETTO:-0400
TZNAME:EDT
DTSTART:20280312T070000
END:DAYLIGHT
BEGIN:STANDARD
TZOFFSETFROM:-0400
TZOFFSETTO:-0500
TZNAME:EST
DTSTART:20281105T060000
END:STANDARD
BEGIN:DAYLIGHT
TZOFFSETFROM:-0500
TZOFFSETTO:-0400
TZNAME:EDT
DTSTART:20290311T070000
END:DAYLIGHT
BEGIN:STANDARD
TZOFFSETFROM:-0400
TZOFFSETTO:-0500
TZNAME:EST
DTSTART:20291104T060000
END:STANDARD
BEGIN:DAYLIGHT
TZOFFSETFROM:-0500
TZOFFSETTO:-0400
TZNAME:EDT
DTSTART:20300310T070000
END:DAYLIGHT
BEGIN:STANDARD
TZOFFSETFROM:-0400
TZOFFSETTO:-0500
TZNAME:EST
DTSTART:20301103T060000
END:STANDARD
END:VTIMEZONE
BEGIN:VEVENT
DTSTART;TZID=America/New_York:20290318T123000
DTEND;TZID=America/New_York:20290318T160000
DTSTAMP:20260425T062257
CREATED:20250528T010956Z
LAST-MODIFIED:20250528T193908Z
UID:10103729-1868531400-1868544000@rg-admin.net
SUMMARY:One Piece TCG Sunday Tournaments
DESCRIPTION:  \n  \n  \nOne Piece is an incredibly popular battle manga about pirates in a fantasy setting.
URL:https://rg-admin.net/event/one-piece-store-tournament-2/2029-03-18/
LOCATION:Recess Games
CATEGORIES:One Piece,thursday
ATTACH;FMTTYPE=image/png:https://rg-admin.net/wp-content/uploads/One-Piece-Store-Tournament-13.png
END:VEVENT
BEGIN:VEVENT
DTSTART;TZID=America/New_York:20290325T123000
DTEND;TZID=America/New_York:20290325T160000
DTSTAMP:20260425T062257
CREATED:20250528T010956Z
LAST-MODIFIED:20250528T193908Z
UID:10103730-1869136200-1869148800@rg-admin.net
SUMMARY:One Piece TCG Sunday Tournaments
DESCRIPTION:  \n  \n  \nOne Piece is an incredibly popular battle manga about pirates in a fantasy setting.
URL:https://rg-admin.net/event/one-piece-store-tournament-2/2029-03-25/
LOCATION:Recess Games
CATEGORIES:One Piece,thursday
ATTACH;FMTTYPE=image/png:https://rg-admin.net/wp-content/uploads/One-Piece-Store-Tournament-13.png
END:VEVENT
BEGIN:VEVENT
DTSTART;TZID=America/New_York:20290401T123000
DTEND;TZID=America/New_York:20290401T160000
DTSTAMP:20260425T062257
CREATED:20250528T010956Z
LAST-MODIFIED:20250528T193908Z
UID:10103731-1869741000-1869753600@rg-admin.net
SUMMARY:One Piece TCG Sunday Tournaments
DESCRIPTION:  \n  \n  \nOne Piece is an incredibly popular battle manga about pirates in a fantasy setting.
URL:https://rg-admin.net/event/one-piece-store-tournament-2/2029-04-01/
LOCATION:Recess Games
CATEGORIES:One Piece,thursday
ATTACH;FMTTYPE=image/png:https://rg-admin.net/wp-content/uploads/One-Piece-Store-Tournament-13.png
END:VEVENT
BEGIN:VEVENT
DTSTART;TZID=America/New_York:20290408T123000
DTEND;TZID=America/New_York:20290408T160000
DTSTAMP:20260425T062257
CREATED:20250528T010956Z
LAST-MODIFIED:20250528T193908Z
UID:10103732-1870345800-1870358400@rg-admin.net
SUMMARY:One Piece TCG Sunday Tournaments
DESCRIPTION:  \n  \n  \nOne Piece is an incredibly popular battle manga about pirates in a fantasy setting.
URL:https://rg-admin.net/event/one-piece-store-tournament-2/2029-04-08/
LOCATION:Recess Games
CATEGORIES:One Piece,thursday
ATTACH;FMTTYPE=image/png:https://rg-admin.net/wp-content/uploads/One-Piece-Store-Tournament-13.png
END:VEVENT
BEGIN:VEVENT
DTSTART;TZID=America/New_York:20290415T123000
DTEND;TZID=America/New_York:20290415T160000
DTSTAMP:20260425T062257
CREATED:20250528T010956Z
LAST-MODIFIED:20250528T193908Z
UID:10103733-1870950600-1870963200@rg-admin.net
SUMMARY:One Piece TCG Sunday Tournaments
DESCRIPTION:  \n  \n  \nOne Piece is an incredibly popular battle manga about pirates in a fantasy setting.
URL:https://rg-admin.net/event/one-piece-store-tournament-2/2029-04-15/
LOCATION:Recess Games
CATEGORIES:One Piece,thursday
ATTACH;FMTTYPE=image/png:https://rg-admin.net/wp-content/uploads/One-Piece-Store-Tournament-13.png
END:VEVENT
BEGIN:VEVENT
DTSTART;TZID=America/New_York:20290422T123000
DTEND;TZID=America/New_York:20290422T160000
DTSTAMP:20260425T062257
CREATED:20250528T010956Z
LAST-MODIFIED:20250528T193908Z
UID:10103734-1871555400-1871568000@rg-admin.net
SUMMARY:One Piece TCG Sunday Tournaments
DESCRIPTION:  \n  \n  \nOne Piece is an incredibly popular battle manga about pirates in a fantasy setting.
URL:https://rg-admin.net/event/one-piece-store-tournament-2/2029-04-22/
LOCATION:Recess Games
CATEGORIES:One Piece,thursday
ATTACH;FMTTYPE=image/png:https://rg-admin.net/wp-content/uploads/One-Piece-Store-Tournament-13.png
END:VEVENT
BEGIN:VEVENT
DTSTART;TZID=America/New_York:20290429T123000
DTEND;TZID=America/New_York:20290429T160000
DTSTAMP:20260425T062257
CREATED:20250528T010956Z
LAST-MODIFIED:20250528T193908Z
UID:10103735-1872160200-1872172800@rg-admin.net
SUMMARY:One Piece TCG Sunday Tournaments
DESCRIPTION:  \n  \n  \nOne Piece is an incredibly popular battle manga about pirates in a fantasy setting.
URL:https://rg-admin.net/event/one-piece-store-tournament-2/2029-04-29/
LOCATION:Recess Games
CATEGORIES:One Piece,thursday
ATTACH;FMTTYPE=image/png:https://rg-admin.net/wp-content/uploads/One-Piece-Store-Tournament-13.png
END:VEVENT
BEGIN:VEVENT
DTSTART;TZID=America/New_York:20290506T123000
DTEND;TZID=America/New_York:20290506T160000
DTSTAMP:20260425T062257
CREATED:20250528T010956Z
LAST-MODIFIED:20250528T193908Z
UID:10103736-1872765000-1872777600@rg-admin.net
SUMMARY:One Piece TCG Sunday Tournaments
DESCRIPTION:  \n  \n  \nOne Piece is an incredibly popular battle manga about pirates in a fantasy setting.
URL:https://rg-admin.net/event/one-piece-store-tournament-2/2029-05-06/
LOCATION:Recess Games
CATEGORIES:One Piece,thursday
ATTACH;FMTTYPE=image/png:https://rg-admin.net/wp-content/uploads/One-Piece-Store-Tournament-13.png
END:VEVENT
BEGIN:VEVENT
DTSTART;TZID=America/New_York:20290513T123000
DTEND;TZID=America/New_York:20290513T160000
DTSTAMP:20260425T062257
CREATED:20250528T010956Z
LAST-MODIFIED:20250528T193908Z
UID:10103737-1873369800-1873382400@rg-admin.net
SUMMARY:One Piece TCG Sunday Tournaments
DESCRIPTION:  \n  \n  \nOne Piece is an incredibly popular battle manga about pirates in a fantasy setting.
URL:https://rg-admin.net/event/one-piece-store-tournament-2/2029-05-13/
LOCATION:Recess Games
CATEGORIES:One Piece,thursday
ATTACH;FMTTYPE=image/png:https://rg-admin.net/wp-content/uploads/One-Piece-Store-Tournament-13.png
END:VEVENT
BEGIN:VEVENT
DTSTART;TZID=America/New_York:20290520T123000
DTEND;TZID=America/New_York:20290520T160000
DTSTAMP:20260425T062257
CREATED:20250528T010956Z
LAST-MODIFIED:20250528T193908Z
UID:10103738-1873974600-1873987200@rg-admin.net
SUMMARY:One Piece TCG Sunday Tournaments
DESCRIPTION:  \n  \n  \nOne Piece is an incredibly popular battle manga about pirates in a fantasy setting.
URL:https://rg-admin.net/event/one-piece-store-tournament-2/2029-05-20/
LOCATION:Recess Games
CATEGORIES:One Piece,thursday
ATTACH;FMTTYPE=image/png:https://rg-admin.net/wp-content/uploads/One-Piece-Store-Tournament-13.png
END:VEVENT
BEGIN:VEVENT
DTSTART;TZID=America/New_York:20290527T123000
DTEND;TZID=America/New_York:20290527T160000
DTSTAMP:20260425T062258
CREATED:20250528T010956Z
LAST-MODIFIED:20250528T193908Z
UID:10103739-1874579400-1874592000@rg-admin.net
SUMMARY:One Piece TCG Sunday Tournaments
DESCRIPTION:  \n  \n  \nOne Piece is an incredibly popular battle manga about pirates in a fantasy setting.
URL:https://rg-admin.net/event/one-piece-store-tournament-2/2029-05-27/
LOCATION:Recess Games
CATEGORIES:One Piece,thursday
ATTACH;FMTTYPE=image/png:https://rg-admin.net/wp-content/uploads/One-Piece-Store-Tournament-13.png
END:VEVENT
BEGIN:VEVENT
DTSTART;TZID=America/New_York:20290603T123000
DTEND;TZID=America/New_York:20290603T160000
DTSTAMP:20260425T062258
CREATED:20250528T010956Z
LAST-MODIFIED:20250528T193908Z
UID:10103740-1875184200-1875196800@rg-admin.net
SUMMARY:One Piece TCG Sunday Tournaments
DESCRIPTION:  \n  \n  \nOne Piece is an incredibly popular battle manga about pirates in a fantasy setting.
URL:https://rg-admin.net/event/one-piece-store-tournament-2/2029-06-03/
LOCATION:Recess Games
CATEGORIES:One Piece,thursday
ATTACH;FMTTYPE=image/png:https://rg-admin.net/wp-content/uploads/One-Piece-Store-Tournament-13.png
END:VEVENT
BEGIN:VEVENT
DTSTART;TZID=America/New_York:20290610T123000
DTEND;TZID=America/New_York:20290610T160000
DTSTAMP:20260425T062258
CREATED:20250528T010956Z
LAST-MODIFIED:20250528T193908Z
UID:10103741-1875789000-1875801600@rg-admin.net
SUMMARY:One Piece TCG Sunday Tournaments
DESCRIPTION:  \n  \n  \nOne Piece is an incredibly popular battle manga about pirates in a fantasy setting.
URL:https://rg-admin.net/event/one-piece-store-tournament-2/2029-06-10/
LOCATION:Recess Games
CATEGORIES:One Piece,thursday
ATTACH;FMTTYPE=image/png:https://rg-admin.net/wp-content/uploads/One-Piece-Store-Tournament-13.png
END:VEVENT
BEGIN:VEVENT
DTSTART;TZID=America/New_York:20290617T123000
DTEND;TZID=America/New_York:20290617T160000
DTSTAMP:20260425T062258
CREATED:20250528T010956Z
LAST-MODIFIED:20250528T193908Z
UID:10103742-1876393800-1876406400@rg-admin.net
SUMMARY:One Piece TCG Sunday Tournaments
DESCRIPTION:  \n  \n  \nOne Piece is an incredibly popular battle manga about pirates in a fantasy setting.
URL:https://rg-admin.net/event/one-piece-store-tournament-2/2029-06-17/
LOCATION:Recess Games
CATEGORIES:One Piece,thursday
ATTACH;FMTTYPE=image/png:https://rg-admin.net/wp-content/uploads/One-Piece-Store-Tournament-13.png
END:VEVENT
BEGIN:VEVENT
DTSTART;TZID=America/New_York:20290624T123000
DTEND;TZID=America/New_York:20290624T160000
DTSTAMP:20260425T062258
CREATED:20250528T010956Z
LAST-MODIFIED:20250528T193908Z
UID:10103743-1876998600-1877011200@rg-admin.net
SUMMARY:One Piece TCG Sunday Tournaments
DESCRIPTION:  \n  \n  \nOne Piece is an incredibly popular battle manga about pirates in a fantasy setting.
URL:https://rg-admin.net/event/one-piece-store-tournament-2/2029-06-24/
LOCATION:Recess Games
CATEGORIES:One Piece,thursday
ATTACH;FMTTYPE=image/png:https://rg-admin.net/wp-content/uploads/One-Piece-Store-Tournament-13.png
END:VEVENT
BEGIN:VEVENT
DTSTART;TZID=America/New_York:20290701T123000
DTEND;TZID=America/New_York:20290701T160000
DTSTAMP:20260425T062258
CREATED:20250528T010956Z
LAST-MODIFIED:20250528T193908Z
UID:10103744-1877603400-1877616000@rg-admin.net
SUMMARY:One Piece TCG Sunday Tournaments
DESCRIPTION:  \n  \n  \nOne Piece is an incredibly popular battle manga about pirates in a fantasy setting.
URL:https://rg-admin.net/event/one-piece-store-tournament-2/2029-07-01/
LOCATION:Recess Games
CATEGORIES:One Piece,thursday
ATTACH;FMTTYPE=image/png:https://rg-admin.net/wp-content/uploads/One-Piece-Store-Tournament-13.png
END:VEVENT
BEGIN:VEVENT
DTSTART;TZID=America/New_York:20290708T123000
DTEND;TZID=America/New_York:20290708T160000
DTSTAMP:20260425T062258
CREATED:20250528T010956Z
LAST-MODIFIED:20250528T193908Z
UID:10103745-1878208200-1878220800@rg-admin.net
SUMMARY:One Piece TCG Sunday Tournaments
DESCRIPTION:  \n  \n  \nOne Piece is an incredibly popular battle manga about pirates in a fantasy setting.
URL:https://rg-admin.net/event/one-piece-store-tournament-2/2029-07-08/
LOCATION:Recess Games
CATEGORIES:One Piece,thursday
ATTACH;FMTTYPE=image/png:https://rg-admin.net/wp-content/uploads/One-Piece-Store-Tournament-13.png
END:VEVENT
BEGIN:VEVENT
DTSTART;TZID=America/New_York:20290715T123000
DTEND;TZID=America/New_York:20290715T160000
DTSTAMP:20260425T062258
CREATED:20250528T010956Z
LAST-MODIFIED:20250528T193908Z
UID:10103746-1878813000-1878825600@rg-admin.net
SUMMARY:One Piece TCG Sunday Tournaments
DESCRIPTION:  \n  \n  \nOne Piece is an incredibly popular battle manga about pirates in a fantasy setting.
URL:https://rg-admin.net/event/one-piece-store-tournament-2/2029-07-15/
LOCATION:Recess Games
CATEGORIES:One Piece,thursday
ATTACH;FMTTYPE=image/png:https://rg-admin.net/wp-content/uploads/One-Piece-Store-Tournament-13.png
END:VEVENT
BEGIN:VEVENT
DTSTART;TZID=America/New_York:20290722T123000
DTEND;TZID=America/New_York:20290722T160000
DTSTAMP:20260425T062258
CREATED:20250528T010956Z
LAST-MODIFIED:20250528T193908Z
UID:10103747-1879417800-1879430400@rg-admin.net
SUMMARY:One Piece TCG Sunday Tournaments
DESCRIPTION:  \n  \n  \nOne Piece is an incredibly popular battle manga about pirates in a fantasy setting.
URL:https://rg-admin.net/event/one-piece-store-tournament-2/2029-07-22/
LOCATION:Recess Games
CATEGORIES:One Piece,thursday
ATTACH;FMTTYPE=image/png:https://rg-admin.net/wp-content/uploads/One-Piece-Store-Tournament-13.png
END:VEVENT
BEGIN:VEVENT
DTSTART;TZID=America/New_York:20290729T123000
DTEND;TZID=America/New_York:20290729T160000
DTSTAMP:20260425T062258
CREATED:20250528T010956Z
LAST-MODIFIED:20250528T193908Z
UID:10103748-1880022600-1880035200@rg-admin.net
SUMMARY:One Piece TCG Sunday Tournaments
DESCRIPTION:  \n  \n  \nOne Piece is an incredibly popular battle manga about pirates in a fantasy setting.
URL:https://rg-admin.net/event/one-piece-store-tournament-2/2029-07-29/
LOCATION:Recess Games
CATEGORIES:One Piece,thursday
ATTACH;FMTTYPE=image/png:https://rg-admin.net/wp-content/uploads/One-Piece-Store-Tournament-13.png
END:VEVENT
BEGIN:VEVENT
DTSTART;TZID=America/New_York:20290805T123000
DTEND;TZID=America/New_York:20290805T160000
DTSTAMP:20260425T062258
CREATED:20250528T010956Z
LAST-MODIFIED:20250528T193908Z
UID:10103749-1880627400-1880640000@rg-admin.net
SUMMARY:One Piece TCG Sunday Tournaments
DESCRIPTION:  \n  \n  \nOne Piece is an incredibly popular battle manga about pirates in a fantasy setting.
URL:https://rg-admin.net/event/one-piece-store-tournament-2/2029-08-05/
LOCATION:Recess Games
CATEGORIES:One Piece,thursday
ATTACH;FMTTYPE=image/png:https://rg-admin.net/wp-content/uploads/One-Piece-Store-Tournament-13.png
END:VEVENT
BEGIN:VEVENT
DTSTART;TZID=America/New_York:20290812T123000
DTEND;TZID=America/New_York:20290812T160000
DTSTAMP:20260425T062258
CREATED:20250528T010956Z
LAST-MODIFIED:20250528T193908Z
UID:10103750-1881232200-1881244800@rg-admin.net
SUMMARY:One Piece TCG Sunday Tournaments
DESCRIPTION:  \n  \n  \nOne Piece is an incredibly popular battle manga about pirates in a fantasy setting.
URL:https://rg-admin.net/event/one-piece-store-tournament-2/2029-08-12/
LOCATION:Recess Games
CATEGORIES:One Piece,thursday
ATTACH;FMTTYPE=image/png:https://rg-admin.net/wp-content/uploads/One-Piece-Store-Tournament-13.png
END:VEVENT
BEGIN:VEVENT
DTSTART;TZID=America/New_York:20290819T123000
DTEND;TZID=America/New_York:20290819T160000
DTSTAMP:20260425T062258
CREATED:20250528T010956Z
LAST-MODIFIED:20250528T193908Z
UID:10103751-1881837000-1881849600@rg-admin.net
SUMMARY:One Piece TCG Sunday Tournaments
DESCRIPTION:  \n  \n  \nOne Piece is an incredibly popular battle manga about pirates in a fantasy setting.
URL:https://rg-admin.net/event/one-piece-store-tournament-2/2029-08-19/
LOCATION:Recess Games
CATEGORIES:One Piece,thursday
ATTACH;FMTTYPE=image/png:https://rg-admin.net/wp-content/uploads/One-Piece-Store-Tournament-13.png
END:VEVENT
BEGIN:VEVENT
DTSTART;TZID=America/New_York:20290826T123000
DTEND;TZID=America/New_York:20290826T160000
DTSTAMP:20260425T062258
CREATED:20250528T010956Z
LAST-MODIFIED:20250528T193908Z
UID:10103752-1882441800-1882454400@rg-admin.net
SUMMARY:One Piece TCG Sunday Tournaments
DESCRIPTION:  \n  \n  \nOne Piece is an incredibly popular battle manga about pirates in a fantasy setting.
URL:https://rg-admin.net/event/one-piece-store-tournament-2/2029-08-26/
LOCATION:Recess Games
CATEGORIES:One Piece,thursday
ATTACH;FMTTYPE=image/png:https://rg-admin.net/wp-content/uploads/One-Piece-Store-Tournament-13.png
END:VEVENT
BEGIN:VEVENT
DTSTART;TZID=America/New_York:20290902T123000
DTEND;TZID=America/New_York:20290902T160000
DTSTAMP:20260425T062258
CREATED:20250528T010956Z
LAST-MODIFIED:20250528T193908Z
UID:10103753-1883046600-1883059200@rg-admin.net
SUMMARY:One Piece TCG Sunday Tournaments
DESCRIPTION:  \n  \n  \nOne Piece is an incredibly popular battle manga about pirates in a fantasy setting.
URL:https://rg-admin.net/event/one-piece-store-tournament-2/2029-09-02/
LOCATION:Recess Games
CATEGORIES:One Piece,thursday
ATTACH;FMTTYPE=image/png:https://rg-admin.net/wp-content/uploads/One-Piece-Store-Tournament-13.png
END:VEVENT
BEGIN:VEVENT
DTSTART;TZID=America/New_York:20290909T123000
DTEND;TZID=America/New_York:20290909T160000
DTSTAMP:20260425T062258
CREATED:20250528T010956Z
LAST-MODIFIED:20250528T193908Z
UID:10103754-1883651400-1883664000@rg-admin.net
SUMMARY:One Piece TCG Sunday Tournaments
DESCRIPTION:  \n  \n  \nOne Piece is an incredibly popular battle manga about pirates in a fantasy setting.
URL:https://rg-admin.net/event/one-piece-store-tournament-2/2029-09-09/
LOCATION:Recess Games
CATEGORIES:One Piece,thursday
ATTACH;FMTTYPE=image/png:https://rg-admin.net/wp-content/uploads/One-Piece-Store-Tournament-13.png
END:VEVENT
BEGIN:VEVENT
DTSTART;TZID=America/New_York:20290916T123000
DTEND;TZID=America/New_York:20290916T160000
DTSTAMP:20260425T062258
CREATED:20250528T010956Z
LAST-MODIFIED:20250528T193908Z
UID:10103755-1884256200-1884268800@rg-admin.net
SUMMARY:One Piece TCG Sunday Tournaments
DESCRIPTION:  \n  \n  \nOne Piece is an incredibly popular battle manga about pirates in a fantasy setting.
URL:https://rg-admin.net/event/one-piece-store-tournament-2/2029-09-16/
LOCATION:Recess Games
CATEGORIES:One Piece,thursday
ATTACH;FMTTYPE=image/png:https://rg-admin.net/wp-content/uploads/One-Piece-Store-Tournament-13.png
END:VEVENT
BEGIN:VEVENT
DTSTART;TZID=America/New_York:20290923T123000
DTEND;TZID=America/New_York:20290923T160000
DTSTAMP:20260425T062258
CREATED:20250528T010956Z
LAST-MODIFIED:20250528T193908Z
UID:10103756-1884861000-1884873600@rg-admin.net
SUMMARY:One Piece TCG Sunday Tournaments
DESCRIPTION:  \n  \n  \nOne Piece is an incredibly popular battle manga about pirates in a fantasy setting.
URL:https://rg-admin.net/event/one-piece-store-tournament-2/2029-09-23/
LOCATION:Recess Games
CATEGORIES:One Piece,thursday
ATTACH;FMTTYPE=image/png:https://rg-admin.net/wp-content/uploads/One-Piece-Store-Tournament-13.png
END:VEVENT
BEGIN:VEVENT
DTSTART;TZID=America/New_York:20290930T123000
DTEND;TZID=America/New_York:20290930T160000
DTSTAMP:20260425T062258
CREATED:20250528T010956Z
LAST-MODIFIED:20250528T193908Z
UID:10103757-1885465800-1885478400@rg-admin.net
SUMMARY:One Piece TCG Sunday Tournaments
DESCRIPTION:  \n  \n  \nOne Piece is an incredibly popular battle manga about pirates in a fantasy setting.
URL:https://rg-admin.net/event/one-piece-store-tournament-2/2029-09-30/
LOCATION:Recess Games
CATEGORIES:One Piece,thursday
ATTACH;FMTTYPE=image/png:https://rg-admin.net/wp-content/uploads/One-Piece-Store-Tournament-13.png
END:VEVENT
BEGIN:VEVENT
DTSTART;TZID=America/New_York:20291007T123000
DTEND;TZID=America/New_York:20291007T160000
DTSTAMP:20260425T062258
CREATED:20250528T010956Z
LAST-MODIFIED:20250528T193908Z
UID:10103758-1886070600-1886083200@rg-admin.net
SUMMARY:One Piece TCG Sunday Tournaments
DESCRIPTION:  \n  \n  \nOne Piece is an incredibly popular battle manga about pirates in a fantasy setting.
URL:https://rg-admin.net/event/one-piece-store-tournament-2/2029-10-07/
LOCATION:Recess Games
CATEGORIES:One Piece,thursday
ATTACH;FMTTYPE=image/png:https://rg-admin.net/wp-content/uploads/One-Piece-Store-Tournament-13.png
END:VEVENT
END:VCALENDAR