BEGIN:VCALENDAR
VERSION:2.0
PRODID:-// - ECPv6.15.20//NONSGML v1.0//EN
CALSCALE:GREGORIAN
METHOD:PUBLISH
X-ORIGINAL-URL:https://rg-admin.net
X-WR-CALDESC:Events for 
REFRESH-INTERVAL;VALUE=DURATION:PT1H
X-Robots-Tag:noindex
X-PUBLISHED-TTL:PT1H
BEGIN:VTIMEZONE
TZID:America/New_York
BEGIN:DAYLIGHT
TZOFFSETFROM:-0500
TZOFFSETTO:-0400
TZNAME:EDT
DTSTART:20290311T070000
END:DAYLIGHT
BEGIN:STANDARD
TZOFFSETFROM:-0400
TZOFFSETTO:-0500
TZNAME:EST
DTSTART:20291104T060000
END:STANDARD
BEGIN:DAYLIGHT
TZOFFSETFROM:-0500
TZOFFSETTO:-0400
TZNAME:EDT
DTSTART:20300310T070000
END:DAYLIGHT
BEGIN:STANDARD
TZOFFSETFROM:-0400
TZOFFSETTO:-0500
TZNAME:EST
DTSTART:20301103T060000
END:STANDARD
BEGIN:DAYLIGHT
TZOFFSETFROM:-0500
TZOFFSETTO:-0400
TZNAME:EDT
DTSTART:20310309T070000
END:DAYLIGHT
BEGIN:STANDARD
TZOFFSETFROM:-0400
TZOFFSETTO:-0500
TZNAME:EST
DTSTART:20311102T060000
END:STANDARD
END:VTIMEZONE
BEGIN:VEVENT
DTSTART;TZID=America/New_York:20300104T180000
DTEND;TZID=America/New_York:20300104T230000
DTSTAMP:20260424T195139
CREATED:20250722T053228Z
LAST-MODIFIED:20250722T053228Z
UID:10105034-1893780000-1893798000@rg-admin.net
SUMMARY:Gundam TCG Weekly Tournament
DESCRIPTION:
URL:https://rg-admin.net/event/gundam-tcg-weekly-tournament/2030-01-04/
LOCATION:Recess Games
CATEGORIES:Bandai,Gundam
ATTACH;FMTTYPE=image/png:https://rg-admin.net/wp-content/uploads/Gundam-Friday-2-1.png
END:VEVENT
BEGIN:VEVENT
DTSTART;TZID=America/New_York:20300111T180000
DTEND;TZID=America/New_York:20300111T230000
DTSTAMP:20260424T195140
CREATED:20250722T053228Z
LAST-MODIFIED:20250722T053228Z
UID:10105035-1894384800-1894402800@rg-admin.net
SUMMARY:Gundam TCG Weekly Tournament
DESCRIPTION:
URL:https://rg-admin.net/event/gundam-tcg-weekly-tournament/2030-01-11/
LOCATION:Recess Games
CATEGORIES:Bandai,Gundam
ATTACH;FMTTYPE=image/png:https://rg-admin.net/wp-content/uploads/Gundam-Friday-2-1.png
END:VEVENT
BEGIN:VEVENT
DTSTART;TZID=America/New_York:20300118T180000
DTEND;TZID=America/New_York:20300118T230000
DTSTAMP:20260424T195140
CREATED:20250722T053228Z
LAST-MODIFIED:20250722T053228Z
UID:10105036-1894989600-1895007600@rg-admin.net
SUMMARY:Gundam TCG Weekly Tournament
DESCRIPTION:
URL:https://rg-admin.net/event/gundam-tcg-weekly-tournament/2030-01-18/
LOCATION:Recess Games
CATEGORIES:Bandai,Gundam
ATTACH;FMTTYPE=image/png:https://rg-admin.net/wp-content/uploads/Gundam-Friday-2-1.png
END:VEVENT
BEGIN:VEVENT
DTSTART;TZID=America/New_York:20300125T180000
DTEND;TZID=America/New_York:20300125T230000
DTSTAMP:20260424T195140
CREATED:20250722T053228Z
LAST-MODIFIED:20250722T053228Z
UID:10105037-1895594400-1895612400@rg-admin.net
SUMMARY:Gundam TCG Weekly Tournament
DESCRIPTION:
URL:https://rg-admin.net/event/gundam-tcg-weekly-tournament/2030-01-25/
LOCATION:Recess Games
CATEGORIES:Bandai,Gundam
ATTACH;FMTTYPE=image/png:https://rg-admin.net/wp-content/uploads/Gundam-Friday-2-1.png
END:VEVENT
BEGIN:VEVENT
DTSTART;TZID=America/New_York:20300201T180000
DTEND;TZID=America/New_York:20300201T230000
DTSTAMP:20260424T195140
CREATED:20250722T053228Z
LAST-MODIFIED:20250722T053228Z
UID:10105038-1896199200-1896217200@rg-admin.net
SUMMARY:Gundam TCG Weekly Tournament
DESCRIPTION:
URL:https://rg-admin.net/event/gundam-tcg-weekly-tournament/2030-02-01/
LOCATION:Recess Games
CATEGORIES:Bandai,Gundam
ATTACH;FMTTYPE=image/png:https://rg-admin.net/wp-content/uploads/Gundam-Friday-2-1.png
END:VEVENT
BEGIN:VEVENT
DTSTART;TZID=America/New_York:20300208T180000
DTEND;TZID=America/New_York:20300208T230000
DTSTAMP:20260424T195140
CREATED:20250722T053228Z
LAST-MODIFIED:20250722T053228Z
UID:10105039-1896804000-1896822000@rg-admin.net
SUMMARY:Gundam TCG Weekly Tournament
DESCRIPTION:
URL:https://rg-admin.net/event/gundam-tcg-weekly-tournament/2030-02-08/
LOCATION:Recess Games
CATEGORIES:Bandai,Gundam
ATTACH;FMTTYPE=image/png:https://rg-admin.net/wp-content/uploads/Gundam-Friday-2-1.png
END:VEVENT
BEGIN:VEVENT
DTSTART;TZID=America/New_York:20300215T180000
DTEND;TZID=America/New_York:20300215T230000
DTSTAMP:20260424T195140
CREATED:20250722T053228Z
LAST-MODIFIED:20250722T053228Z
UID:10105040-1897408800-1897426800@rg-admin.net
SUMMARY:Gundam TCG Weekly Tournament
DESCRIPTION:
URL:https://rg-admin.net/event/gundam-tcg-weekly-tournament/2030-02-15/
LOCATION:Recess Games
CATEGORIES:Bandai,Gundam
ATTACH;FMTTYPE=image/png:https://rg-admin.net/wp-content/uploads/Gundam-Friday-2-1.png
END:VEVENT
BEGIN:VEVENT
DTSTART;TZID=America/New_York:20300222T180000
DTEND;TZID=America/New_York:20300222T230000
DTSTAMP:20260424T195140
CREATED:20250722T053228Z
LAST-MODIFIED:20250722T053228Z
UID:10105041-1898013600-1898031600@rg-admin.net
SUMMARY:Gundam TCG Weekly Tournament
DESCRIPTION:
URL:https://rg-admin.net/event/gundam-tcg-weekly-tournament/2030-02-22/
LOCATION:Recess Games
CATEGORIES:Bandai,Gundam
ATTACH;FMTTYPE=image/png:https://rg-admin.net/wp-content/uploads/Gundam-Friday-2-1.png
END:VEVENT
BEGIN:VEVENT
DTSTART;TZID=America/New_York:20300301T180000
DTEND;TZID=America/New_York:20300301T230000
DTSTAMP:20260424T195140
CREATED:20250722T053228Z
LAST-MODIFIED:20250722T053228Z
UID:10105042-1898618400-1898636400@rg-admin.net
SUMMARY:Gundam TCG Weekly Tournament
DESCRIPTION:
URL:https://rg-admin.net/event/gundam-tcg-weekly-tournament/2030-03-01/
LOCATION:Recess Games
CATEGORIES:Bandai,Gundam
ATTACH;FMTTYPE=image/png:https://rg-admin.net/wp-content/uploads/Gundam-Friday-2-1.png
END:VEVENT
BEGIN:VEVENT
DTSTART;TZID=America/New_York:20300308T180000
DTEND;TZID=America/New_York:20300308T230000
DTSTAMP:20260424T195140
CREATED:20250722T053228Z
LAST-MODIFIED:20250722T053228Z
UID:10105043-1899223200-1899241200@rg-admin.net
SUMMARY:Gundam TCG Weekly Tournament
DESCRIPTION:
URL:https://rg-admin.net/event/gundam-tcg-weekly-tournament/2030-03-08/
LOCATION:Recess Games
CATEGORIES:Bandai,Gundam
ATTACH;FMTTYPE=image/png:https://rg-admin.net/wp-content/uploads/Gundam-Friday-2-1.png
END:VEVENT
BEGIN:VEVENT
DTSTART;TZID=America/New_York:20300315T180000
DTEND;TZID=America/New_York:20300315T230000
DTSTAMP:20260424T195140
CREATED:20250722T053228Z
LAST-MODIFIED:20250722T053228Z
UID:10105044-1899828000-1899846000@rg-admin.net
SUMMARY:Gundam TCG Weekly Tournament
DESCRIPTION:
URL:https://rg-admin.net/event/gundam-tcg-weekly-tournament/2030-03-15/
LOCATION:Recess Games
CATEGORIES:Bandai,Gundam
ATTACH;FMTTYPE=image/png:https://rg-admin.net/wp-content/uploads/Gundam-Friday-2-1.png
END:VEVENT
BEGIN:VEVENT
DTSTART;TZID=America/New_York:20300322T180000
DTEND;TZID=America/New_York:20300322T230000
DTSTAMP:20260424T195140
CREATED:20250722T053228Z
LAST-MODIFIED:20250722T053228Z
UID:10105045-1900432800-1900450800@rg-admin.net
SUMMARY:Gundam TCG Weekly Tournament
DESCRIPTION:
URL:https://rg-admin.net/event/gundam-tcg-weekly-tournament/2030-03-22/
LOCATION:Recess Games
CATEGORIES:Bandai,Gundam
ATTACH;FMTTYPE=image/png:https://rg-admin.net/wp-content/uploads/Gundam-Friday-2-1.png
END:VEVENT
BEGIN:VEVENT
DTSTART;TZID=America/New_York:20300329T180000
DTEND;TZID=America/New_York:20300329T230000
DTSTAMP:20260424T195140
CREATED:20250722T053228Z
LAST-MODIFIED:20250722T053228Z
UID:10105046-1901037600-1901055600@rg-admin.net
SUMMARY:Gundam TCG Weekly Tournament
DESCRIPTION:
URL:https://rg-admin.net/event/gundam-tcg-weekly-tournament/2030-03-29/
LOCATION:Recess Games
CATEGORIES:Bandai,Gundam
ATTACH;FMTTYPE=image/png:https://rg-admin.net/wp-content/uploads/Gundam-Friday-2-1.png
END:VEVENT
BEGIN:VEVENT
DTSTART;TZID=America/New_York:20300405T180000
DTEND;TZID=America/New_York:20300405T230000
DTSTAMP:20260424T195140
CREATED:20250722T053228Z
LAST-MODIFIED:20250722T053228Z
UID:10105047-1901642400-1901660400@rg-admin.net
SUMMARY:Gundam TCG Weekly Tournament
DESCRIPTION:
URL:https://rg-admin.net/event/gundam-tcg-weekly-tournament/2030-04-05/
LOCATION:Recess Games
CATEGORIES:Bandai,Gundam
ATTACH;FMTTYPE=image/png:https://rg-admin.net/wp-content/uploads/Gundam-Friday-2-1.png
END:VEVENT
BEGIN:VEVENT
DTSTART;TZID=America/New_York:20300412T180000
DTEND;TZID=America/New_York:20300412T230000
DTSTAMP:20260424T195140
CREATED:20250722T053228Z
LAST-MODIFIED:20250722T053228Z
UID:10105048-1902247200-1902265200@rg-admin.net
SUMMARY:Gundam TCG Weekly Tournament
DESCRIPTION:
URL:https://rg-admin.net/event/gundam-tcg-weekly-tournament/2030-04-12/
LOCATION:Recess Games
CATEGORIES:Bandai,Gundam
ATTACH;FMTTYPE=image/png:https://rg-admin.net/wp-content/uploads/Gundam-Friday-2-1.png
END:VEVENT
BEGIN:VEVENT
DTSTART;TZID=America/New_York:20300419T180000
DTEND;TZID=America/New_York:20300419T230000
DTSTAMP:20260424T195141
CREATED:20250722T053228Z
LAST-MODIFIED:20250722T053228Z
UID:10105049-1902852000-1902870000@rg-admin.net
SUMMARY:Gundam TCG Weekly Tournament
DESCRIPTION:
URL:https://rg-admin.net/event/gundam-tcg-weekly-tournament/2030-04-19/
LOCATION:Recess Games
CATEGORIES:Bandai,Gundam
ATTACH;FMTTYPE=image/png:https://rg-admin.net/wp-content/uploads/Gundam-Friday-2-1.png
END:VEVENT
BEGIN:VEVENT
DTSTART;TZID=America/New_York:20300426T180000
DTEND;TZID=America/New_York:20300426T230000
DTSTAMP:20260424T195141
CREATED:20250722T053228Z
LAST-MODIFIED:20250722T053228Z
UID:10105050-1903456800-1903474800@rg-admin.net
SUMMARY:Gundam TCG Weekly Tournament
DESCRIPTION:
URL:https://rg-admin.net/event/gundam-tcg-weekly-tournament/2030-04-26/
LOCATION:Recess Games
CATEGORIES:Bandai,Gundam
ATTACH;FMTTYPE=image/png:https://rg-admin.net/wp-content/uploads/Gundam-Friday-2-1.png
END:VEVENT
BEGIN:VEVENT
DTSTART;TZID=America/New_York:20300503T180000
DTEND;TZID=America/New_York:20300503T230000
DTSTAMP:20260424T195141
CREATED:20250722T053228Z
LAST-MODIFIED:20250722T053228Z
UID:10105051-1904061600-1904079600@rg-admin.net
SUMMARY:Gundam TCG Weekly Tournament
DESCRIPTION:
URL:https://rg-admin.net/event/gundam-tcg-weekly-tournament/2030-05-03/
LOCATION:Recess Games
CATEGORIES:Bandai,Gundam
ATTACH;FMTTYPE=image/png:https://rg-admin.net/wp-content/uploads/Gundam-Friday-2-1.png
END:VEVENT
BEGIN:VEVENT
DTSTART;TZID=America/New_York:20300510T180000
DTEND;TZID=America/New_York:20300510T230000
DTSTAMP:20260424T195141
CREATED:20250722T053228Z
LAST-MODIFIED:20250722T053228Z
UID:10105052-1904666400-1904684400@rg-admin.net
SUMMARY:Gundam TCG Weekly Tournament
DESCRIPTION:
URL:https://rg-admin.net/event/gundam-tcg-weekly-tournament/2030-05-10/
LOCATION:Recess Games
CATEGORIES:Bandai,Gundam
ATTACH;FMTTYPE=image/png:https://rg-admin.net/wp-content/uploads/Gundam-Friday-2-1.png
END:VEVENT
BEGIN:VEVENT
DTSTART;TZID=America/New_York:20300517T180000
DTEND;TZID=America/New_York:20300517T230000
DTSTAMP:20260424T195141
CREATED:20250722T053228Z
LAST-MODIFIED:20250722T053228Z
UID:10105053-1905271200-1905289200@rg-admin.net
SUMMARY:Gundam TCG Weekly Tournament
DESCRIPTION:
URL:https://rg-admin.net/event/gundam-tcg-weekly-tournament/2030-05-17/
LOCATION:Recess Games
CATEGORIES:Bandai,Gundam
ATTACH;FMTTYPE=image/png:https://rg-admin.net/wp-content/uploads/Gundam-Friday-2-1.png
END:VEVENT
BEGIN:VEVENT
DTSTART;TZID=America/New_York:20300524T180000
DTEND;TZID=America/New_York:20300524T230000
DTSTAMP:20260424T195141
CREATED:20250722T053228Z
LAST-MODIFIED:20250722T053228Z
UID:10105054-1905876000-1905894000@rg-admin.net
SUMMARY:Gundam TCG Weekly Tournament
DESCRIPTION:
URL:https://rg-admin.net/event/gundam-tcg-weekly-tournament/2030-05-24/
LOCATION:Recess Games
CATEGORIES:Bandai,Gundam
ATTACH;FMTTYPE=image/png:https://rg-admin.net/wp-content/uploads/Gundam-Friday-2-1.png
END:VEVENT
BEGIN:VEVENT
DTSTART;TZID=America/New_York:20300531T180000
DTEND;TZID=America/New_York:20300531T230000
DTSTAMP:20260424T195141
CREATED:20250722T053228Z
LAST-MODIFIED:20250722T053228Z
UID:10105055-1906480800-1906498800@rg-admin.net
SUMMARY:Gundam TCG Weekly Tournament
DESCRIPTION:
URL:https://rg-admin.net/event/gundam-tcg-weekly-tournament/2030-05-31/
LOCATION:Recess Games
CATEGORIES:Bandai,Gundam
ATTACH;FMTTYPE=image/png:https://rg-admin.net/wp-content/uploads/Gundam-Friday-2-1.png
END:VEVENT
BEGIN:VEVENT
DTSTART;TZID=America/New_York:20300607T180000
DTEND;TZID=America/New_York:20300607T230000
DTSTAMP:20260424T195141
CREATED:20250722T053228Z
LAST-MODIFIED:20250722T053228Z
UID:10105056-1907085600-1907103600@rg-admin.net
SUMMARY:Gundam TCG Weekly Tournament
DESCRIPTION:
URL:https://rg-admin.net/event/gundam-tcg-weekly-tournament/2030-06-07/
LOCATION:Recess Games
CATEGORIES:Bandai,Gundam
ATTACH;FMTTYPE=image/png:https://rg-admin.net/wp-content/uploads/Gundam-Friday-2-1.png
END:VEVENT
BEGIN:VEVENT
DTSTART;TZID=America/New_York:20300614T180000
DTEND;TZID=America/New_York:20300614T230000
DTSTAMP:20260424T195141
CREATED:20250722T053228Z
LAST-MODIFIED:20250722T053228Z
UID:10105057-1907690400-1907708400@rg-admin.net
SUMMARY:Gundam TCG Weekly Tournament
DESCRIPTION:
URL:https://rg-admin.net/event/gundam-tcg-weekly-tournament/2030-06-14/
LOCATION:Recess Games
CATEGORIES:Bandai,Gundam
ATTACH;FMTTYPE=image/png:https://rg-admin.net/wp-content/uploads/Gundam-Friday-2-1.png
END:VEVENT
BEGIN:VEVENT
DTSTART;TZID=America/New_York:20300621T180000
DTEND;TZID=America/New_York:20300621T230000
DTSTAMP:20260424T195141
CREATED:20250722T053228Z
LAST-MODIFIED:20250722T053228Z
UID:10105058-1908295200-1908313200@rg-admin.net
SUMMARY:Gundam TCG Weekly Tournament
DESCRIPTION:
URL:https://rg-admin.net/event/gundam-tcg-weekly-tournament/2030-06-21/
LOCATION:Recess Games
CATEGORIES:Bandai,Gundam
ATTACH;FMTTYPE=image/png:https://rg-admin.net/wp-content/uploads/Gundam-Friday-2-1.png
END:VEVENT
BEGIN:VEVENT
DTSTART;TZID=America/New_York:20300628T180000
DTEND;TZID=America/New_York:20300628T230000
DTSTAMP:20260424T195141
CREATED:20250722T053228Z
LAST-MODIFIED:20250722T053228Z
UID:10105059-1908900000-1908918000@rg-admin.net
SUMMARY:Gundam TCG Weekly Tournament
DESCRIPTION:
URL:https://rg-admin.net/event/gundam-tcg-weekly-tournament/2030-06-28/
LOCATION:Recess Games
CATEGORIES:Bandai,Gundam
ATTACH;FMTTYPE=image/png:https://rg-admin.net/wp-content/uploads/Gundam-Friday-2-1.png
END:VEVENT
BEGIN:VEVENT
DTSTART;TZID=America/New_York:20300705T180000
DTEND;TZID=America/New_York:20300705T230000
DTSTAMP:20260424T195141
CREATED:20250722T053228Z
LAST-MODIFIED:20250722T053228Z
UID:10105060-1909504800-1909522800@rg-admin.net
SUMMARY:Gundam TCG Weekly Tournament
DESCRIPTION:
URL:https://rg-admin.net/event/gundam-tcg-weekly-tournament/2030-07-05/
LOCATION:Recess Games
CATEGORIES:Bandai,Gundam
ATTACH;FMTTYPE=image/png:https://rg-admin.net/wp-content/uploads/Gundam-Friday-2-1.png
END:VEVENT
BEGIN:VEVENT
DTSTART;TZID=America/New_York:20300712T180000
DTEND;TZID=America/New_York:20300712T230000
DTSTAMP:20260424T195141
CREATED:20250722T053228Z
LAST-MODIFIED:20250722T053228Z
UID:10105061-1910109600-1910127600@rg-admin.net
SUMMARY:Gundam TCG Weekly Tournament
DESCRIPTION:
URL:https://rg-admin.net/event/gundam-tcg-weekly-tournament/2030-07-12/
LOCATION:Recess Games
CATEGORIES:Bandai,Gundam
ATTACH;FMTTYPE=image/png:https://rg-admin.net/wp-content/uploads/Gundam-Friday-2-1.png
END:VEVENT
BEGIN:VEVENT
DTSTART;TZID=America/New_York:20300719T180000
DTEND;TZID=America/New_York:20300719T230000
DTSTAMP:20260424T195141
CREATED:20250722T053228Z
LAST-MODIFIED:20250722T053228Z
UID:10105062-1910714400-1910732400@rg-admin.net
SUMMARY:Gundam TCG Weekly Tournament
DESCRIPTION:
URL:https://rg-admin.net/event/gundam-tcg-weekly-tournament/2030-07-19/
LOCATION:Recess Games
CATEGORIES:Bandai,Gundam
ATTACH;FMTTYPE=image/png:https://rg-admin.net/wp-content/uploads/Gundam-Friday-2-1.png
END:VEVENT
BEGIN:VEVENT
DTSTART;TZID=America/New_York:20300726T180000
DTEND;TZID=America/New_York:20300726T230000
DTSTAMP:20260424T195141
CREATED:20250722T053228Z
LAST-MODIFIED:20250722T053228Z
UID:10106085-1911319200-1911337200@rg-admin.net
SUMMARY:Gundam TCG Weekly Tournament
DESCRIPTION:
URL:https://rg-admin.net/event/gundam-tcg-weekly-tournament/2030-07-26/
LOCATION:Recess Games
CATEGORIES:Bandai,Gundam
ATTACH;FMTTYPE=image/png:https://rg-admin.net/wp-content/uploads/Gundam-Friday-2-1.png
END:VEVENT
END:VCALENDAR