BEGIN:VCALENDAR
VERSION:2.0
PRODID:-// - ECPv6.15.20//NONSGML v1.0//EN
CALSCALE:GREGORIAN
METHOD:PUBLISH
X-ORIGINAL-URL:https://rg-admin.net
X-WR-CALDESC:Events for 
REFRESH-INTERVAL;VALUE=DURATION:PT1H
X-Robots-Tag:noindex
X-PUBLISHED-TTL:PT1H
BEGIN:VTIMEZONE
TZID:America/New_York
BEGIN:DAYLIGHT
TZOFFSETFROM:-0500
TZOFFSETTO:-0400
TZNAME:EDT
DTSTART:20230312T070000
END:DAYLIGHT
BEGIN:STANDARD
TZOFFSETFROM:-0400
TZOFFSETTO:-0500
TZNAME:EST
DTSTART:20231105T060000
END:STANDARD
BEGIN:DAYLIGHT
TZOFFSETFROM:-0500
TZOFFSETTO:-0400
TZNAME:EDT
DTSTART:20240310T070000
END:DAYLIGHT
BEGIN:STANDARD
TZOFFSETFROM:-0400
TZOFFSETTO:-0500
TZNAME:EST
DTSTART:20241103T060000
END:STANDARD
BEGIN:DAYLIGHT
TZOFFSETFROM:-0500
TZOFFSETTO:-0400
TZNAME:EDT
DTSTART:20250309T070000
END:DAYLIGHT
BEGIN:STANDARD
TZOFFSETFROM:-0400
TZOFFSETTO:-0500
TZNAME:EST
DTSTART:20251102T060000
END:STANDARD
END:VTIMEZONE
BEGIN:VEVENT
DTSTART;TZID=America/New_York:20241012T100000
DTEND;TZID=America/New_York:20241012T120000
DTSTAMP:20260424T094958
CREATED:20230716T150200Z
LAST-MODIFIED:20250524T202133Z
UID:10003494-1728727200-1728734400@rg-admin.net
SUMMARY:Pokemon League
DESCRIPTION:Pokemon League at Recess is scheduled most Saturdays.  \nThis is a great time to come and play Pokemon Trading Card game. This is also a great time to learn how to play. Our Pokemon Trainers will show you how to play and even help you play better if you already know how to play. \nIt is a great Family event \nFree \n 
URL:https://rg-admin.net/event/pokemon-league-2-2/2024-10-12/
CATEGORIES:pokemon,saturday
ATTACH;FMTTYPE=image/jpeg:https://rg-admin.net/wp-content/uploads/pokemon-saturday.jpeg
END:VEVENT
BEGIN:VEVENT
DTSTART;TZID=America/New_York:20241012T113000
DTEND;TZID=America/New_York:20241012T170000
DTSTAMP:20260424T094958
CREATED:20240802T205540Z
LAST-MODIFIED:20240802T205540Z
UID:10013386-1728732600-1728752400@rg-admin.net
SUMMARY:MTG SCG RCQ (2-slot) Round 7 Modern Tournament
DESCRIPTION:Come into Recess Games for the Modern Regional Championship Qualifier! \nREGISTRATION: 11:30 AM\nROUNDS START: 12:00 PM\nPLAYER LIMIT: 48 Players
URL:https://rg-admin.net/event/mtg-scg-rcq-2-slot-round-7-modern-tournament/
LOCATION:Recess Games
CATEGORIES:Magic the Gathering,saturday
ATTACH;FMTTYPE=image/png:https://rg-admin.net/wp-content/uploads/RCQ-Round-7.png
END:VEVENT
BEGIN:VEVENT
DTSTART;TZID=America/New_York:20241012T143000
DTEND;TZID=America/New_York:20241012T190000
DTSTAMP:20260424T094958
CREATED:20240802T225623Z
LAST-MODIFIED:20240819T200723Z
UID:10013396-1728743400-1728759600@rg-admin.net
SUMMARY:Disney Lorcana Shimmering Skies League
DESCRIPTION:It’s time for Shimmering Skies at Disney Lorcana League! \nROUND 1 (AUGUST 10-AUGUST 31)\nROUND 2 (SEPTEMBER 7-SEPTEMBER 28)\nROUND 3 (OCTOBER 5-OCTOBER 26)
URL:https://rg-admin.net/event/disney-lorcana-shimmering-skies-league/2024-10-12/
LOCATION:Recess Games
CATEGORIES:Disney's Lorcana
ATTACH;FMTTYPE=image/png:https://rg-admin.net/wp-content/uploads/Locana-Shimmering-Skies-2.png
END:VEVENT
END:VCALENDAR