BEGIN:VCALENDAR
VERSION:2.0
PRODID:-// - ECPv6.15.20//NONSGML v1.0//EN
CALSCALE:GREGORIAN
METHOD:PUBLISH
X-ORIGINAL-URL:https://rg-admin.net
X-WR-CALDESC:Events for 
REFRESH-INTERVAL;VALUE=DURATION:PT1H
X-Robots-Tag:noindex
X-PUBLISHED-TTL:PT1H
BEGIN:VTIMEZONE
TZID:America/New_York
BEGIN:DAYLIGHT
TZOFFSETFROM:-0500
TZOFFSETTO:-0400
TZNAME:EDT
DTSTART:20230312T070000
END:DAYLIGHT
BEGIN:STANDARD
TZOFFSETFROM:-0400
TZOFFSETTO:-0500
TZNAME:EST
DTSTART:20231105T060000
END:STANDARD
BEGIN:DAYLIGHT
TZOFFSETFROM:-0500
TZOFFSETTO:-0400
TZNAME:EDT
DTSTART:20240310T070000
END:DAYLIGHT
BEGIN:STANDARD
TZOFFSETFROM:-0400
TZOFFSETTO:-0500
TZNAME:EST
DTSTART:20241103T060000
END:STANDARD
BEGIN:DAYLIGHT
TZOFFSETFROM:-0500
TZOFFSETTO:-0400
TZNAME:EDT
DTSTART:20250309T070000
END:DAYLIGHT
BEGIN:STANDARD
TZOFFSETFROM:-0400
TZOFFSETTO:-0500
TZNAME:EST
DTSTART:20251102T060000
END:STANDARD
END:VTIMEZONE
BEGIN:VEVENT
DTSTART;TZID=America/New_York:20240831T100000
DTEND;TZID=America/New_York:20240831T160000
DTSTAMP:20260424T142623
CREATED:20240707T235454Z
LAST-MODIFIED:20240810T144353Z
UID:10013034-1725098400-1725120000@rg-admin.net
SUMMARY:Pokemon Stellar Crown Prerelease
DESCRIPTION:  \nDATE: August 31st August 24th\nREGISTRATION: 10:00 AM \nTOURNAMENT BEGINS: 11:00 AM Sharp \nWe are having back-to-back Stellar Crown tournaments\, with the first tournament starting at 11. Each tournament will have a 32-player limit. The cost will be $35 or $60 for both prereleases. Each event includes a build and battle box and one pack per round played\, with a maximum of three packs per tournament.
URL:https://rg-admin.net/event/pokemon-prerelease-3/
LOCATION:Recess Games
CATEGORIES:pokemon,prerelease
ATTACH;FMTTYPE=image/png:https://rg-admin.net/wp-content/uploads/pokemon-prerelease-august-2024-3.png
END:VEVENT
BEGIN:VEVENT
DTSTART;TZID=America/New_York:20240831T143000
DTEND;TZID=America/New_York:20240831T190000
DTSTAMP:20260424T142623
CREATED:20240802T225623Z
LAST-MODIFIED:20240819T200723Z
UID:10013390-1725114600-1725130800@rg-admin.net
SUMMARY:Disney Lorcana Shimmering Skies League
DESCRIPTION:It’s time for Shimmering Skies at Disney Lorcana League! \nROUND 1 (AUGUST 10-AUGUST 31)\nROUND 2 (SEPTEMBER 7-SEPTEMBER 28)\nROUND 3 (OCTOBER 5-OCTOBER 26)
URL:https://rg-admin.net/event/disney-lorcana-shimmering-skies-league/2024-08-31/
LOCATION:Recess Games
CATEGORIES:Disney's Lorcana
ATTACH;FMTTYPE=image/png:https://rg-admin.net/wp-content/uploads/Locana-Shimmering-Skies-2.png
END:VEVENT
END:VCALENDAR